Felt | Verdi |
AlreadyApplied | True |
Aperture | 8.0 |
ApertureValue | 8.0 |
Artist | Line Hårklau |
BitsPerSample | 8 |
BlueHue | 0 |
BlueSaturation | 0 |
By-line | Line Hårklau |
CameraProfile | Embedded |
CircleOfConfusion | 0.002 mm |
ColorComponents | 3 |
ColorNoiseReduction | 0 |
ColorSpace | sRGB |
ConvertToGrayscale | False |
Copyright | © Line Hårklau |
CopyrightFlag | True |
CopyrightNotice | © Line Hårklau |
CreateDate | 2008:07:09 11:11:28 |
Creator | Line Hårklau |
CreatorCity | Oslo |
CreatorCountry | Norway |
CreatorTool | Adobe Photoshop Lightroom 5.3 (Macintosh) |
CreatorWorkEmail | line@lilleline.com |
CreatorWorkURL | www.lilleline.com |
CropAngle | 6.02705 |
CropBottom | 0.973005 |
CropConstrainToWarp | 0 |
CropLeft | 0.123403 |
CropRight | 0.876597 |
CropTop | 0.026995 |
CustomRendered | Normal |
DateCreated (1) | 2008:07:09 |
DateCreated | 2008:07:09 11:11:28 |
DateTimeOriginal | 2008:07:09 11:11:28 |
DigitalZoomRatio | 1 |
ExposureCompensation | 0 |
ExposureMode | Auto |
ExposureTime | 1/200 |
Firmware | rmware Version 1.01 |
Flash | Auto, Did not fire |
FlashCompensation | 0 |
FNumber | 8.0 |
FocalLength | 5.8 mm |
FocalLength35efl | 5.8 mm (35 mm equivalent: 105.3 mm) |
Format | image/jpeg |
FOV | 19.4 deg |
GrainAmount | 0 |
GreenHue | 0 |
GreenSaturation | 0 |
HasCrop | True |
HasSettings | True |
HueAdjustmentAqua | 0 |
HueAdjustmentBlue | 0 |
HueAdjustmentGreen | 0 |
HueAdjustmentMagenta | 0 |
HueAdjustmentOrange | 0 |
HueAdjustmentPurple | 0 |
HueAdjustmentRed | 0 |
HueAdjustmentYellow | 0 |
HyperfocalDistance | 2.54 m |
ImageHeight | 1024 |
ImageSize | 768x1024 |
ImageWidth | 768 |
IncrementalTemperature | 0 |
IncrementalTint | 0 |
ISO | 80 |
Lens | 10.5-61.1 mm |
LensID (1) | 17400 |
LensID | Canon 10.5-61.1 mm |
LensInfo (1) | 10.5263157894737-61.0526315789474mm f/? |
LensInfo | 10.52631579-61.05263158mm f/? |
LensManualDistortionAmount | 0 |
LensModel | 10.5-61.1 mm |
LensProfileEnable | 0 |
LensProfileSetup | LensDefaults |
LightValue | 14.0 |
LuminanceAdjustmentAqua | 0 |
LuminanceAdjustmentBlue | 0 |
LuminanceAdjustmentGreen | 0 |
LuminanceAdjustmentMagenta | 0 |
LuminanceAdjustmentOrange | 0 |
LuminanceAdjustmentPurple | 0 |
LuminanceAdjustmentRed | 0 |
LuminanceAdjustmentYellow | 0 |
LuminanceSmoothing | 0 |
Make | Canon |
Marked | True |
MaxApertureValue | 2.8 |
Megapixels | 0.786 |
MeteringMode | Multi-segment |
Model | Canon DIGITAL IXUS 75 |
ModifyDate (1) | 2014:02:28 12:07:18+01:00 |
ModifyDate | 2014:02:28 12:07:18 |
ParametricDarks | 0 |
ParametricHighlights | 0 |
ParametricHighlightSplit | 75 |
ParametricLights | 0 |
ParametricMidtoneSplit | 50 |
ParametricShadows | 0 |
ParametricShadowSplit | 25 |
PerspectiveHorizontal | 0 |
PerspectiveRotate | 0.0 |
PerspectiveScale | 100 |
PerspectiveVertical | 0 |
PostCropVignetteAmount | 0 |
ProcessVersion | 6.7 |
ProfileDescription | sRGB IEC61966-2.1 |
RedHue | 0 |
RedSaturation | 0 |
Rights | © Line Hårklau |
Saturation | Normal |
SaturationAdjustmentAqua | 0 |
SaturationAdjustmentBlue | 0 |
SaturationAdjustmentGreen | 0 |
SaturationAdjustmentMagenta | 0 |
SaturationAdjustmentOrange | 0 |
SaturationAdjustmentPurple | 0 |
SaturationAdjustmentRed | 0 |
SaturationAdjustmentYellow | 0 |
ScaleFactor35efl | 18.2 |
SceneCaptureType | Standard |
SensingMethod | One-chip color area |
ShadowTint | 0 |
SharpenDetail | 25 |
SharpenEdgeMasking | 0 |
SharpenRadius | +1.0 |
Sharpness | Normal |
ShutterSpeed | 1/200 |
ShutterSpeedValue | 1/200 |
Software | Adobe Photoshop Lightroom 5.3 (Macintosh) |
SplitToningBalance | 0 |
SplitToningHighlightHue | 0 |
SplitToningHighlightSaturation | 0 |
SplitToningShadowHue | 0 |
SplitToningShadowSaturation | 0 |
URL | www.lilleline.com |
UsageTerms | All Rights Reserved |
Version | 8.3 |
Vibrance | +25 |
VignetteAmount | 0 |
WebStatement | www.lilleline.com |
WhiteBalance | Auto |