Felt | Verdi |
AlreadyApplied | True |
Aperture | 11.0 |
ApertureValue | 11.0 |
AutoLateralCA | 0 |
BitsPerSample | 8 |
Blacks2012 | 0 |
BlueHue | 0 |
BlueSaturation | 0 |
CameraProfile | Adobe Standard |
CFAPattern | [Blue,Green][Green,Red] |
CircleOfConfusion | 0.020 mm |
Clarity2012 | +30 |
ColorComponents | 3 |
ColorNoiseReduction | 25 |
ColorNoiseReductionDetail | 50 |
ColorSpace | Uncalibrated |
ColorTemperature | 4900 |
Contrast | High |
Contrast2012 | +10 |
ConvertToGrayscale | False |
CreateDate | 2013:08:03 23:10:35 |
CreatorTool | Adobe Photoshop Lightroom 4.4 (Windows) |
CropAngle | -1.67239 |
CropBottom | 0.957779 |
CropConstrainToWarp | 0 |
CropHeight | 848 |
CropLeft | 0.011849 |
CropRight | 0.988151 |
CropTop | 0.042221 |
CropUnit | pixels |
CropWidth | 1280 |
CustomRendered | Normal |
DateCreated (1) | 2013:08:03 |
DateCreated | 2013:08:03 23:10:35 |
DateTimeOriginal | 2013:08:03 23:10:35 |
DefringeGreenAmount | 0 |
DefringeGreenHueHi | 60 |
DefringeGreenHueLo | 40 |
DefringePurpleAmount | 0 |
DefringePurpleHueHi | 70 |
DefringePurpleHueLo | 30 |
ExifImageHeight | 848 |
ExifImageWidth | 1280 |
Exposure2012 | -0.71 |
ExposureCompensation | +1.7 |
ExposureMode | Manual |
ExposureProgram | Aperture-priority AE |
ExposureTime | 4 |
Flash | Off, Did not fire |
FNumber | 11.0 |
FocalLength | 20.0 mm |
FocalLength35efl | 20.0 mm (35 mm equivalent: 30.0 mm) |
FocalLengthIn35mmFormat | 30 mm |
Format | image/jpeg |
FOV | 61.9 deg |
GrainAmount | 0 |
GreenHue | 0 |
GreenSaturation | 0 |
HasCrop | True |
HasSettings | True |
Highlights2012 | -81 |
HueAdjustmentAqua | 0 |
HueAdjustmentBlue | 0 |
HueAdjustmentGreen | 0 |
HueAdjustmentMagenta | 0 |
HueAdjustmentOrange | 0 |
HueAdjustmentPurple | 0 |
HueAdjustmentRed | 0 |
HueAdjustmentYellow | 0 |
HyperfocalDistance | 1.82 m |
ImageHeight | 848 |
ImageSize | 1280x848 |
ImageWidth | 1280 |
ISO | 100 |
Lens | Sigma or Tamron Lens |
LensID (1) | 3 44 |
LensID | Sigma AF 10-20mm F4-5.6 EX DC or Sigma 12-24mm F4.5-5.6 EX DG or Sigma 17-70mm F2.8-4.5 DC Macro or Sigma 18-50mm F3.5-5.6 DC or Sigma 17-35mm F2.8-4 EX DG or Sigma AF 18-35mm F3.5-4.5 Aspherical |
LensManualDistortionAmount | 0 |
LensModel | Sigma or Tamron Lens |
LensProfileEnable | 1 |
LensProfileSetup | LensDefaults |
LightValue | 4.9 |
LuminanceAdjustmentAqua | 0 |
LuminanceAdjustmentBlue | 0 |
LuminanceAdjustmentGreen | 0 |
LuminanceAdjustmentMagenta | 0 |
LuminanceAdjustmentOrange | 0 |
LuminanceAdjustmentPurple | 0 |
LuminanceAdjustmentRed | 0 |
LuminanceAdjustmentYellow | 0 |
LuminanceSmoothing | 0 |
Make | PENTAX |
Megapixels | 1.1 |
MeteringMode | Multi-segment |
Model | PENTAX K-5 |
ModifyDate (2) | 2013:08:04 11:08:51+02:00 |
ModifyDate | 2013:08:04 11:09:23 |
Orientation | Horizontal (normal) |
ParametricDarks | 0 |
ParametricHighlights | 0 |
ParametricHighlightSplit | 75 |
ParametricLights | 0 |
ParametricMidtoneSplit | 50 |
ParametricShadows | 0 |
ParametricShadowSplit | 25 |
PerspectiveHorizontal | 0 |
PerspectiveRotate | 0.0 |
PerspectiveScale | 100 |
PerspectiveVertical | 0 |
PhotometricInterpretation | RGB |
PlanarConfiguration | Chunky |
PostCropVignetteAmount | 0 |
ProcessVersion | 6.7 |
ProfileDescription | sRGB IEC61966-2.1 |
RedHue | 0 |
RedSaturation | 0 |
Saturation (1) | +10 |
Saturation | Normal |
SaturationAdjustmentAqua | 0 |
SaturationAdjustmentBlue | 0 |
SaturationAdjustmentGreen | 0 |
SaturationAdjustmentMagenta | 0 |
SaturationAdjustmentOrange | 0 |
SaturationAdjustmentPurple | 0 |
SaturationAdjustmentRed | 0 |
SaturationAdjustmentYellow | 0 |
ScaleFactor35efl | 1.5 |
SceneCaptureType | Standard |
SensingMethod | One-chip color area |
Shadows2012 | 0 |
ShadowTint | 0 |
SharpenDetail | 25 |
SharpenEdgeMasking | 0 |
SharpenRadius | +1.0 |
Sharpness (1) | 91 |
Sharpness | Hard |
ShutterSpeed | 4 |
ShutterSpeedValue | 4 |
Software | Adobe Photoshop Lightroom 4.4 (Windows) |
SplitToningBalance | 0 |
SplitToningHighlightHue | 0 |
SplitToningHighlightSaturation | 0 |
SplitToningShadowHue | 0 |
SplitToningShadowSaturation | 0 |
SubjectDistanceRange | Distant |
Tint | -73 |
ToneCurveName2012 | Linear |
ToneCurvePV2012 | 0, 0, 255, 255 |
ToneCurvePV2012Blue | 0, 0, 255, 255 |
ToneCurvePV2012Green | 0, 0, 255, 255 |
ToneCurvePV2012Red | 0, 0, 255, 255 |
Version | 7.4 |
Vibrance | +15 |
VignetteAmount | 0 |
WhiteBalance (1) | Custom |
WhiteBalance | Auto |
Whites2012 | 0 |