Felt | Verdi |
AlreadyApplied | True |
Aperture | 8.0 |
ApertureValue | 8.0 |
ApproximateFocusDistance | 4294967295 |
Artist | STS Photography |
BitsPerSample | 8 |
BlueHue | 0 |
BlueSaturation | 0 |
Brightness | +105 |
By-line | STS Photography |
CameraProfile | Adobe Standard |
CFAPattern | [Red,Green][Green,Blue] |
ChromaticAberrationB | +1 |
ChromaticAberrationR | +6 |
CircleOfConfusion | 0.020 mm |
Clarity | +26 |
ColorComponents | 3 |
ColorMode | RGB |
ColorNoiseReduction | 25 |
ColorNoiseReductionDetail | 50 |
ColorSpace | sRGB |
ColorTemperature | 5590 |
Contrast (1) | +86 |
Contrast | Normal |
ConvertToGrayscale | False |
CreateDate (1) | 2013:08:18 22:11:58.40+02:00 |
CreateDate | 2013:08:18 22:11:58 |
Creator | STS Photography |
CreatorTool | Ver.1.02 |
CropAngle | 0 |
CropBottom | 1 |
CropConstrainToWarp | 0 |
CropLeft | 0 |
CropRight | 1 |
CropTop | 0 |
CustomRendered | Custom |
DateCreated (1) | 2013:08:18 |
DateCreated | 2013:08:18 22:11:58.004+02:00 |
DateTimeOriginal | 2013:08:18 22:11:58 |
Defringe | 0 |
DigitalZoomRatio | 1 |
DOF | inf (2.02 m - inf) |
ExifImageHeight | 4928 |
ExifImageWidth | 3264 |
Exposure | +1.43 |
ExposureCompensation | +1/3 |
ExposureMode | Manual |
ExposureProgram | Manual |
ExposureTime | 6 |
FillLight | 28 |
Flash | Off, Did not fire |
FNumber | 8.0 |
FocalLength | 18.0 mm |
FocalLength35efl | 18.0 mm (35 mm equivalent: 27.0 mm) |
FocalLengthIn35mmFormat | 27 mm |
Format | image/jpeg |
FOV | 67.4 deg |
GainControl | Low gain up |
GradientBasedCorrActive | true |
GradientBasedCorrAmount | 1.000000 |
GradientBasedCorrBrightness (6) | 0.454545 |
GradientBasedCorrBrightness | 0.000000 |
GradientBasedCorrClarity (4) | 0.000000 |
GradientBasedCorrClarity (6) | -0.655502 |
GradientBasedCorrClarity | -1.000000 |
GradientBasedCorrContrast | 0.000000 |
GradientBasedCorrExposure (1) | -0.225000 |
GradientBasedCorrExposure (2) | -0.980861 |
GradientBasedCorrExposure (3) | -0.220000 |
GradientBasedCorrExposure (4) | -0.425837 |
GradientBasedCorrExposure (5) | -0.531100 |
GradientBasedCorrExposure (6) | -0.349282 |
GradientBasedCorrExposure | -0.301435 |
GradientBasedCorrHue (1) | 27.000000 |
GradientBasedCorrHue | 0.000000 |
GradientBasedCorrMaskFullX (1) | 1.004760 |
GradientBasedCorrMaskFullX (2) | -0.005610 |
GradientBasedCorrMaskFullX (3) | -0.000647 |
GradientBasedCorrMaskFullX (4) | 0.618774 |
GradientBasedCorrMaskFullX (5) | 1.192710 |
GradientBasedCorrMaskFullX (6) | 0.010392 |
GradientBasedCorrMaskFullX | -0.044440 |
GradientBasedCorrMaskFullY (1) | 0.491005 |
GradientBasedCorrMaskFullY (2) | -0.430427 |
GradientBasedCorrMaskFullY (3) | 0.675954 |
GradientBasedCorrMaskFullY (4) | 1.008400 |
GradientBasedCorrMaskFullY (5) | 0.619938 |
GradientBasedCorrMaskFullY (6) | 1.015720 |
GradientBasedCorrMaskFullY | 1.011110 |
GradientBasedCorrMaskValue | 1.000000 |
GradientBasedCorrMaskWhat | Mask/Gradient |
GradientBasedCorrMaskZeroX (1) | 0.506349 |
GradientBasedCorrMaskZeroX (2) | 0.034213 |
GradientBasedCorrMaskZeroX (3) | 0.171376 |
GradientBasedCorrMaskZeroX (4) | 0.592854 |
GradientBasedCorrMaskZeroX (5) | 0.480080 |
GradientBasedCorrMaskZeroX (6) | 0.111199 |
GradientBasedCorrMaskZeroX | 0.608333 |
GradientBasedCorrMaskZeroY (1) | 0.488889 |
GradientBasedCorrMaskZeroY (2) | 0.483531 |
GradientBasedCorrMaskZeroY (3) | 0.679375 |
GradientBasedCorrMaskZeroY (4) | 0.785180 |
GradientBasedCorrMaskZeroY (5) | 0.574832 |
GradientBasedCorrMaskZeroY (6) | 0.942351 |
GradientBasedCorrMaskZeroY | 0.411111 |
GradientBasedCorrSaturation (11) | -0.358852 |
GradientBasedCorrSaturation (5) | -0.004785 |
GradientBasedCorrSaturation | 0.000000 |
GradientBasedCorrSharpness (6) | -0.387560 |
GradientBasedCorrSharpness | 0.000000 |
GradientBasedCorrWhat | Correction |
GrainAmount | 68 |
GrainFrequency | 50 |
GrainSize | 50 |
GreenHue | 0 |
GreenSaturation | 0 |
HasCrop | True |
HasSettings | True |
HighlightRecovery | 49 |
HueAdjustmentAqua | 0 |
HueAdjustmentBlue | 0 |
HueAdjustmentGreen | 0 |
HueAdjustmentMagenta | 0 |
HueAdjustmentOrange | 0 |
HueAdjustmentPurple | +55 |
HueAdjustmentRed | 0 |
HueAdjustmentYellow | 0 |
HyperfocalDistance | 2.02 m |
ICCProfileName | sRGB IEC61966-2.1 |
ImageHeight | 4928 |
ImageNumber | 28220 |
ImageSize | 3264x4928 |
ImageWidth | 3264 |
ISO | 500 |
Label | |
Lens | 18.0-200.0 mm f/3.5-5.6 |
LensID (1) | 139 |
LensID | AF-S DX VR Zoom-Nikkor 18-200mm f/3.5-5.6G IF-ED [II] or AF-S DX VR Zoom-Nikkor 18-200mm f/3.5-5.6G IF-ED |
LensInfo | 18-200mm f/3.5-5.6 |
LensManualDistortionAmount | 0 |
LensModel | 18.0-200.0 mm f/3.5-5.6 |
LensProfileChromaticAberrationScale | 100 |
LensProfileDistortionScale | 100 |
LensProfileEnable | 1 |
LensProfileFilename | Canon EOS-1Ds Mark III (Canon EF 85mm f1.8 USM) - RAW.lcp |
LensProfileName | Adobe (Canon EF 85mm f/1.8 USM) |
LensProfileSetup | Custom |
LensProfileVignettingScale | 0 |
LightSource | Unknown |
LightValue | 1.1 |
LuminanceAdjustmentAqua | 0 |
LuminanceAdjustmentBlue | 0 |
LuminanceAdjustmentGreen | +36 |
LuminanceAdjustmentMagenta | +55 |
LuminanceAdjustmentOrange | 0 |
LuminanceAdjustmentPurple | +50 |
LuminanceAdjustmentRed | 0 |
LuminanceAdjustmentYellow | 0 |
LuminanceSmoothing | 0 |
Make | NIKON CORPORATION |
MaxApertureValue | 3.5 |
Megapixels | 16.1 |
MeteringMode | Multi-segment |
Model | NIKON D7000 |
ModifyDate (1) | 2013:08:19 02:53:16+02:00 |
ModifyDate | 2013:08:19 02:53:16 |
Orientation | Horizontal (normal) |
ParametricDarks | +39 |
ParametricHighlights | 0 |
ParametricHighlightSplit | 75 |
ParametricLights | -51 |
ParametricMidtoneSplit | 50 |
ParametricShadows | +67 |
ParametricShadowSplit | 25 |
PerspectiveHorizontal | 0 |
PerspectiveRotate | 0.0 |
PerspectiveScale | 100 |
PerspectiveVertical | 0 |
PostCropVignetteAmount | +18 |
PostCropVignetteFeather | 50 |
PostCropVignetteMidpoint | 50 |
PostCropVignetteRoundness | 0 |
PostCropVignetteStyle | 1 |
ProcessVersion | 5.7 |
ProfileDescription | sRGB IEC61966-2.1 |
Rating | 0 |
RawFileName | _DSC7014.NEF |
RedHue | 0 |
RedSaturation | 0 |
Saturation (1) | +1 |
Saturation | Normal |
SaturationAdjustmentAqua | 0 |
SaturationAdjustmentBlue | -56 |
SaturationAdjustmentGreen | 0 |
SaturationAdjustmentMagenta | +84 |
SaturationAdjustmentOrange | 0 |
SaturationAdjustmentPurple | +63 |
SaturationAdjustmentRed | -52 |
SaturationAdjustmentYellow | 0 |
ScaleFactor35efl | 1.5 |
SceneCaptureType | Standard |
SceneType | Directly photographed |
SensingMethod | One-chip color area |
SensitivityType | Recommended Exposure Index |
SerialNumber | 6065977 |
Shadows | 16 |
ShadowTint | 0 |
SharpenDetail | 19 |
SharpenEdgeMasking | 0 |
SharpenRadius | +0.7 |
Sharpness (1) | 53 |
Sharpness | Normal |
ShutterSpeed | 6 |
ShutterSpeedValue | 6 |
Software | Adobe Photoshop CS5 Windows |
SplitToningBalance | -90 |
SplitToningHighlightHue | 0 |
SplitToningHighlightSaturation | 2 |
SplitToningShadowHue | 226 |
SplitToningShadowSaturation | 1 |
SubjectDistance | 4294967295 m |
SubjectDistanceRange | Unknown |
Tint | -15 |
ToneCurve | 0, 0, 32, 22, 64, 56, 128, 128, 192, 196, 255, 255 |
ToneCurveName | Medium Contrast |
URL_List | |
Version | 6.4.1 |
Vibrance | +57 |
VignetteAmount | -63 |
VignetteMidpoint | 0 |
WhiteBalance (1) | Custom |
WhiteBalance | Auto |