Felt | Verdi |
AlreadyApplied | True |
Aperture | 8.0 |
ApertureValue | 8.0 |
ApproximateFocusDistance | 4294967295 |
BitsPerSample | 8 |
BlueHue | 0 |
BlueSaturation | +63 |
Brightness | +57 |
CameraProfile | Adobe Standard |
CFAPattern | [Red,Green][Green,Blue] |
ChromaticAberrationB | 0 |
ChromaticAberrationR | 0 |
CircleOfConfusion | 0.020 mm |
Clarity | 0 |
ColorComponents | 3 |
ColorNoiseReduction | 25 |
ColorNoiseReductionDetail | 50 |
ColorTemperature | 10307 |
Contrast (1) | 0 |
Contrast | Normal |
ConvertToGrayscale | True |
CreateDate (1) | 2013:07:21 22:43:30.90 |
CreateDate | 2013:07:21 22:43:30 |
CreatorTool | Adobe Photoshop Lightroom 3.6 (Windows) |
CropAngle | -2.66199 |
CropBottom | 0.913522 |
CropConstrainToWarp | 0 |
CropHeight | 627 |
CropLeft | 0.161135 |
CropRight | 0.928914 |
CropTop | 0.053264 |
CropUnit | pixels |
CropWidth | 765 |
CustomRendered | Normal |
DateCreated (1) | 2013:07:21 |
DateCreated | 2013:07:21 22:43:30.90 |
DateTimeOriginal | 2013:07:21 22:43:30 |
Defringe | 0 |
DigitalZoomRatio | 1 |
DOF | inf (3.59 m - inf) |
Exposure | +0.70 |
ExposureCompensation | -1/3 |
ExposureMode | Manual |
ExposureProgram | Manual |
ExposureTime | 8 |
FillLight | 0 |
Flash | No Flash |
FNumber | 8.0 |
FocalLength | 24.0 mm |
FocalLength35efl | 24.0 mm (35 mm equivalent: 36.0 mm) |
FocalLengthIn35mmFormat | 36 mm |
Format | image/jpeg |
FOV | 53.1 deg |
GainControl | Low gain up |
GradientBasedCorrActive | true |
GradientBasedCorrAmount | 1.000000 |
GradientBasedCorrBrightness | 0.000000 |
GradientBasedCorrClarity | 0.000000 |
GradientBasedCorrContrast | 0.000000 |
GradientBasedCorrExposure | -0.292750 |
GradientBasedCorrHue | 233.000000 |
GradientBasedCorrMaskFullX | 0.386800 |
GradientBasedCorrMaskFullY | 0.532552 |
GradientBasedCorrMaskValue | 1.000000 |
GradientBasedCorrMaskWhat | Mask/Gradient |
GradientBasedCorrMaskZeroX | 0.524345 |
GradientBasedCorrMaskZeroY | 0.522924 |
GradientBasedCorrSaturation | 0.000000 |
GradientBasedCorrSharpness | 0.000000 |
GradientBasedCorrWhat | Correction |
GrainAmount | 0 |
GrayMixerAqua | -13 |
GrayMixerBlue | -14 |
GrayMixerGreen | -33 |
GrayMixerMagenta | +11 |
GrayMixerOrange | +50 |
GrayMixerPurple | +34 |
GrayMixerRed | -32 |
GrayMixerYellow | +98 |
GreenHue | 0 |
GreenSaturation | 0 |
HasCrop | True |
HasSettings | True |
HighlightRecovery | 0 |
HyperfocalDistance | 3.59 m |
ImageHeight | 765 |
ImageNumber | 30201 |
ImageSize | 627x765 |
ImageWidth | 627 |
ISO | 800 |
Lens | 18.0-200.0 mm f/3.5-5.6 |
LensID (1) | 139 |
LensID | AF-S DX VR Zoom-Nikkor 18-200mm f/3.5-5.6G IF-ED or AF-S DX VR Zoom-Nikkor 18-200mm f/3.5-5.6G IF-ED [II] |
LensInfo | 18-200mm f/3.5-5.6 |
LensManualDistortionAmount | 0 |
LensModel | 18.0-200.0 mm f/3.5-5.6 |
LensProfileEnable | 0 |
LensProfileSetup | LensDefaults |
LightSource | Unknown |
LightValue | 0.0 |
LuminanceSmoothing | 0 |
Make | NIKON CORPORATION |
MaxApertureValue | 3.7 |
Megapixels | 0.480 |
MeteringMode | Multi-segment |
Model | NIKON D300S |
ModifyDate (1) | 2013:07:22 21:31:05+02:00 |
ModifyDate | 2013:07:22 21:31:05 |
ParametricDarks | +12 |
ParametricHighlights | 0 |
ParametricHighlightSplit | 75 |
ParametricLights | +24 |
ParametricMidtoneSplit | 50 |
ParametricShadows | +20 |
ParametricShadowSplit | 25 |
PerspectiveHorizontal | 0 |
PerspectiveRotate | 0.0 |
PerspectiveScale | 100 |
PerspectiveVertical | 0 |
PostCropVignetteAmount | -24 |
PostCropVignetteFeather | 50 |
PostCropVignetteHighlightContrast | 0 |
PostCropVignetteMidpoint | 33 |
PostCropVignetteRoundness | -38 |
PostCropVignetteStyle | 1 |
ProcessVersion | 5.7 |
ProfileDescription | sRGB IEC61966-2.1 |
RedHue | 0 |
RedSaturation | -34 |
Saturation | Normal |
ScaleFactor35efl | 1.5 |
SceneCaptureType | Standard |
SceneType | Directly photographed |
SensingMethod | One-chip color area |
SerialNumber | 6005334 |
Shadows | 8 |
ShadowTint | 0 |
SharpenDetail | 25 |
SharpenEdgeMasking | 0 |
SharpenRadius | +1.0 |
Sharpness (1) | 25 |
Sharpness | Normal |
ShutterSpeed | 8 |
ShutterSpeedValue | 8 |
Software | Adobe Photoshop Lightroom 3.6 (Windows) |
SplitToningBalance | +63 |
SplitToningHighlightHue | 50 |
SplitToningHighlightSaturation | 66 |
SplitToningShadowHue | 30 |
SplitToningShadowSaturation | 28 |
SubjectDistance | 4294967295 m |
SubjectDistanceRange | Unknown |
Tint | +63 |
ToneCurve | 0, 0, 255, 255 |
ToneCurveName | Linear |
Version | 6.6 |
VignetteAmount | -41 |
VignetteMidpoint | 48 |
WhiteBalance (1) | Custom |
WhiteBalance | Auto |