Felt | Verdi |
AlreadyApplied | True |
Aperture | 8.0 |
ApertureValue | 8.0 |
ApproximateFocusDistance | 4294967295 |
Artist | Zoltan Tot |
AutoLateralCA | 0 |
BitsPerSample (1) | 8 8 8 |
BitsPerSample | 8 |
Blacks2012 | +2 |
BlueHue | 0 |
BlueSaturation | 0 |
By-line | Zoltan Tot |
CameraProfile | Adobe Standard |
CFAPattern | [Red,Green][Green,Blue] |
CircleOfConfusion | 0.030 mm |
Clarity2012 | +30 |
ColorComponents | 3 |
ColorMode | RGB |
ColorNoiseReduction | 25 |
ColorNoiseReductionDetail | 82 |
ColorSpace | Uncalibrated |
ColorTemperature | 5350 |
Contrast | Normal |
Contrast2012 | +38 |
ConvertToGrayscale | False |
Copyright | Zoltan ToT |
CopyrightNotice | Zoltan ToT |
CreateDate | 2013:05:28 20:10:49 |
Creator | Zoltan Tot |
CreatorTool | Adobe Photoshop CS6 (Macintosh) |
CropAngle | -1.374442 |
CropBottom | 0.942016 |
CropConstrainToWarp | 1 |
CropLeft | 0.001061 |
CropRight | 0.949693 |
CropTop | 0.099837 |
CustomRendered | Normal |
DateCreated (1) | 2013:05:28 |
DateCreated | 2013:05:28 20:10:49.008 |
DateTimeOriginal | 2013:05:28 20:10:49 |
DefringeGreenAmount | 0 |
DefringeGreenHueHi | 60 |
DefringeGreenHueLo | 40 |
DefringePurpleAmount | 0 |
DefringePurpleHueHi | 70 |
DefringePurpleHueLo | 30 |
DigitalZoomRatio | 1 |
DOF | inf (8.42 m - inf) |
ExifImageHeight | 1055 |
ExifImageWidth | 1687 |
Exposure2012 | +0.15 |
ExposureCompensation | 0 |
ExposureMode | Auto |
ExposureProgram | Aperture-priority AE |
ExposureTime | 1/640 |
Flash | Off, Did not fire |
FNumber | 8.0 |
FocalLength | 45.0 mm |
FocalLength35efl | 45.0 mm (35 mm equivalent: 45.0 mm) |
FocalLengthIn35mmFormat | 45 mm |
Format | image/jpeg |
FOV | 43.6 deg |
GainControl | None |
GradientBasedCorrActive | true |
GradientBasedCorrAmount | 1.000000 |
GradientBasedCorrBrightness | 0.000000 |
GradientBasedCorrClarity | 0.000000 |
GradientBasedCorrClarity2012 (1) | 0.500000 |
GradientBasedCorrClarity2012 (2) | 0.720000 |
GradientBasedCorrClarity2012 | 0.140000 |
GradientBasedCorrContrast | 0.000000 |
GradientBasedCorrContrast2012 (1) | 0.610000 |
GradientBasedCorrContrast2012 (2) | 0.620000 |
GradientBasedCorrContrast2012 | 0.160000 |
GradientBasedCorrDefringe (2) | -0.520000 |
GradientBasedCorrDefringe | 0.000000 |
GradientBasedCorrExposure | 0.000000 |
GradientBasedCorrExposure2012 (1) | 0.075000 |
GradientBasedCorrExposure2012 (2) | 0.300000 |
GradientBasedCorrExposure2012 | 0.337500 |
GradientBasedCorrHighlights2012 (1) | -0.600000 |
GradientBasedCorrHighlights2012 (2) | 0.260000 |
GradientBasedCorrHighlights2012 | -0.210000 |
GradientBasedCorrHue (1) | 211.000000 |
GradientBasedCorrHue (2) | 345.000000 |
GradientBasedCorrHue | 309.000000 |
GradientBasedCorrLuminanceNoise (1) | 0.630000 |
GradientBasedCorrLuminanceNoise | 0.000000 |
GradientBasedCorrMaskFullX (1) | 0.429303 |
GradientBasedCorrMaskFullX (2) | 0.469621 |
GradientBasedCorrMaskFullX | 0.956334 |
GradientBasedCorrMaskFullY (1) | 0.237992 |
GradientBasedCorrMaskFullY (2) | 0.934121 |
GradientBasedCorrMaskFullY | 0.363330 |
GradientBasedCorrMaskValue | 1.000000 |
GradientBasedCorrMaskWhat | Mask/Gradient |
GradientBasedCorrMaskZeroX (1) | 0.446658 |
GradientBasedCorrMaskZeroX (2) | 0.498897 |
GradientBasedCorrMaskZeroX | 0.429753 |
GradientBasedCorrMaskZeroY (1) | 1.156000 |
GradientBasedCorrMaskZeroY (2) | 0.389037 |
GradientBasedCorrMaskZeroY | 0.486827 |
GradientBasedCorrMoire | 0.000000 |
GradientBasedCorrSaturation (1) | 0.820000 |
GradientBasedCorrSaturation (2) | 0.220000 |
GradientBasedCorrSaturation (3) | 0.270000 |
GradientBasedCorrSaturation (5) | 0.080000 |
GradientBasedCorrSaturation | 0.000000 |
GradientBasedCorrShadows2012 (1) | 0.890000 |
GradientBasedCorrShadows2012 (2) | 0.550000 |
GradientBasedCorrShadows2012 | 0.320000 |
GradientBasedCorrSharpness (1) | 0.410000 |
GradientBasedCorrSharpness (2) | 0.480000 |
GradientBasedCorrSharpness | 0.150000 |
GradientBasedCorrTemperature (1) | -0.130000 |
GradientBasedCorrTemperature (2) | -0.270000 |
GradientBasedCorrTemperature | 0.170000 |
GradientBasedCorrTint (2) | -0.190000 |
GradientBasedCorrTint | 0.000000 |
GradientBasedCorrWhat | Correction |
GrainAmount | 0 |
GreenHue | 0 |
GreenSaturation | 0 |
HasCrop | True |
HasSettings | True |
Highlights2012 | -100 |
HueAdjustmentAqua | 0 |
HueAdjustmentBlue | 0 |
HueAdjustmentGreen | 0 |
HueAdjustmentMagenta | 0 |
HueAdjustmentOrange | 0 |
HueAdjustmentPurple | 0 |
HueAdjustmentRed | 0 |
HueAdjustmentYellow | 0 |
HyperfocalDistance | 8.42 m |
ICCProfileName | Adobe RGB (1998) |
ImageHeight (1) | 3518 |
ImageHeight | 1055 |
ImageNumber | 1987 |
ImageSize | 1687x1055 |
ImageWidth (1) | 5625 |
ImageWidth | 1687 |
ISO | 100 |
Lens | 24.0-85.0 mm f/3.5-4.5 |
LensID (1) | 180 |
LensID | AF-S Zoom-Nikkor 24-85mm f/3.5-4.5G IF-ED VR |
LensInfo | 24-85mm f/3.5-4.5 |
LensManualDistortionAmount | 0 |
LensModel | 24.0-85.0 mm f/3.5-4.5 |
LensProfileEnable | 0 |
LensProfileSetup | LensDefaults |
LightSource | Fine Weather |
LightValue | 15.3 |
LuminanceAdjustmentAqua | +8 |
LuminanceAdjustmentBlue | +34 |
LuminanceAdjustmentGreen | 0 |
LuminanceAdjustmentMagenta | 0 |
LuminanceAdjustmentOrange | -3 |
LuminanceAdjustmentPurple | 0 |
LuminanceAdjustmentRed | 0 |
LuminanceAdjustmentYellow | -10 |
LuminanceNoiseReductionContrast | 3 |
LuminanceNoiseReductionDetail | 10 |
LuminanceSmoothing | 30 |
Make | NIKON CORPORATION |
MaxApertureValue | 4.1 |
Megapixels | 1.8 |
MeteringMode | Multi-segment |
Model | NIKON D600 |
ModifyDate (1) | 2013:07:02 19:59:31+02:00 |
ModifyDate | 2013:07:02 19:59:31 |
Orientation | Horizontal (normal) |
PaintCorrectionActive | true |
PaintCorrectionAmount | 1.000000 |
PaintCorrectionBrightness | 0.000000 |
PaintCorrectionClarity | 0.000000 |
PaintCorrectionClarity2012 (1) | 0.640000 |
PaintCorrectionClarity2012 | 0.500000 |
PaintCorrectionContrast | 0.000000 |
PaintCorrectionContrast2012 (1) | 0.260000 |
PaintCorrectionContrast2012 | 0.610000 |
PaintCorrectionDefringe (1) | 0.000000 |
PaintCorrectionDefringe | -0.520000 |
PaintCorrectionExposure | 0.000000 |
PaintCorrectionExposure2012 (1) | 0.100000 |
PaintCorrectionExposure2012 | 0.037500 |
PaintCorrectionHighlights2012 (1) | -0.530000 |
PaintCorrectionHighlights2012 | -0.600000 |
PaintCorrectionHue (1) | 257.000000 |
PaintCorrectionHue | 211.000000 |
PaintCorrectionLuminanceNoise (1) | 0.000000 |
PaintCorrectionLuminanceNoise | 0.630000 |
PaintCorrectionMaskCenterWeight (5) | 0.131575 |
PaintCorrectionMaskCenterWeight (8) | 0.761607 |
PaintCorrectionMaskCenterWeight | 0.105656 |
PaintCorrectionMaskFlow (11) | 0.441718 |
PaintCorrectionMaskFlow | 0.969697 |
PaintCorrectionMaskRadius (19) | 0.049302 |
PaintCorrectionMaskRadius (2) | 0.048098 |
PaintCorrectionMaskRadius (9) | 0.012196 |
PaintCorrectionMaskRadius | 0.052731 |
PaintCorrectionMaskValue (16) | 0.000000 |
PaintCorrectionMaskValue | 1.000000 |
PaintCorrectionMaskWhat | Mask/Paint |
PaintCorrectionMoire | 0.000000 |
PaintCorrectionSaturation (1) | 0.250000 |
PaintCorrectionSaturation (2) | 0.000000 |
PaintCorrectionSaturation (3) | -0.470000 |
PaintCorrectionSaturation | 0.220000 |
PaintCorrectionShadows2012 (1) | 0.010000 |
PaintCorrectionShadows2012 | 0.890000 |
PaintCorrectionSharpness (1) | 0.590000 |
PaintCorrectionSharpness | 0.410000 |
PaintCorrectionTemperature (1) | -0.130000 |
PaintCorrectionTemperature | 0.250000 |
PaintCorrectionTint (1) | 0.000000 |
PaintCorrectionTint | 0.050000 |
PaintCorrectionWhat | Correction |
ParametricDarks | 0 |
ParametricHighlights | 0 |
ParametricHighlightSplit | 75 |
ParametricLights | 0 |
ParametricMidtoneSplit | 50 |
ParametricShadows | 0 |
ParametricShadowSplit | 25 |
PerspectiveHorizontal | 0 |
PerspectiveRotate | 0.0 |
PerspectiveScale | 100 |
PerspectiveVertical | 0 |
PhotometricInterpretation | RGB |
PostCropVignetteAmount | 0 |
ProcessVersion | 6.7 |
ProfileDescription | Adobe RGB (1998) |
Rating | 0 |
RawFileName | _BDS1817.NEF |
RedHue | 0 |
RedSaturation | 0 |
Rights | Zoltan ToT |
Saturation (1) | 0 |
Saturation | Normal |
SaturationAdjustmentAqua | -7 |
SaturationAdjustmentBlue | -32 |
SaturationAdjustmentGreen | 0 |
SaturationAdjustmentMagenta | 0 |
SaturationAdjustmentOrange | 0 |
SaturationAdjustmentPurple | 0 |
SaturationAdjustmentRed | 0 |
SaturationAdjustmentYellow | 0 |
ScaleFactor35efl | 1.0 |
SceneCaptureType | Standard |
SceneType | Directly photographed |
SensingMethod | One-chip color area |
SensitivityType | Recommended Exposure Index |
SerialNumber | 6015639 |
Shadows2012 | +63 |
ShadowTint | 0 |
SharpenDetail | 14 |
SharpenEdgeMasking | 62 |
SharpenRadius | +1.0 |
Sharpness (1) | 66 |
Sharpness | Normal |
ShutterSpeed | 1/640 |
ShutterSpeedValue | 1/640 |
Software | Adobe Photoshop CS6 (Macintosh) |
SplitToningBalance | 0 |
SplitToningHighlightHue | 0 |
SplitToningHighlightSaturation | 0 |
SplitToningShadowHue | 0 |
SplitToningShadowSaturation | 0 |
SubjectDistanceRange | Unknown |
Tint | +4 |
ToneCurveName2012 | Linear |
ToneCurvePV2012 | 0, 0, 255, 255 |
ToneCurvePV2012Blue | 0, 0, 255, 255 |
ToneCurvePV2012Green | 0, 0, 255, 255 |
ToneCurvePV2012Red | 0, 0, 255, 255 |
URL_List | |
Version | 7.4 |
Vibrance | +31 |
VignetteAmount | 0 |
WhiteBalance (1) | Custom |
WhiteBalance | Manual |
Whites2012 | +31 |