Felt | Verdi |
AlreadyApplied | True |
Artist | Hilde Tollisen |
AuthorsPosition | Adjunkt |
BitsPerSample | 8 |
BlueHue | 0 |
BlueSaturation | 0 |
Brightness | 0 |
By-line | Hilde Tollisen |
By-lineTitle | Adjunkt |
CameraProfile | Embedded |
ChromaticAberrationB | 0 |
ChromaticAberrationR | 0 |
Clarity | +81 |
ColorComponents | 3 |
ColorNoiseReduction | 0 |
Contrast | 0 |
ConvertToGrayscale | False |
Copyright | ©Hilde Tollisen |
CopyrightFlag | True |
CopyrightNotice | ©Hilde Tollisen |
CreateDate (1) | 2011:11:20 13:01:18.10Z |
CreateDate | 2011:11:20 13:01:18 |
Creator | Hilde Tollisen |
CreatorAddress | Havik |
CreatorCity | Farsund |
CreatorCountry | Norway |
CreatorPostalCode | 4550 |
CreatorRegion | Vest-Agder |
CreatorTool | Adobe Photoshop Lightroom 3.6 (Windows) |
CreatorWorkEmail | htollise@online.no |
CreatorWorkTelephone | +4793615565 |
CropAngle | 0.7 |
CropBottom | 1 |
CropConstrainToWarp | 0 |
CropHeight | 2368 |
CropLeft | 0.0146 |
CropRight | 0.9854 |
CropTop | 0 |
CropUnit | pixels |
CropWidth | 4565 |
DateCreated (1) | 2011:11:20 |
DateCreated | 2011:11:20 13:01:18.10Z |
DateTimeOriginal | 2011:11:20 13:01:18 |
Defringe | 0 |
Exposure | 0.00 |
FillLight | 0 |
Format | image/jpeg |
GrainAmount | 0 |
GreenHue | 0 |
GreenSaturation | 0 |
HasCrop | True |
HasSettings | True |
HighlightRecovery | 0 |
HueAdjustmentAqua | 0 |
HueAdjustmentBlue | 0 |
HueAdjustmentGreen | 0 |
HueAdjustmentMagenta | 0 |
HueAdjustmentOrange | 0 |
HueAdjustmentPurple | 0 |
HueAdjustmentRed | 0 |
HueAdjustmentYellow | 0 |
ImageHeight | 2368 |
ImageSize | 4565x2368 |
ImageWidth | 4565 |
IncrementalTemperature | 0 |
IncrementalTint | 0 |
LensManualDistortionAmount | 0 |
LensProfileEnable | 0 |
LensProfileSetup | LensDefaults |
LuminanceAdjustmentAqua | 0 |
LuminanceAdjustmentBlue | 0 |
LuminanceAdjustmentGreen | 0 |
LuminanceAdjustmentMagenta | 0 |
LuminanceAdjustmentOrange | 0 |
LuminanceAdjustmentPurple | 0 |
LuminanceAdjustmentRed | 0 |
LuminanceAdjustmentYellow | 0 |
LuminanceSmoothing | 0 |
Make | NIKON CORPORATION |
Marked | True |
Megapixels | 10.8 |
Model | NIKON D3100 |
ModifyDate (1) | 2013:04:21 09:40:21+02:00 |
ModifyDate | 2013:04:21 09:40:21 |
ParametricDarks | 0 |
ParametricHighlights | 0 |
ParametricHighlightSplit | 75 |
ParametricLights | 0 |
ParametricMidtoneSplit | 50 |
ParametricShadows | 0 |
ParametricShadowSplit | 25 |
PerspectiveHorizontal | 0 |
PerspectiveRotate | 0.0 |
PerspectiveScale | 100 |
PerspectiveVertical | 0 |
PostCropVignetteAmount | 0 |
ProcessVersion | 5.7 |
ProfileDescription | sRGB IEC61966-2.1 |
RedHue | 0 |
RedSaturation | 0 |
Rights | ©Hilde Tollisen |
Saturation | 0 |
SaturationAdjustmentAqua | 0 |
SaturationAdjustmentBlue | 0 |
SaturationAdjustmentGreen | 0 |
SaturationAdjustmentMagenta | 0 |
SaturationAdjustmentOrange | 0 |
SaturationAdjustmentPurple | 0 |
SaturationAdjustmentRed | 0 |
SaturationAdjustmentYellow | 0 |
Shadows | 0 |
ShadowTint | 0 |
SharpenDetail | 25 |
SharpenEdgeMasking | 0 |
SharpenRadius | +1.0 |
Sharpness | 0 |
Software | Adobe Photoshop Lightroom 3.6 (Windows) |
SplitToningBalance | 0 |
SplitToningHighlightHue | 0 |
SplitToningHighlightSaturation | 0 |
SplitToningShadowHue | 0 |
SplitToningShadowSaturation | 0 |
ToneCurve | 0, 0, 255, 255 |
ToneCurveName | Linear |
UsageTerms | ©Hilde Tollisen |
Version | 6.6 |
Vibrance | +15 |
VignetteAmount | 0 |
WhiteBalance | As Shot |