Felt | Verdi |
AlreadyApplied | True |
Aperture | 7.1 |
ApertureValue | 7.1 |
ApproximateFocusDistance | 2.72 |
Artist | Karel Krizak |
AutoLateralCA | 0 |
BitsPerSample | 8 |
Blacks2012 | 0 |
BlueHue | 0 |
BlueSaturation | 0 |
By-line | Karel Krizak |
CameraProfile | Embedded |
CircleOfConfusion | 0.019 mm |
Clarity2012 | 0 |
ColorComponents | 1 |
ColorNoiseReduction | 42 |
ColorNoiseReductionDetail | 50 |
Contrast2012 | 0 |
ConvertToGrayscale | True |
Copyright | Karel Krizak |
CopyrightFlag | True |
CopyrightNotice | Karel Krizak |
CreateDate (1) | 2011:06:29 10:16:14.40+02:00 |
CreateDate | 2011:06:29 10:16:14 |
Creator | Karel Krizak |
CreatorAddress | Kløvervegen 56 |
CreatorCity | Verdal |
CreatorCountry | Norway |
CreatorPostalCode | 7650 |
CreatorTool | Adobe Photoshop Lightroom 4.3 (Windows) |
CreatorWorkEmail | karel@krizak.com |
CropAngle | 11.5249 |
CropBottom | 0.938625 |
CropConstrainToWarp | 0 |
CropHeight | 853 |
CropLeft | 0.145697 |
CropRight | 0.695441 |
CropTop | 0.107798 |
CropUnit | pixels |
CropWidth | 1280 |
CustomRendered | Normal |
DateCreated (1) | 2011:06:29 |
DateCreated | 2011:06:29 10:16:14.40+02:00 |
DateTimeOriginal | 2011:06:29 10:16:14 |
DerivedFrom | |
DOF | 3.24 m (1.85 - 5.10 m) |
Exposure2012 | 0.00 |
ExposureCompensation | 0 |
ExposureMode | Auto |
ExposureProgram | Aperture-priority AE |
ExposureTime | 1/40 |
Firmware | 1.2.5 |
Flash | Off, Did not fire |
FlashCompensation | 0 |
FNumber | 7.1 |
FocalLength | 28.0 mm |
FocalLength35efl | 28.0 mm (35 mm equivalent: 44.0 mm) |
Format | image/jpeg |
FOV | 44.5 deg |
GrainAmount | 0 |
GrayMixerAqua | -19 |
GrayMixerBlue | +11 |
GrayMixerGreen | -27 |
GrayMixerMagenta | +7 |
GrayMixerOrange | -19 |
GrayMixerPurple | +18 |
GrayMixerRed | -29 |
GrayMixerYellow | +10 |
GreenHue | 0 |
GreenSaturation | 0 |
HasCrop | True |
HasSettings | True |
Highlights2012 | 0 |
HyperfocalDistance | 5.77 m |
ImageHeight | 853 |
ImageNumber | 0 |
ImageSize | 1280x853 |
ImageWidth | 1280 |
IncrementalTemperature | +6 |
IncrementalTint | -1 |
ISO | 100 |
Keywords | Italia, Toscana |
Lens | EF24-105mm f/4L IS USM |
LensID (1) | 237 |
LensID | Canon EF 24-105mm f/4L IS USM |
LensInfo | 24-105mm f/? |
LensManualDistortionAmount | 0 |
LensModel | EF24-105mm f/4L IS USM |
LensProfileEnable | 0 |
LensProfileSetup | LensDefaults |
LightValue | 11.0 |
LuminanceNoiseReductionContrast | 0 |
LuminanceNoiseReductionDetail | 50 |
LuminanceSmoothing | 25 |
Make | Canon |
Marked | True |
MaxApertureValue | 4.0 |
Megapixels | 1.1 |
MeteringMode | Multi-segment |
Model | Canon EOS 7D |
ModifyDate (1) | 2013:02:05 23:44:52+01:00 |
ModifyDate | 2013:02:05 23:44:52 |
ParametricDarks | -100 |
ParametricHighlights | 0 |
ParametricHighlightSplit | 75 |
ParametricLights | +8 |
ParametricMidtoneSplit | 50 |
ParametricShadows | +40 |
ParametricShadowSplit | 25 |
PerspectiveHorizontal | 0 |
PerspectiveRotate | 0.0 |
PerspectiveScale | 100 |
PerspectiveVertical | 0 |
PostCropVignetteAmount | 0 |
ProcessVersion | 6.7 |
ProfileDescription | sRGB IEC61966-2.1 |
RedHue | 0 |
RedSaturation | 0 |
Rights | Karel Krizak |
ScaleFactor35efl | 1.6 |
SceneCaptureType | Standard |
SerialNumber | 1080700577 |
Shadows2012 | +67 |
ShadowTint | 0 |
SharpenDetail | 25 |
SharpenEdgeMasking | 0 |
SharpenRadius | +1.0 |
Sharpness | 18 |
ShutterSpeed | 1/40 |
ShutterSpeedValue | 1/40 |
Software | Adobe Photoshop Lightroom 4.3 (Windows) |
SplitToningBalance | 0 |
SplitToningHighlightHue | 215 |
SplitToningHighlightSaturation | 0 |
SplitToningShadowHue | 216 |
SplitToningShadowSaturation | 0 |
Subject | Italia, Toscana |
SubjectDistance | 2.72 m |
ToneCurveName2012 | Linear |
ToneCurvePV2012 | 0, 0, 255, 255 |
ToneCurvePV2012Blue | 0, 0, 255, 255 |
ToneCurvePV2012Green | 0, 0, 255, 255 |
ToneCurvePV2012Red | 0, 0, 255, 255 |
Version | 7.3 |
VignetteAmount | -100 |
VignetteMidpoint | 6 |
WhiteBalance | Auto |
Whites2012 | 0 |