Felt | Verdi |
AlreadyApplied | True |
Aperture | 3.5 |
ApertureValue | 3.5 |
ApproximateFocusDistance | 4294967295 |
Artist | Zoltan Tot |
AutoLateralCA | 0 |
BitsPerSample | 8 |
Blacks2012 | -52 |
BlueHue | 0 |
BlueSaturation | 0 |
By-line | Zoltan Tot |
CameraProfile | Adobe Standard |
CFAPattern | [Red,Green][Green,Blue] |
CircleOfConfusion | 0.030 mm |
Clarity2012 | +20 |
ColorComponents | 3 |
ColorMode | RGB |
ColorNoiseReduction | 25 |
ColorNoiseReductionDetail | 50 |
ColorSpace | Uncalibrated |
ColorTemperature | 5750 |
Contrast | Normal |
Contrast2012 | +38 |
ConvertToGrayscale | False |
Copyright | Zoltan ToT |
CopyrightNotice | Zoltan ToT |
CreateDate | 2012:12:23 15:55:41 |
Creator | Zoltan Tot |
CreatorTool | Adobe Photoshop CS6 (Macintosh) |
CropAngle | 0.587185 |
CropBottom | 0.965285 |
CropConstrainToWarp | 1 |
CropLeft | 0.008241 |
CropRight | 0.888313 |
CropTop | 0.061116 |
CustomRendered | Normal |
DateCreated (1) | 2012:12:23 |
DateCreated | 2012:12:23 15:55:41.003 |
DateTimeOriginal | 2012:12:23 15:55:41 |
DefringeGreenAmount | 0 |
DefringeGreenHueHi | 60 |
DefringeGreenHueLo | 40 |
DefringePurpleAmount | 0 |
DefringePurpleHueHi | 70 |
DefringePurpleHueLo | 30 |
DigitalZoomRatio | 1 |
DOF | inf (5.48 m - inf) |
ExifImageHeight | 1073 |
ExifImageWidth | 1599 |
Exposure2012 | -0.20 |
ExposureCompensation | 0 |
ExposureMode | Auto |
ExposureProgram | Aperture-priority AE |
ExposureTime | 0.6 |
Flash | Off, Did not fire |
FNumber | 3.5 |
FocalLength | 24.0 mm |
FocalLength35efl | 24.0 mm (35 mm equivalent: 24.0 mm) |
FocalLengthIn35mmFormat | 24 mm |
Format | image/jpeg |
FOV | 73.7 deg |
GainControl | High gain up |
GradientBasedCorrActive | true |
GradientBasedCorrAmount | 1.000000 |
GradientBasedCorrBrightness | 0.000000 |
GradientBasedCorrClarity | 0.000000 |
GradientBasedCorrClarity2012 (1) | 0.400000 |
GradientBasedCorrClarity2012 | 0.000000 |
GradientBasedCorrContrast | 0.000000 |
GradientBasedCorrContrast2012 | 0.500000 |
GradientBasedCorrDefringe | 0.000000 |
GradientBasedCorrExposure | 0.000000 |
GradientBasedCorrExposure2012 (1) | -0.312500 |
GradientBasedCorrExposure2012 | -0.225000 |
GradientBasedCorrHighlights2012 (1) | -0.890000 |
GradientBasedCorrHighlights2012 | 0.000000 |
GradientBasedCorrHue (1) | 230.000000 |
GradientBasedCorrHue | 0.000000 |
GradientBasedCorrLuminanceNoise | 0.000000 |
GradientBasedCorrMaskFullX (1) | 0.479349 |
GradientBasedCorrMaskFullX | 0.489888 |
GradientBasedCorrMaskFullY (1) | 0.445195 |
GradientBasedCorrMaskFullY | 0.986308 |
GradientBasedCorrMaskValue | 1.000000 |
GradientBasedCorrMaskWhat | Mask/Gradient |
GradientBasedCorrMaskZeroX (1) | 0.475078 |
GradientBasedCorrMaskZeroX | 0.498952 |
GradientBasedCorrMaskZeroY (1) | 0.839230 |
GradientBasedCorrMaskZeroY | 0.383194 |
GradientBasedCorrMoire | 0.000000 |
GradientBasedCorrSaturation (1) | 0.860000 |
GradientBasedCorrSaturation | 1.000000 |
GradientBasedCorrShadows2012 (1) | -0.680000 |
GradientBasedCorrShadows2012 | 0.000000 |
GradientBasedCorrSharpness (1) | 0.410000 |
GradientBasedCorrSharpness | 0.000000 |
GradientBasedCorrTemperature (1) | -0.980000 |
GradientBasedCorrTemperature | -0.610000 |
GradientBasedCorrTint (1) | -0.690000 |
GradientBasedCorrTint | 0.070000 |
GradientBasedCorrWhat | Correction |
GrainAmount | 0 |
GreenHue | 0 |
GreenSaturation | 0 |
HasCrop | True |
HasSettings | True |
Highlights2012 | -100 |
HueAdjustmentAqua | 0 |
HueAdjustmentBlue | +96 |
HueAdjustmentGreen | 0 |
HueAdjustmentMagenta | 0 |
HueAdjustmentOrange | -4 |
HueAdjustmentPurple | 0 |
HueAdjustmentRed | -36 |
HueAdjustmentYellow | -3 |
HyperfocalDistance | 5.48 m |
ICCProfileName | Adobe RGB (1998) |
ImageHeight | 1073 |
ImageNumber | 227 |
ImageSize | 1599x1073 |
ImageWidth | 1599 |
ISO | 1000 |
Lens | 24.0-85.0 mm f/3.5-4.5 |
LensID (1) | 180 |
LensID | AF-S Zoom-Nikkor 24-85mm f/3.5-4.5G IF-ED VR |
LensInfo | 24-85mm f/3.5-4.5 |
LensManualDistortionAmount | 0 |
LensModel | 24.0-85.0 mm f/3.5-4.5 |
LensProfileEnable | 0 |
LensProfileSetup | LensDefaults |
LightSource | Cloudy |
LightValue | 1.0 |
LuminanceAdjustmentAqua | -65 |
LuminanceAdjustmentBlue | -90 |
LuminanceAdjustmentGreen | -63 |
LuminanceAdjustmentMagenta | 0 |
LuminanceAdjustmentOrange | -17 |
LuminanceAdjustmentPurple | -49 |
LuminanceAdjustmentRed | -50 |
LuminanceAdjustmentYellow | -93 |
LuminanceNoiseReductionContrast | 0 |
LuminanceNoiseReductionDetail | 6 |
LuminanceSmoothing | 7 |
Make | NIKON CORPORATION |
MaxApertureValue | 3.5 |
Megapixels | 1.7 |
MeteringMode | Multi-segment |
Model | NIKON D600 |
ModifyDate (1) | 2012:12:24 01:38:53+01:00 |
ModifyDate | 2012:12:24 01:38:53 |
Orientation | Horizontal (normal) |
PaintCorrectionActive | true |
PaintCorrectionAmount | 1.000000 |
PaintCorrectionBrightness | 0.000000 |
PaintCorrectionClarity | 0.000000 |
PaintCorrectionClarity2012 (1) | 0.550000 |
PaintCorrectionClarity2012 | -0.020000 |
PaintCorrectionContrast | 0.000000 |
PaintCorrectionContrast2012 | -0.200000 |
PaintCorrectionDefringe | 0.000000 |
PaintCorrectionExposure | 0.000000 |
PaintCorrectionExposure2012 (1) | 0.312500 |
PaintCorrectionExposure2012 | -0.025000 |
PaintCorrectionHighlights2012 | 0.670000 |
PaintCorrectionHue | 333.000000 |
PaintCorrectionLuminanceNoise | 0.170000 |
PaintCorrectionMaskCenterWeight (12) | 0.068529 |
PaintCorrectionMaskCenterWeight (14) | 0.240684 |
PaintCorrectionMaskCenterWeight | 0.075854 |
PaintCorrectionMaskFlow (9) | 0.888889 |
PaintCorrectionMaskFlow | 0.975037 |
PaintCorrectionMaskRadius (14) | 0.043138 |
PaintCorrectionMaskRadius (3) | 0.131750 |
PaintCorrectionMaskRadius (9) | 0.253263 |
PaintCorrectionMaskRadius | 0.044270 |
PaintCorrectionMaskValue (8) | 0.000000 |
PaintCorrectionMaskValue | 1.000000 |
PaintCorrectionMaskWhat | Mask/Paint |
PaintCorrectionMoire | 0.000000 |
PaintCorrectionSaturation (1) | 0.520000 |
PaintCorrectionSaturation | 0.000000 |
PaintCorrectionShadows2012 | 0.500000 |
PaintCorrectionSharpness | 0.160000 |
PaintCorrectionTemperature | 0.000000 |
PaintCorrectionTint (1) | -0.950000 |
PaintCorrectionTint | 0.000000 |
PaintCorrectionWhat | Correction |
ParametricDarks | 0 |
ParametricHighlights | 0 |
ParametricHighlightSplit | 75 |
ParametricLights | 0 |
ParametricMidtoneSplit | 50 |
ParametricShadows | 0 |
ParametricShadowSplit | 25 |
PerspectiveHorizontal | 0 |
PerspectiveRotate | 0.0 |
PerspectiveScale | 100 |
PerspectiveVertical | 0 |
PostCropVignetteAmount | 0 |
ProcessVersion | 6.7 |
ProfileDescription | Adobe RGB (1998) |
Rating | 0 |
RawFileName | _BDS0197.NEF |
RedHue | 0 |
RedSaturation | 0 |
Rights | Zoltan ToT |
Saturation (1) | 0 |
Saturation | Normal |
SaturationAdjustmentAqua | 0 |
SaturationAdjustmentBlue | 0 |
SaturationAdjustmentGreen | -83 |
SaturationAdjustmentMagenta | 0 |
SaturationAdjustmentOrange | +49 |
SaturationAdjustmentPurple | 0 |
SaturationAdjustmentRed | +36 |
SaturationAdjustmentYellow | +100 |
ScaleFactor35efl | 1.0 |
SceneCaptureType | Standard |
SceneType | Directly photographed |
SensingMethod | One-chip color area |
SensitivityType | Recommended Exposure Index |
SerialNumber | 6015639 |
Shadows2012 | +6 |
ShadowTint | 0 |
SharpenDetail | 25 |
SharpenEdgeMasking | 13 |
SharpenRadius | +1.0 |
Sharpness (1) | 9 |
Sharpness | Normal |
ShutterSpeed | 0.6 |
ShutterSpeedValue | 0.6 |
Software | Adobe Photoshop CS6 (Macintosh) |
SplitToningBalance | 0 |
SplitToningHighlightHue | 0 |
SplitToningHighlightSaturation | 0 |
SplitToningShadowHue | 0 |
SplitToningShadowSaturation | 0 |
SubjectDistanceRange | Unknown |
Tint | 0 |
ToneCurveName2012 | Linear |
ToneCurvePV2012 | 0, 0, 255, 255 |
ToneCurvePV2012Blue | 0, 0, 255, 255 |
ToneCurvePV2012Green | 0, 0, 255, 255 |
ToneCurvePV2012Red | 0, 0, 255, 255 |
URL_List | |
Version | 7.3 |
Vibrance | +73 |
VignetteAmount | 0 |
WhiteBalance (1) | Custom |
WhiteBalance | Manual |
Whites2012 | -15 |