Felt | Verdi |
AlreadyApplied | True |
Aperture | 14.0 |
ApertureValue | 14.0 |
ApproximateFocusDistance | 2.43 |
AutoLateralCA | 0 |
BitsPerSample (1) | 8 8 8 |
BitsPerSample | 8 |
Blacks2012 | -13 |
BlueHue | 0 |
BlueSaturation | 0 |
Brightness | 0 |
CameraProfile | Embedded |
CircleOfConfusion | 0.019 mm |
Clarity | 0 |
Clarity2012 | +16 |
ColorComponents | 3 |
ColorMode | RGB |
ColorNoiseReduction | 43 |
ColorNoiseReductionDetail | 89 |
ColorSpace | Uncalibrated |
Contrast | 0 |
Contrast2012 | +28 |
ConvertToGrayscale | False |
CreateDate | 2012:10:04 18:04:37 |
CreatorTool | Adobe Photoshop CS6 (Macintosh) |
CustomRendered | Normal |
DateCreated (1) | 2012:10:04 |
DateCreated | 2012:10:04 18:04:37.094 |
DateTimeOriginal | 2012:10:04 18:04:37 |
Defringe | 0 |
DOF | inf (0.81 m - inf) |
ExifImageHeight | 3486 |
ExifImageWidth | 7078 |
Exposure | 0.00 |
Exposure2012 | +0.20 |
ExposureCompensation | 0 |
ExposureMode | Manual |
ExposureProgram | Manual |
ExposureTime | 1/160 |
FillLight | 0 |
Firmware | 1.0.9 |
Flash | Off, Did not fire |
FlashCompensation | 0 |
FNumber | 14.0 |
FocalLength | 18.0 mm |
FocalLength35efl | 18.0 mm (35 mm equivalent: 28.3 mm) |
Format | image/jpeg |
FOV | 64.9 deg |
GrainAmount | 0 |
GreenHue | 0 |
GreenSaturation | 0 |
HasCrop | False |
HasSettings | True |
HighlightRecovery | 0 |
Highlights2012 | -41 |
HueAdjustmentAqua | 0 |
HueAdjustmentBlue | 0 |
HueAdjustmentGreen | 0 |
HueAdjustmentMagenta | 0 |
HueAdjustmentOrange | 0 |
HueAdjustmentPurple | 0 |
HueAdjustmentRed | 0 |
HueAdjustmentYellow | 0 |
HyperfocalDistance | 1.21 m |
ICCProfileName | Adobe RGB (1998) |
ImageHeight (1) | 3392 |
ImageHeight | 3486 |
ImageNumber | 0 |
ImageSize | 7078x3486 |
ImageWidth (1) | 6983 |
ImageWidth | 7078 |
IncrementalTemperature | -3 |
IncrementalTint | -2 |
ISO | 320 |
Lens | EF-S18-200mm f/3.5-5.6 IS |
LensID (1) | 50 |
LensID | Canon EF-S 18-200mm f/3.5-5.6 IS |
LensInfo | 18-200mm f/? |
LensManualDistortionAmount | +3 |
LensModel | EF-S18-200mm f/3.5-5.6 IS |
LensProfileEnable | 0 |
LensProfileSetup | LensDefaults |
LensSerialNumber | 000045fc15 |
LightValue | 13.3 |
LuminanceAdjustmentAqua | 0 |
LuminanceAdjustmentBlue | 0 |
LuminanceAdjustmentGreen | 0 |
LuminanceAdjustmentMagenta | 0 |
LuminanceAdjustmentOrange | 0 |
LuminanceAdjustmentPurple | 0 |
LuminanceAdjustmentRed | 0 |
LuminanceAdjustmentYellow | 0 |
LuminanceNoiseReductionContrast | 4 |
LuminanceNoiseReductionDetail | 34 |
LuminanceSmoothing | 25 |
Make | Canon |
MaxApertureValue | 3.5 |
Megapixels | 24.7 |
MeteringMode | Multi-segment |
Model | Canon EOS 60D |
ModifyDate (1) | 2012:10:05 10:52:08+02:00 |
ModifyDate | 2012:10:05 10:52:08 |
Orientation | Horizontal (normal) |
PaintCorrectionActive | true |
PaintCorrectionAmount | 1.000000 |
PaintCorrectionBrightness | 0.000000 |
PaintCorrectionClarity | 0.000000 |
PaintCorrectionClarity2012 | 0.650000 |
PaintCorrectionContrast | 0.000000 |
PaintCorrectionContrast2012 | -0.360000 |
PaintCorrectionExposure | 0.000000 |
PaintCorrectionExposure2012 | 0.137500 |
PaintCorrectionHighlights2012 | -0.140000 |
PaintCorrectionHue | 0.000000 |
PaintCorrectionLuminanceNoise | -0.260000 |
PaintCorrectionMaskCenterWeight | 0.000000 |
PaintCorrectionMaskFlow | 0.811594 |
PaintCorrectionMaskRadius | 0.053675 |
PaintCorrectionMaskValue | 0.590000 |
PaintCorrectionMaskWhat | Mask/Paint |
PaintCorrectionMoire | 0.000000 |
PaintCorrectionSaturation (1) | 0.070000 |
PaintCorrectionSaturation | 0.000000 |
PaintCorrectionShadows2012 | 0.390000 |
PaintCorrectionSharpness | 0.130000 |
PaintCorrectionTemperature | 0.260000 |
PaintCorrectionTint | 0.000000 |
PaintCorrectionWhat | Correction |
ParametricDarks | 0 |
ParametricHighlights | 0 |
ParametricHighlightSplit | 75 |
ParametricLights | 0 |
ParametricMidtoneSplit | 50 |
ParametricShadows | 0 |
ParametricShadowSplit | 25 |
PerspectiveHorizontal | 0 |
PerspectiveRotate | -1.1 |
PerspectiveScale | 100 |
PerspectiveVertical | 0 |
PhotometricInterpretation | RGB |
PostCropVignetteAmount | -3 |
PostCropVignetteFeather | 50 |
PostCropVignetteHighlightContrast | 0 |
PostCropVignetteMidpoint | 50 |
PostCropVignetteRoundness | 0 |
PostCropVignetteStyle | 1 |
ProcessVersion | 6.7 |
ProfileDescription | Adobe RGB (1998) |
Rating | 0 |
RawFileName | Untitled1.jpg |
RecommendedExposureIndex | 320 |
RedHue | 0 |
RedSaturation | 0 |
Saturation | -8 |
SaturationAdjustmentAqua | 0 |
SaturationAdjustmentBlue | 0 |
SaturationAdjustmentGreen | 0 |
SaturationAdjustmentMagenta | 0 |
SaturationAdjustmentOrange | 0 |
SaturationAdjustmentPurple | 0 |
SaturationAdjustmentRed | 0 |
SaturationAdjustmentYellow | 0 |
ScaleFactor35efl | 1.6 |
SceneCaptureType | Standard |
SensitivityType | Recommended Exposure Index |
SerialNumber | 0880536980 |
Shadows | 0 |
Shadows2012 | -15 |
ShadowTint | 0 |
SharpenDetail | 25 |
SharpenEdgeMasking | 0 |
SharpenRadius | +1.0 |
Sharpness | 0 |
ShutterSpeed | 1/160 |
ShutterSpeedValue | 1/160 |
Software | Adobe Photoshop CS6 (Macintosh) |
SplitToningBalance | 0 |
SplitToningHighlightHue | 0 |
SplitToningHighlightSaturation | 0 |
SplitToningShadowHue | 0 |
SplitToningShadowSaturation | 0 |
ToneCurve | 0, 0, 255, 255 |
ToneCurveBlue | 0, 0, 255, 255 |
ToneCurveGreen | 0, 0, 255, 255 |
ToneCurveName | Linear |
ToneCurveName2012 | Custom |
ToneCurvePV2012 | 0, 0, 66, 63, 125, 116, 165, 158, 198, 197, 255, 255 |
ToneCurvePV2012Blue | 0, 0, 64, 66, 124, 139, 175, 203, 255, 255 |
ToneCurvePV2012Green | 0, 0, 67, 66, 129, 128, 170, 173, 255, 255 |
ToneCurvePV2012Red | 0, 0, 71, 75, 137, 132, 191, 187, 255, 255 |
ToneCurveRed | 0, 0, 255, 255 |
Transformation | Perspective |
URL_List | |
Version | 7.0 |
Vibrance | +27 |
VignetteAmount | -18 |
VignetteMidpoint | 10 |
VirtualFocalLength | 0.523444 |
VirtualImageXCenter | 0.333847 |
VirtualImageYCenter | 0.292886 |
WhiteBalance (1) | Custom |
WhiteBalance | Auto |
Whites2012 | +20 |