Felt | Verdi |
AlreadyApplied | True |
Aperture | 22.0 |
ApertureValue | 22.0 |
Artist | unknown |
AutoLateralCA | 0 |
BitsPerSample | 8 |
Blacks2012 | -23 |
BlueHue | 0 |
BlueSaturation | 0 |
By-line | unknown |
CameraProfile | Adobe Standard |
CircleOfConfusion | 0.019 mm |
Clarity2012 | +68 |
ColorComponents | 3 |
ColorMode | RGB |
ColorNoiseReduction | 25 |
ColorNoiseReductionDetail | 50 |
ColorSpace | Uncalibrated |
ColorTemperature | 6550 |
Contrast2012 | +13 |
ConvertToGrayscale | False |
CreateDate | 2012:08:15 18:33:18 |
Creator | unknown |
CropAngle | 0 |
CropBottom | 0.927577 |
CropConstrainToWarp | 1 |
CropLeft | 0 |
CropRight | 1 |
CropTop | 0.107242 |
CustomRendered | Normal |
DateCreated (1) | 2012:08:15 |
DateCreated | 2012:08:15 18:33:18 |
DateTimeOriginal | 2012:08:15 18:33:18 |
DefringeGreenAmount | 0 |
DefringeGreenHueHi | 60 |
DefringeGreenHueLo | 40 |
DefringePurpleAmount | 0 |
DefringePurpleHueHi | 70 |
DefringePurpleHueLo | 30 |
ExifImageHeight | 2126 |
ExifImageWidth | 3888 |
Exposure2012 | +0.05 |
ExposureCompensation | 0 |
ExposureMode | Auto |
ExposureProgram | Aperture-priority AE |
ExposureTime | 1/15 |
Firmware | 1.1.1 |
Flash | Off, Did not fire |
FlashCompensation | 0 |
FNumber | 22.0 |
FocalLength | 18.0 mm |
FocalLength35efl | 18.0 mm (35 mm equivalent: 29.1 mm) |
Format | image/jpeg |
FOV | 63.4 deg |
GradientBasedCorrActive | true |
GradientBasedCorrAmount | 1.000000 |
GradientBasedCorrBrightness | 0.000000 |
GradientBasedCorrClarity | 0.000000 |
GradientBasedCorrClarity2012 | -0.630000 |
GradientBasedCorrContrast | 0.000000 |
GradientBasedCorrContrast2012 | 0.680000 |
GradientBasedCorrDefringe | -0.340000 |
GradientBasedCorrExposure | 0.000000 |
GradientBasedCorrExposure2012 (1) | -0.100000 |
GradientBasedCorrExposure2012 | -0.025000 |
GradientBasedCorrHighlights2012 | -0.070000 |
GradientBasedCorrHue | 312.000000 |
GradientBasedCorrLuminanceNoise | 0.360000 |
GradientBasedCorrMaskFullX (1) | 0.463324 |
GradientBasedCorrMaskFullX | 0.474466 |
GradientBasedCorrMaskFullY (1) | 0.080791 |
GradientBasedCorrMaskFullY | 0.972031 |
GradientBasedCorrMaskValue | 1.000000 |
GradientBasedCorrMaskWhat | Mask/Gradient |
GradientBasedCorrMaskZeroX (1) | 0.462396 |
GradientBasedCorrMaskZeroX | 0.475395 |
GradientBasedCorrMaskZeroY (1) | 0.423364 |
GradientBasedCorrMaskZeroY | 0.689342 |
GradientBasedCorrMoire | 0.470000 |
GradientBasedCorrSaturation (1) | 0.240000 |
GradientBasedCorrSaturation (3) | -0.120000 |
GradientBasedCorrSaturation | 0.000000 |
GradientBasedCorrShadows2012 | -1.000000 |
GradientBasedCorrSharpness | 0.870000 |
GradientBasedCorrTemperature | -0.260000 |
GradientBasedCorrTint | 0.000000 |
GradientBasedCorrWhat | Correction |
GrainAmount | 0 |
GreenHue | 0 |
GreenSaturation | 0 |
HasCrop | True |
HasSettings | True |
Highlights2012 | -83 |
HueAdjustmentAqua | 0 |
HueAdjustmentBlue | 0 |
HueAdjustmentGreen | 0 |
HueAdjustmentMagenta | 0 |
HueAdjustmentOrange | 0 |
HueAdjustmentPurple | 0 |
HueAdjustmentRed | 0 |
HueAdjustmentYellow | 0 |
HyperfocalDistance | 0.79 m |
ICCProfileName | Adobe RGB (1998) |
ImageHeight | 2126 |
ImageNumber | 96 |
ImageSize | 3888x2126 |
ImageWidth | 3888 |
ISO | 100 |
Lens | 18.0-50.0 mm |
LensID (1) | 6 |
LensID | Sigma 18-50mm f/3.5-5.6 DC |
LensInfo | 18-50mm f/? |
LensManualDistortionAmount | 0 |
LensModel | 18.0-50.0 mm |
LensProfileEnable | 0 |
LensProfileSetup | LensDefaults |
LightValue | 12.8 |
LuminanceAdjustmentAqua | 0 |
LuminanceAdjustmentBlue | 0 |
LuminanceAdjustmentGreen | 0 |
LuminanceAdjustmentMagenta | 0 |
LuminanceAdjustmentOrange | 0 |
LuminanceAdjustmentPurple | 0 |
LuminanceAdjustmentRed | 0 |
LuminanceAdjustmentYellow | 0 |
LuminanceSmoothing | 0 |
Make | Canon |
MaxApertureValue | 3.5 |
Megapixels | 8.3 |
MeteringMode | Multi-segment |
Model | Canon EOS 400D DIGITAL |
ModifyDate (1) | 2012:08:18 21:32:13+02:00 |
ModifyDate | 2012:08:18 21:32:13 |
Orientation | Horizontal (normal) |
OwnerName | unknown |
ParametricDarks | 0 |
ParametricHighlights | 0 |
ParametricHighlightSplit | 75 |
ParametricLights | 0 |
ParametricMidtoneSplit | 50 |
ParametricShadows | 0 |
ParametricShadowSplit | 25 |
PerspectiveHorizontal | 0 |
PerspectiveRotate | 0.0 |
PerspectiveScale | 100 |
PerspectiveVertical | 0 |
PostCropVignetteAmount | 0 |
ProcessVersion | 6.7 |
ProfileDescription | Adobe RGB (1998) |
Rating | 0 |
RawFileName | IMG_5334.CR2 |
RedHue | 0 |
RedSaturation | 0 |
Saturation | +39 |
SaturationAdjustmentAqua | 0 |
SaturationAdjustmentBlue | 0 |
SaturationAdjustmentGreen | 0 |
SaturationAdjustmentMagenta | 0 |
SaturationAdjustmentOrange | 0 |
SaturationAdjustmentPurple | 0 |
SaturationAdjustmentRed | 0 |
SaturationAdjustmentYellow | 0 |
ScaleFactor35efl | 1.6 |
SceneCaptureType | Standard |
SerialNumber | 1781109714 |
Shadows2012 | -4 |
ShadowTint | 0 |
SharpenDetail | 25 |
SharpenEdgeMasking | 68 |
SharpenRadius | +1.0 |
Sharpness | 25 |
ShutterSpeed | 1/15 |
ShutterSpeedValue | 1/15 |
Software | Adobe Photoshop CS6 (Macintosh) |
SplitToningBalance | 0 |
SplitToningHighlightHue | 0 |
SplitToningHighlightSaturation | 0 |
SplitToningShadowHue | 0 |
SplitToningShadowSaturation | 0 |
Tint | +9 |
ToneCurveName2012 | Linear |
ToneCurvePV2012 | 0, 0, 255, 255 |
ToneCurvePV2012Blue | 0, 0, 255, 255 |
ToneCurvePV2012Green | 0, 0, 255, 255 |
ToneCurvePV2012Red | 0, 0, 255, 255 |
URL_List | |
Version | 7.1 |
Vibrance | +15 |
VignetteAmount | 0 |
WhiteBalance (1) | Custom |
WhiteBalance | Manual |
Whites2012 | +19 |