Felt | Verdi |
AlreadyApplied | True |
Aperture | 4.5 |
ApertureValue | 4.5 |
AutoLateralCA | 0 |
BitsPerSample | 8 |
Blacks2012 | -27 |
BlueHue | 0 |
BlueSaturation | 0 |
Brightness | +50 |
CameraProfile | Adobe Standard |
Caption-Abstract | OLYMPUS DIGITAL CAMERA |
CFAPattern | [Red,Green][Green,Blue] |
CircleOfConfusion | 0.015 mm |
Clarity | 0 |
Clarity2012 | +24 |
ColorComponents | 1 |
ColorNoiseReduction | 25 |
ColorNoiseReductionDetail | 50 |
ColorTemperature | 4708 |
Contrast (1) | +25 |
Contrast | High |
Contrast2012 | 0 |
ConvertToGrayscale | True |
CreateDate | 2012:06:30 22:21:43 |
CreatorTool | Adobe Photoshop Lightroom 4.0 (Windows) |
CropAngle | 0 |
CropBottom | 1 |
CropConstrainToWarp | 0 |
CropHeight | 2432 |
CropLeft | 0 |
CropRight | 1 |
CropTop | 0.111112 |
CropUnit | pixels |
CropWidth | 3648 |
CustomRendered | Custom |
DateCreated (1) | 2012:06:30 |
DateCreated | 2012:06:30 22:21:43 |
DateTimeOriginal | 2012:06:30 22:21:43 |
Defringe | 0 |
Description | OLYMPUS DIGITAL CAMERA |
DigitalZoomRatio | 1 |
Exposure | 0.00 |
Exposure2012 | 0.00 |
ExposureCompensation | +0.7 |
ExposureMode | Manual |
ExposureProgram | Aperture-priority AE |
ExposureTime | 1/125 |
FillLight | 0 |
Flash | Auto, Did not fire |
FlashCompensation | 0 |
FNumber | 4.5 |
FocalLength | 114.0 mm |
FocalLength35efl | 114.0 mm (35 mm equivalent: 228.0 mm) |
FocalLengthIn35mmFormat | 228 mm |
Format | image/jpeg |
FOV | 9.0 deg |
GainControl | High gain up |
GrainAmount | 0 |
GrayMixerAqua | +38 |
GrayMixerBlue | 0 |
GrayMixerGreen | +30 |
GrayMixerMagenta | 0 |
GrayMixerOrange | +38 |
GrayMixerPurple | 0 |
GrayMixerRed | +25 |
GrayMixerYellow | +40 |
GreenHue | 0 |
GreenSaturation | 0 |
HasCrop | True |
HasSettings | True |
HighlightRecovery | 0 |
Highlights2012 | -90 |
HyperfocalDistance | 192.24 m |
ImageDescription | OLYMPUS DIGITAL CAMERA |
ImageHeight | 2432 |
ImageSize | 3648x2432 |
ImageWidth | 3648 |
ISO | 800 |
Lens | 70.0-300.0 mm f/4.0-5.6 |
LensInfo | 70-300mm f/4-5.6 |
LensManualDistortionAmount | 0 |
LensModel | 70.0-300.0 mm f/4.0-5.6 |
LensProfileEnable | 0 |
LensProfileSetup | LensDefaults |
LensSerialNumber | 256029324 |
LightSource | Unknown |
LightValue | 8.3 |
LuminanceNoiseReductionContrast | 0 |
LuminanceNoiseReductionDetail | 50 |
LuminanceSmoothing | 55 |
Make | OLYMPUS IMAGING CORP. |
MaxApertureValue | 4.0 |
Megapixels | 8.9 |
MeteringMode | Multi-segment |
Model | E-3 |
ModifyDate (1) | 2012:07:01 12:40:07+02:00 |
ModifyDate | 2012:07:01 12:40:07 |
PaintCorrectionActive | true |
PaintCorrectionAmount | 1.000000 |
PaintCorrectionBrightness | 0.000000 |
PaintCorrectionClarity2012 | 0.000000 |
PaintCorrectionContrast2012 | -0.035290 |
PaintCorrectionExposure2012 | 0.364750 |
PaintCorrectionHighlights2012 | -0.129410 |
PaintCorrectionHue | 0.000000 |
PaintCorrectionLuminanceNoise | 0.000000 |
PaintCorrectionMaskCenterWeight | 0.000000 |
PaintCorrectionMaskFlow | 0.613000 |
PaintCorrectionMaskRadius | 0.106406 |
PaintCorrectionMaskValue | 0.701000 |
PaintCorrectionMaskWhat | Mask/Paint |
PaintCorrectionMoire | 0.000000 |
PaintCorrectionSaturation | 0.000000 |
PaintCorrectionShadows2012 | 0.000000 |
PaintCorrectionSharpness | -0.058820 |
PaintCorrectionTemperature | 0.000000 |
PaintCorrectionTint | 0.000000 |
PaintCorrectionWhat | Correction |
ParametricDarks | 0 |
ParametricHighlights | 0 |
ParametricHighlightSplit | 75 |
ParametricLights | 0 |
ParametricMidtoneSplit | 50 |
ParametricShadows | 0 |
ParametricShadowSplit | 25 |
PerspectiveHorizontal | 0 |
PerspectiveRotate | 0.0 |
PerspectiveScale | 100 |
PerspectiveVertical | 0 |
PostCropVignetteAmount | 0 |
ProcessVersion | 6.7 |
ProfileDescription | sRGB IEC61966-2.1 |
RedHue | 0 |
RedSaturation | 0 |
Saturation | High |
ScaleFactor35efl | 2.0 |
SceneCaptureType | Standard |
SerialNumber | D70518049 |
Shadows | 5 |
Shadows2012 | +27 |
ShadowTint | 0 |
SharpenDetail | 25 |
SharpenEdgeMasking | 0 |
SharpenRadius | +1.0 |
Sharpness (1) | 25 |
Sharpness | Hard |
ShutterSpeed | 1/125 |
ShutterSpeedValue | 1/125 |
Software | Adobe Photoshop Lightroom 4.0 (Windows) |
SplitToningBalance | 0 |
SplitToningHighlightHue | 0 |
SplitToningHighlightSaturation | 0 |
SplitToningShadowHue | 0 |
SplitToningShadowSaturation | 0 |
Tint | -28 |
ToneCurve | 0, 0, 255, 255 |
ToneCurveBlue | 0, 0, 255, 255 |
ToneCurveGreen | 0, 0, 255, 255 |
ToneCurveName | Linear |
ToneCurveName2012 | Linear |
ToneCurvePV2012 | 0, 0, 255, 255 |
ToneCurvePV2012Blue | 0, 0, 255, 255 |
ToneCurvePV2012Green | 0, 0, 255, 255 |
ToneCurvePV2012Red | 0, 0, 255, 255 |
ToneCurveRed | 0, 0, 255, 255 |
Version | 7.0 |
VignetteAmount | 0 |
WhiteBalance (1) | Custom |
WhiteBalance | Manual |
Whites2012 | 0 |