Felt | Verdi |
AlreadyApplied | True |
Aperture | 8.0 |
ApertureValue | 8.0 |
AutoLateralCA | 0 |
BitsPerSample | 8 |
Blacks2012 | 0 |
BlueHue | 0 |
CameraProfile | Camera Landscape |
Clarity | +40 |
Clarity2012 | 0 |
ColorComponents | 3 |
ColorMode | RGB |
ColorNoiseReduction | 40 |
ColorNoiseReductionDetail | 50 |
ColorSpace (1) | sRGB |
ColorSpace | Uncalibrated |
ColorTemperature | 5750 |
Contrast | +25 |
Contrast2012 | 0 |
CreateDate (1) | 2012:05:25 13:22:03.75+02:00 |
CreateDate | 2012:05:25 13:22:03 |
CustomRendered | Normal |
DateCreated | 2012:05:25 |
DateTimeOriginal (1) | 2012:05:25 13:22:03+02:00 |
DateTimeOriginal | 2012:05:25 13:22:03 |
Defringe | 0 |
ExifImageHeight (1) | 1609 |
ExifImageHeight | 424 |
ExifImageWidth (1) | 3879 |
ExifImageWidth | 1024 |
Exposure | 0.00 |
Exposure2012 | 0.00 |
ExposureCompensation | -1/3 |
ExposureMode | Auto |
ExposureProgram (1) | Aperture-priority AE |
ExposureTime | 1/1250 |
Firmware | 1.2.5 |
Flash | Off, Did not fire |
FlashCompensation | 0 |
FlashFired | False |
FlashFunction | False |
FlashMode | Off |
FlashRedEyeMode | False |
FlashReturn | No return detection |
FNumber | 8.0 |
FocalLength | 110.0 mm |
FocalLength35efl | 110.0 mm (35 mm equivalent: 141.0 mm) |
Format | application/vnd.adobe.photoshop |
FOV | 14.6 deg |
GrainAmount | 0 |
GreenHue | 0 |
GreenSaturation | 0 |
HasCrop | False |
HasSettings | True |
HighlightRecovery | 0 |
Highlights2012 | 0 |
HueAdjustmentAqua | 0 |
HueAdjustmentGreen | 0 |
HueAdjustmentMagenta | 0 |
HueAdjustmentOrange | 0 |
HueAdjustmentPurple | 0 |
HueAdjustmentRed | 0 |
HueAdjustmentYellow | 0 |
HyperfocalDistance | 64.50 m |
ICCProfileName | sRGB IEC61966-2.1 |
ImageHeight | 424 |
ImageNumber | 0 |
ImageSize | 1024x424 |
ImageWidth | 1024 |
ISO | 200 |
Lens | EF35-350mm f/3.5-5.6L USM |
LensID (1) | 153 |
LensID | Canon EF 35-350mm f/3.5-5.6L USM |
LensInfo | 35-350mm f/? |
LensManualDistortionAmount | 0 |
LensModel | EF35-350mm f/3.5-5.6L USM |
LensProfileEnable | 0 |
LensProfileSetup | LensDefaults |
LightValue | 15.3 |
LuminanceAdjustmentGreen | 0 |
LuminanceAdjustmentMagenta | 0 |
LuminanceAdjustmentOrange | 0 |
LuminanceAdjustmentPurple | 0 |
LuminanceAdjustmentRed | 0 |
LuminanceAdjustmentYellow | 0 |
LuminanceNoiseReductionContrast | 62 |
LuminanceNoiseReductionDetail | 63 |
LuminanceSmoothing | 61 |
Make | Canon |
MaxApertureValue | 4.8 |
Megapixels | 0.434 |
MeteringMode | Multi-segment |
Model | Canon EOS-1D Mark III |
ModifyDate (1) | 2012:06:02 10:27:41+02:00 |
ModifyDate | 2012:06:02 10:34:06 |
Orientation | Horizontal (normal) |
ParametricDarks | 0 |
ParametricHighlights | 0 |
ParametricHighlightSplit | 75 |
ParametricMidtoneSplit | 50 |
ParametricShadows | 0 |
PerspectiveHorizontal | 0 |
PerspectiveRotate | 0.0 |
PerspectiveVertical | 0 |
PostCropVignetteAmount | 0 |
ProcessVersion | 5.7 |
ProfileDescription | sRGB IEC61966-2.1 |
Rating | 0 |
RawFileName | OSCL2520.CR2 |
RedHue | 0 |
RedSaturation | 0 |
SaturationAdjustmentAqua | 0 |
SaturationAdjustmentBlue | 0 |
SaturationAdjustmentGreen | 0 |
SaturationAdjustmentMagenta | 0 |
SaturationAdjustmentOrange | 0 |
SaturationAdjustmentPurple | 0 |
SaturationAdjustmentRed | 0 |
SaturationAdjustmentYellow | 0 |
ScaleFactor35efl | 1.3 |
SceneCaptureType | Standard |
SerialNumber | 541267 |
Shadows | 5 |
Shadows2012 | 0 |
ShadowTint | 0 |
SharpenDetail | 75 |
SharpenEdgeMasking | 44 |
SharpenRadius | +2.3 |
Sharpness | 123 |
ShutterSpeed | 1/1250 |
ShutterSpeedValue | 1/1250 |
Software | Elements Organizer 10.0 |
SplitToningBalance | 0 |
SplitToningHighlightHue | 0 |
SplitToningHighlightSaturation | 0 |
SplitToningShadowHue | 0 |
SplitToningShadowSaturation | 0 |
Tint | +11 |
ToneCurve | 0, 0, 32, 22, 64, 56, 128, 128, 192, 196, 255, 255 |
ToneCurveBlue | 0, 0, 255, 255 |
ToneCurveGreen | 0, 0, 255, 255 |
ToneCurveName | Medium Contrast |
ToneCurveName2012 | Linear |
ToneCurvePV2012 | 0, 0, 255, 255 |
ToneCurvePV2012Blue | 0, 0, 255, 255 |
ToneCurvePV2012Green | 0, 0, 255, 255 |
ToneCurvePV2012Red | 0, 0, 255, 255 |
ToneCurveRed | 0, 0, 255, 255 |
URL_List | |
Version | 6.7 |
Vibrance | +17 |
VignetteAmount | 0 |
WhiteBalance (2) | As Shot |
WhiteBalance | Auto |
Whites2012 | 0 |