Felt | Verdi |
AlreadyApplied | True |
Aperture | 3.5 |
ApertureValue | 3.5 |
BitsPerSample | 8 |
BlueHue | 0 |
BlueSaturation | 0 |
Brightness | 0 |
CameraProfile | Embedded |
CFAPattern | [Green,Blue][Red,Green] |
ChromaticAberrationB | 0 |
ChromaticAberrationR | 0 |
CircleOfConfusion | 0.020 mm |
Clarity | +8 |
ColorComponents | 3 |
ColorNoiseReduction | 18 |
ColorNoiseReductionDetail | 50 |
Contrast (2) | +10 |
Contrast | Normal |
ConvertToGrayscale | False |
CreateDate (1) | 2010:07:31 22:10:25.50+02:00 |
CreateDate | 2010:07:31 22:10:25 |
CreatorTool | Adobe Photoshop Lightroom |
CropAngle | 0.354796 |
CropBottom | 0.804827 |
CropConstrainToWarp | 0 |
CropHeight | 2234 |
CropLeft | 0.006217 |
CropRight | 0.993425 |
CropTop | 0.011026 |
CropUnit | pixels |
CropWidth | 4247 |
CustomRendered | Normal |
DateTimeDigitized | 2010:07:31 22:10:25.50+02:00 |
DateTimeOriginal (1) | 2010:07:31 22:10:25.50+02:00 |
DateTimeOriginal | 2010:07:31 22:10:25 |
Defringe | 0 |
DigitalZoomRatio | 1 |
DOF | inf (4.62 m - inf) |
ExifImageHeight | 2234 |
ExifImageWidth | 4247 |
Exposure | 0.00 |
ExposureCompensation | 0 |
ExposureMode | Manual |
ExposureProgram | Manual |
ExposureTime | 1/1000 |
FillLight | 0 |
Flash | No Flash |
FlashFired | False |
FlashFunction | False |
FlashMode | Unknown |
FlashRedEyeMode | False |
FlashReturn | No return detection |
FNumber | 3.5 |
FocalLength | 18.0 mm |
FocalLength35efl | 18.0 mm (35 mm equivalent: 27.0 mm) |
FocalLengthIn35mmFormat | 27 mm |
FOV | 67.4 deg |
GainControl | None |
GrainAmount | 0 |
GreenHue | 0 |
GreenSaturation | 0 |
HasCrop | True |
HasSettings | True |
HighlightRecovery | 0 |
HueAdjustmentAqua | 0 |
HueAdjustmentBlue | 0 |
HueAdjustmentGreen | 0 |
HueAdjustmentMagenta | 0 |
HueAdjustmentOrange | 0 |
HueAdjustmentPurple | 0 |
HueAdjustmentRed | 0 |
HueAdjustmentYellow | 0 |
HyperfocalDistance | 4.62 m |
ImageHeight | 2234 |
ImageNumber | 17904 |
ImageSize | 4247x2234 |
ImageWidth | 4247 |
IncrementalTemperature | -4 |
IncrementalTint | +8 |
ISO | 160 |
Lens | 18.0-55.0 mm f/3.5-5.6 |
LensID (1) | 148 |
LensID | AF-S DX Zoom-Nikkor 18-55mm f/3.5-5.6G ED II |
LensInfo | 18-55mm f/3.5-5.6 |
LensManualDistortionAmount | 0 |
LensProfileEnable | 0 |
LensProfileSetup | LensDefaults |
LightSource | Unknown |
LightValue | 12.9 |
LuminanceAdjustmentAqua | 0 |
LuminanceAdjustmentBlue | -7 |
LuminanceAdjustmentGreen | 0 |
LuminanceAdjustmentMagenta | 0 |
LuminanceAdjustmentOrange | 0 |
LuminanceAdjustmentPurple | 0 |
LuminanceAdjustmentRed | 0 |
LuminanceAdjustmentYellow | 0 |
LuminanceNoiseReductionContrast | 0 |
LuminanceNoiseReductionDetail | 50 |
LuminanceSmoothing | 15 |
Make | NIKON CORPORATION |
MaxApertureValue | 3.5 |
Megapixels | 9.5 |
MeteringMode | Multi-segment |
Model | NIKON D5000 |
ModifyDate (1) | 2012:05:11 21:38:53+02:00 |
ModifyDate | 2012:05:11 21:38:53 |
ParametricDarks | 0 |
ParametricHighlights | -16 |
ParametricHighlightSplit | 75 |
ParametricLights | +17 |
ParametricMidtoneSplit | 50 |
ParametricShadows | -13 |
ParametricShadowSplit | 25 |
PerspectiveHorizontal | 0 |
PerspectiveRotate | 0.0 |
PerspectiveScale | 100 |
PerspectiveVertical | 0 |
PostCropVignetteAmount | 0 |
ProcessVersion | 5.7 |
ProfileDescription | sRGB IEC61966-2.1 |
RedHue | 0 |
RedSaturation | 0 |
Saturation (2) | 0 |
Saturation | Normal |
SaturationAdjustmentAqua | 0 |
SaturationAdjustmentBlue | +10 |
SaturationAdjustmentGreen | 0 |
SaturationAdjustmentMagenta | 0 |
SaturationAdjustmentOrange | +18 |
SaturationAdjustmentPurple | 0 |
SaturationAdjustmentRed | 0 |
SaturationAdjustmentYellow | 0 |
ScaleFactor35efl | 1.5 |
SceneCaptureType | Standard |
SceneType | Directly photographed |
SensingMethod | One-chip color area |
SerialNumber | 6191898 |
Shadows | 0 |
ShadowTint | 0 |
SharpenDetail | 25 |
SharpenEdgeMasking | 0 |
SharpenRadius | +1.0 |
Sharpness (2) | 0 |
Sharpness | Normal |
ShutterSpeed | 1/1000 |
ShutterSpeedValue | 1/1000 |
Software | Ver.1.00 |
SplitToningBalance | 0 |
SplitToningHighlightHue | 0 |
SplitToningHighlightSaturation | 0 |
SplitToningShadowHue | 0 |
SplitToningShadowSaturation | 0 |
SubjectDistance | 4294967295 m |
SubjectDistanceRange | Unknown |
ToneCurve | 0, 0, 255, 255 |
ToneCurveName | Linear |
Version | 6.1 |
Vibrance | +26 |
VignetteAmount | 0 |
WhiteBalance (2) | Custom |
WhiteBalance | Auto |