Felt | Verdi |
AlreadyApplied | True |
Aperture | 7.1 |
ApertureValue | 7.1 |
BitsPerSample (1) | 16 16 16 |
BitsPerSample | 8 |
BlueHue | 0 |
BlueSaturation | 0 |
Brightness | +50 |
CameraProfile | Adobe Standard |
ChromaticAberrationB | 0 |
ChromaticAberrationR | 0 |
CircleOfConfusion | 0.019 mm |
Clarity | +31 |
ColorComponents | 3 |
ColorMode | RGB |
ColorNoiseReduction | 100 |
ColorNoiseReductionDetail | 57 |
ColorSpace | Uncalibrated |
ColorTemperature | 5650 |
Contrast | +25 |
ConvertToGrayscale | False |
CreateDate (1) | 2012:04:25 18:39:16.00 |
CreateDate | 2012:04:25 18:39:16 |
CreatorTool | Adobe Photoshop Lightroom 3.6 (Windows) |
CustomRendered | Normal |
DateCreated (1) | 2012:04:25 |
DateCreated | 2012:04:25 18:39:16 |
DateTimeOriginal | 2012:04:25 18:39:16 |
Defringe | 0 |
ExifImageHeight | 5593 |
ExifImageWidth | 3865 |
Exposure | +0.14 |
ExposureCompensation | 0 |
ExposureMode | Manual |
ExposureProgram | Manual |
ExposureTime | 1/125 |
FillLight | 3 |
Firmware | 1.0.9 |
Flash | Off, Did not fire |
FlashCompensation | 0 |
FNumber | 7.1 |
FocalLength | 50.0 mm |
FocalLength35efl | 50.0 mm (35 mm equivalent: 78.6 mm) |
Format | image/jpeg |
FOV | 25.8 deg |
GrainAmount | 0 |
GreenHue | 0 |
GreenSaturation | 0 |
HasCrop | False |
HasSettings | True |
HighlightRecovery | 0 |
HueAdjustmentAqua | 0 |
HueAdjustmentBlue | 0 |
HueAdjustmentGreen | 0 |
HueAdjustmentMagenta | 0 |
HueAdjustmentOrange | 0 |
HueAdjustmentPurple | 0 |
HueAdjustmentRed | -25 |
HueAdjustmentYellow | 0 |
HyperfocalDistance | 18.43 m |
ICCProfileName | ProPhoto RGB |
ImageHeight (1) | 5184 |
ImageHeight | 5593 |
ImageNumber | 0 |
ImageSize | 3865x5593 |
ImageWidth (1) | 3456 |
ImageWidth | 3865 |
ISO | 100 |
Lens | EF50mm f/1.4 USM |
LensID (1) | 198 |
LensID | Canon EF 50mm f/1.4 USM |
LensInfo | 50mm f/? |
LensManualDistortionAmount | 0 |
LensModel | EF50mm f/1.4 USM |
LensProfileChromaticAberrationScale | 100 |
LensProfileDistortionScale | 100 |
LensProfileEnable | 1 |
LensProfileFilename | Canon EOS-1Ds Mark III (Canon EF 50mm f1.4 USM) - RAW.lcp |
LensProfileName | Adobe (Canon EF 50mm f/1.4 USM) |
LensProfileSetup | LensDefaults |
LensProfileVignettingScale | 100 |
LightValue | 12.6 |
LuminanceAdjustmentAqua | 0 |
LuminanceAdjustmentBlue | +100 |
LuminanceAdjustmentGreen | 0 |
LuminanceAdjustmentMagenta | +2 |
LuminanceAdjustmentOrange | 0 |
LuminanceAdjustmentPurple | +64 |
LuminanceAdjustmentRed | +16 |
LuminanceAdjustmentYellow | -11 |
LuminanceNoiseReductionContrast | 75 |
LuminanceNoiseReductionDetail | 30 |
LuminanceSmoothing | 70 |
Make | Canon |
MaxApertureValue | 1.4 |
Megapixels | 21.6 |
MeteringMode | Spot |
Model | Canon EOS 550D |
ModifyDate (1) | 2012:04:29 22:54:55+02:00 |
ModifyDate | 2012:04:29 22:54:55 |
Orientation | Horizontal (normal) |
ParametricDarks | -4 |
ParametricHighlights | 0 |
ParametricHighlightSplit | 75 |
ParametricLights | +23 |
ParametricMidtoneSplit | 50 |
ParametricShadows | 0 |
ParametricShadowSplit | 25 |
PerspectiveHorizontal | 0 |
PerspectiveRotate | 0.0 |
PerspectiveScale | 100 |
PerspectiveVertical | 0 |
PhotometricInterpretation | RGB |
PlanarConfiguration | Chunky |
PostCropVignetteAmount | 0 |
ProcessVersion | 5.7 |
ProfileDescription | ProPhoto RGB |
RedHue | 0 |
RedSaturation | 0 |
Saturation | 0 |
SaturationAdjustmentAqua | 0 |
SaturationAdjustmentBlue | 0 |
SaturationAdjustmentGreen | 0 |
SaturationAdjustmentMagenta | 0 |
SaturationAdjustmentOrange | 0 |
SaturationAdjustmentPurple | 0 |
SaturationAdjustmentRed | +30 |
SaturationAdjustmentYellow | +5 |
ScaleFactor35efl | 1.6 |
SceneCaptureType | Standard |
SerialNumber | 1333707297 |
Shadows | 20 |
ShadowTint | 0 |
SharpenDetail | 55 |
SharpenEdgeMasking | 60 |
SharpenRadius | +2.3 |
Sharpness | 119 |
ShutterSpeed | 1/125 |
ShutterSpeedValue | 1/125 |
Software | Adobe Photoshop CS5.1 Windows |
SplitToningBalance | 0 |
SplitToningHighlightHue | 0 |
SplitToningHighlightSaturation | 0 |
SplitToningShadowHue | 0 |
SplitToningShadowSaturation | 0 |
Tint | -6 |
ToneCurve | 0, 0, 32, 22, 64, 56, 128, 128, 192, 196, 255, 255 |
ToneCurveName | Medium Contrast |
URL_List | |
Version | 6.6 |
Vibrance | 0 |
VignetteAmount | 0 |
WhiteBalance (1) | As Shot |
WhiteBalance | Auto |