Felt | Verdi |
AlreadyApplied | True |
Aperture | 8.0 |
ApertureValue | 8.0 |
AutoLateralCA | 0 |
BitsPerSample | 8 |
Blacks2012 | 0 |
BlueHue | 0 |
BlueSaturation | 0 |
Brightness | +50 |
CameraProfile | Adobe Standard |
Caption-Abstract | OLYMPUS DIGITAL CAMERA |
CFAPattern | [Red,Green][Green,Blue] |
CircleOfConfusion | 0.015 mm |
Clarity | 0 |
Clarity2012 | 0 |
ColorComponents | 1 |
ColorNoiseReduction | 25 |
ColorNoiseReductionDetail | 50 |
ColorTemperature | 4300 |
Contrast (1) | +25 |
Contrast | Normal |
Contrast2012 | +61 |
ConvertToGrayscale | True |
CreateDate | 2012:04:15 11:42:03 |
CreatorTool | Adobe Photoshop Lightroom 4.0 (Windows) |
CropAngle | 0 |
CropBottom | 0.855719 |
CropConstrainToWarp | 0 |
CropHeight | 1947 |
CropLeft | 0.240673 |
CropRight | 0.774254 |
CropTop | 0.144277 |
CropUnit | pixels |
CropWidth | 1947 |
CustomRendered | Normal |
DateCreated (1) | 2012:04:15 |
DateCreated | 2012:04:15 11:42:03 |
DateTimeOriginal | 2012:04:15 11:42:03 |
Defringe | 0 |
Description | OLYMPUS DIGITAL CAMERA |
DigitalZoomRatio | 1 |
Exposure | 0.00 |
Exposure2012 | 0.00 |
ExposureCompensation | 0 |
ExposureMode | Auto |
ExposureProgram | Aperture-priority AE |
ExposureTime | 1/15 |
FillLight | 0 |
Flash | On, Did not fire |
FlashCompensation | 0 |
FNumber | 8.0 |
FocalLength | 35.0 mm |
FocalLength35efl | 35.0 mm (35 mm equivalent: 70.0 mm) |
FocalLengthIn35mmFormat | 70 mm |
Format | image/jpeg |
FOV | 28.8 deg |
GainControl | High gain up |
GrainAmount | 0 |
GrayMixerAqua | +25 |
GrayMixerBlue | 0 |
GrayMixerGreen | -5 |
GrayMixerMagenta | -40 |
GrayMixerOrange | +38 |
GrayMixerPurple | -30 |
GrayMixerRed | +50 |
GrayMixerYellow | +36 |
GreenHue | 0 |
GreenSaturation | 0 |
HasCrop | True |
HasSettings | True |
HighlightRecovery | 0 |
Highlights2012 | +12 |
HyperfocalDistance | 10.19 m |
ImageDescription | OLYMPUS DIGITAL CAMERA |
ImageHeight | 1947 |
ImageSize | 1947x1947 |
ImageWidth | 1947 |
ISO | 500 |
Lens | 14.0-54.0 mm f/2.8-3.5 |
LensInfo | 14-54mm f/2.8-3.5 |
LensManualDistortionAmount | 0 |
LensModel | 14.0-54.0 mm f/2.8-3.5 |
LensProfileEnable | 0 |
LensProfileSetup | LensDefaults |
LensSerialNumber | 310102488 |
LightSource | Unknown |
LightValue | 7.6 |
LuminanceNoiseReductionContrast | 0 |
LuminanceNoiseReductionDetail | 50 |
LuminanceSmoothing | 52 |
Make | OLYMPUS IMAGING CORP. |
MaxApertureValue | 2.8 |
Megapixels | 3.8 |
MeteringMode | Multi-segment |
Model | E-3 |
ModifyDate (1) | 2012:04:16 18:32:48+02:00 |
ModifyDate | 2012:04:16 18:32:48 |
PaintCorrectionActive | true |
PaintCorrectionAmount | 1.000000 |
PaintCorrectionBrightness | 0.000000 |
PaintCorrectionClarity2012 | 0.000000 |
PaintCorrectionContrast2012 (1) | -0.035290 |
PaintCorrectionContrast2012 | 0.000000 |
PaintCorrectionExposure2012 (1) | -1.000000 |
PaintCorrectionExposure2012 (3) | 0.388250 |
PaintCorrectionExposure2012 (6) | 0.058750 |
PaintCorrectionExposure2012 (8) | 0.000000 |
PaintCorrectionExposure2012 (9) | -0.176500 |
PaintCorrectionExposure2012 | 0.176500 |
PaintCorrectionHighlights2012 (3) | 1.000000 |
PaintCorrectionHighlights2012 (5) | 0.000000 |
PaintCorrectionHighlights2012 (6) | 0.976470 |
PaintCorrectionHighlights2012 (8) | -0.176470 |
PaintCorrectionHighlights2012 | 0.529410 |
PaintCorrectionHue | 0.000000 |
PaintCorrectionLuminanceNoise | 0.000000 |
PaintCorrectionMaskCenterWeight | 0.000000 |
PaintCorrectionMaskFlow | 0.300000 |
PaintCorrectionMaskRadius (10) | 0.027010 |
PaintCorrectionMaskRadius (13) | 0.006134 |
PaintCorrectionMaskRadius (4) | 0.055242 |
PaintCorrectionMaskRadius (5) | 0.015055 |
PaintCorrectionMaskRadius (7) | 0.066269 |
PaintCorrectionMaskRadius | 0.009613 |
PaintCorrectionMaskValue | 0.483000 |
PaintCorrectionMaskWhat | Mask/Paint |
PaintCorrectionMoire | 0.000000 |
PaintCorrectionSaturation | 0.000000 |
PaintCorrectionShadows2012 (2) | -1.000000 |
PaintCorrectionShadows2012 (3) | -0.223530 |
PaintCorrectionShadows2012 | 0.000000 |
PaintCorrectionSharpness | 0.000000 |
PaintCorrectionTemperature | 0.000000 |
PaintCorrectionTint | 0.000000 |
PaintCorrectionWhat | Correction |
ParametricDarks | +18 |
ParametricHighlights | +50 |
ParametricHighlightSplit | 75 |
ParametricLights | +40 |
ParametricMidtoneSplit | 50 |
ParametricShadows | 0 |
ParametricShadowSplit | 25 |
PerspectiveHorizontal | 0 |
PerspectiveRotate | 0.0 |
PerspectiveScale | 100 |
PerspectiveVertical | 0 |
PostCropVignetteAmount | 0 |
ProcessVersion | 6.7 |
ProfileDescription | sRGB IEC61966-2.1 |
RedHue | 0 |
RedSaturation | 0 |
Saturation | Normal |
ScaleFactor35efl | 2.0 |
SceneCaptureType | Standard |
SerialNumber | D70518049 |
Shadows | 5 |
Shadows2012 | 0 |
ShadowTint | 0 |
SharpenDetail | 25 |
SharpenEdgeMasking | 0 |
SharpenRadius | +1.0 |
Sharpness (1) | 25 |
Sharpness | Normal |
ShutterSpeed | 1/15 |
ShutterSpeedValue | 1/15 |
Software | Adobe Photoshop Lightroom 4.0 (Windows) |
SplitToningBalance | 0 |
SplitToningHighlightHue | 0 |
SplitToningHighlightSaturation | 0 |
SplitToningShadowHue | 0 |
SplitToningShadowSaturation | 0 |
Tint | 0 |
ToneCurve | 0, 0, 255, 255 |
ToneCurveBlue | 0, 0, 255, 255 |
ToneCurveGreen | 0, 0, 255, 255 |
ToneCurveName | Linear |
ToneCurveName2012 | Strong Contrast |
ToneCurvePV2012 | 0, 0, 32, 16, 64, 50, 128, 128, 192, 202, 255, 255 |
ToneCurvePV2012Blue | 0, 0, 255, 255 |
ToneCurvePV2012Green | 0, 0, 255, 255 |
ToneCurvePV2012Red | 0, 0, 255, 255 |
ToneCurveRed | 0, 0, 255, 255 |
Version | 7.0 |
VignetteAmount | 0 |
WhiteBalance (1) | As Shot |
WhiteBalance | Auto |
Whites2012 | 0 |