Felt | Verdi |
AlreadyApplied | True |
Aperture | 36.0 |
ApertureValue | 36.0 |
Artist | unknown |
BitsPerSample | 8 |
BlueHue | 0 |
BlueSaturation | 0 |
Brightness | +38 |
By-line | unknown |
CameraProfile | Adobe Standard |
ChromaticAberrationB | 0 |
ChromaticAberrationR | 0 |
CircleOfConfusion | 0.019 mm |
Clarity | +72 |
ColorComponents | 3 |
ColorMode | RGB |
ColorNoiseReduction | 25 |
ColorNoiseReductionDetail | 50 |
ColorSpace | Uncalibrated |
ColorTemperature | 6300 |
Contrast | +64 |
ConvertToGrayscale | False |
CreateDate | 2012:03:15 21:46:45 |
Creator | unknown |
CropAngle | 0 |
CropBottom | 0.895525 |
CropConstrainToWarp | 1 |
CropLeft | 0.11 |
CropRight | 0.827257 |
CropTop | 0.132099 |
CustomRendered | Normal |
DateCreated (1) | 2012:03:15 |
DateCreated | 2012:03:15 21:46:45 |
DateTimeOriginal | 2012:03:15 21:46:45 |
Defringe | 0 |
ExifImageHeight | 3127 |
ExifImageWidth | 4407 |
Exposure | 0.00 |
ExposureCompensation | 0 |
ExposureMode | Manual |
ExposureProgram | Manual |
ExposureTime | 0.3 |
FillLight | 0 |
Firmware | 1.1.1 |
Flash | Off, Did not fire |
FlashCompensation | 0 |
FNumber | 36.0 |
FocalLength | 50.0 mm |
FocalLength35efl | 50.0 mm (35 mm equivalent: 80.9 mm) |
Format | image/jpeg |
FOV | 25.1 deg |
GrainAmount | 0 |
GreenHue | 0 |
GreenSaturation | 0 |
HasCrop | True |
HasSettings | True |
HighlightRecovery | 0 |
HueAdjustmentAqua | 0 |
HueAdjustmentBlue | 0 |
HueAdjustmentGreen | 0 |
HueAdjustmentMagenta | 0 |
HueAdjustmentOrange | 0 |
HueAdjustmentPurple | 0 |
HueAdjustmentRed | 0 |
HueAdjustmentYellow | 0 |
HyperfocalDistance | 3.74 m |
ICCProfileName | Adobe RGB (1998) |
ImageHeight | 3127 |
ImageNumber | 16 |
ImageSize | 4407x3127 |
ImageWidth | 4407 |
ISO | 100 |
Lens | 18.0-50.0 mm |
LensID (1) | 6 |
LensID | Sigma 18-50mm f/3.5-5.6 DC |
LensInfo | 18-50mm f/? |
LensManualDistortionAmount | 0 |
LensModel | 18.0-50.0 mm |
LensProfileEnable | 0 |
LensProfileSetup | LensDefaults |
LightValue | 12.1 |
LuminanceAdjustmentAqua | 0 |
LuminanceAdjustmentBlue | 0 |
LuminanceAdjustmentGreen | +33 |
LuminanceAdjustmentMagenta | 0 |
LuminanceAdjustmentOrange | 0 |
LuminanceAdjustmentPurple | 0 |
LuminanceAdjustmentRed | 0 |
LuminanceAdjustmentYellow | +21 |
LuminanceSmoothing | 0 |
Make | Canon |
MaxApertureValue | 5.6 |
Megapixels | 13.8 |
MeteringMode | Average |
Model | Canon EOS 400D DIGITAL |
ModifyDate (1) | 2012:03:15 22:15:13+01:00 |
ModifyDate | 2012:03:15 22:15:13 |
Orientation | Horizontal (normal) |
OwnerName | unknown |
PaintCorrectionActive | true |
PaintCorrectionAmount | 1.000000 |
PaintCorrectionBrightness | -1.000000 |
PaintCorrectionClarity | 0.800000 |
PaintCorrectionContrast | 1.000000 |
PaintCorrectionExposure | -1.000000 |
PaintCorrectionHue | 352.000000 |
PaintCorrectionMaskCenterWeight | 0.072131 |
PaintCorrectionMaskFlow | 0.955810 |
PaintCorrectionMaskRadius | 0.038145 |
PaintCorrectionMaskValue | 1.000000 |
PaintCorrectionMaskWhat | Mask/Paint |
PaintCorrectionSaturation (1) | -0.900000 |
PaintCorrectionSaturation | 0.950000 |
PaintCorrectionSharpness | 0.940000 |
PaintCorrectionWhat | Correction |
ParametricDarks | 0 |
ParametricHighlights | 0 |
ParametricHighlightSplit | 75 |
ParametricLights | 0 |
ParametricMidtoneSplit | 50 |
ParametricShadows | 0 |
ParametricShadowSplit | 25 |
PerspectiveHorizontal | 0 |
PerspectiveRotate | 0.0 |
PerspectiveScale | 80 |
PerspectiveVertical | 0 |
PostCropVignetteAmount | 0 |
ProcessVersion | 5.7 |
ProfileDescription | Adobe RGB (1998) |
Rating | 0 |
RawFileName | IMG_3777.CR2 |
RedHue | 0 |
RedSaturation | 0 |
Saturation | -5 |
SaturationAdjustmentAqua | 0 |
SaturationAdjustmentBlue | 0 |
SaturationAdjustmentGreen | 0 |
SaturationAdjustmentMagenta | 0 |
SaturationAdjustmentOrange | 0 |
SaturationAdjustmentPurple | 0 |
SaturationAdjustmentRed | 0 |
SaturationAdjustmentYellow | +100 |
ScaleFactor35efl | 1.6 |
SceneCaptureType | Standard |
SerialNumber | 1781109714 |
Shadows | 5 |
ShadowTint | 0 |
SharpenDetail | 25 |
SharpenEdgeMasking | 0 |
SharpenRadius | +1.0 |
Sharpness | 116 |
ShutterSpeed | 0.3 |
ShutterSpeedValue | 0.3 |
Software | Adobe Photoshop CS5 Macintosh |
SplitToningBalance | 0 |
SplitToningHighlightHue | 0 |
SplitToningHighlightSaturation | 0 |
SplitToningShadowHue | 0 |
SplitToningShadowSaturation | 0 |
Tint | -74 |
ToneCurve | 0, 0, 32, 22, 64, 56, 128, 128, 192, 196, 255, 255 |
ToneCurveName | Medium Contrast |
URL_List | |
Version | 6.6 |
Vibrance | +29 |
VignetteAmount | 0 |
WhiteBalance (1) | Custom |
WhiteBalance | Manual |