Felt | Verdi |
AlreadyApplied | True |
Aperture | 3.5 |
ApertureValue | 3.5 |
Artist | Tommy Johansen |
BitsPerSample | 8 |
BlueHue | 0 |
BlueSaturation | 0 |
Brightness | +76 |
By-line | Tommy Johansen |
CameraProfile | Adobe Standard |
CFAPattern | [Green,Red][Blue,Green] |
ChromaticAberrationB | 0 |
ChromaticAberrationR | 0 |
CircleOfConfusion | 0.015 mm |
Clarity | +100 |
ColorComponents | 1 |
ColorMode | Grayscale |
ColorNoiseReduction | 25 |
ColorNoiseReductionDetail | 50 |
ColorSpace | Uncalibrated |
ColorTemperature | 6500 |
Contrast (1) | +93 |
Contrast | High |
ConvertToGrayscale | True |
Copyright | Copyright © 2012 Tommy Johansen Aka "Grayscale" Photos™ All Rights Reserved |
CopyrightFlag | True |
CopyrightNotice | Copyright © 2012 Tommy Johansen Aka "Grayscale" Photos™ All Rights Reserved |
CreateDate | 2012:03:01 17:43:43 |
Creator | Tommy Johansen |
CreatorTool | Adobe Photoshop CS5.1 Windows |
CustomRendered | Normal |
DateCreated (1) | 2012:03:01 |
DateCreated | 2012:03:01 17:43:43 |
DateTimeOriginal | 2012:03:01 17:43:43 |
Defringe | 0 |
DigitalZoomRatio | 0 |
ExifImageHeight | 1920 |
ExifImageWidth | 2560 |
Exposure | 0.00 |
ExposureCompensation | 0 |
ExposureMode | Auto |
ExposureProgram | Program AE |
ExposureTime | 1/80 |
FillLight | 21 |
Flash | On, Fired |
FlashCompensation | 0 |
FNumber | 3.5 |
FocalLength | 42.0 mm |
FocalLength35efl | 42.0 mm (35 mm equivalent: 84.0 mm) |
FocalLengthIn35mmFormat | 84 mm |
Format | image/jpeg |
FOV | 24.2 deg |
GainControl | Low gain up |
GrainAmount | 0 |
GrayMixerAqua | -23 |
GrayMixerBlue | +9 |
GrayMixerGreen | -28 |
GrayMixerMagenta | +15 |
GrayMixerOrange | -15 |
GrayMixerPurple | +23 |
GrayMixerRed | +1 |
GrayMixerYellow | -21 |
GreenHue | 0 |
GreenSaturation | 0 |
HasCrop | False |
HasSettings | True |
HighlightRecovery | 100 |
HyperfocalDistance | 33.55 m |
ICCProfileName | Gray Gamma 2.2 |
ImageHeight | 1920 |
ImageSize | 2560x1920 |
ImageWidth | 2560 |
ISO | 200 |
Lens | 14.0-54.0 mm f/3.5 |
LensInfo | 14-54mm f/3.5 |
LensManualDistortionAmount | 0 |
LensModel | 14.0-54.0 mm f/3.5 |
LensProfileEnable | 0 |
LensProfileSetup | LensDefaults |
LensSerialNumber | 050204236 |
LightSource | Unknown |
LightValue | 8.9 |
LuminanceSmoothing | 0 |
Make | OLYMPUS CORPORATION |
Marked | True |
MaxApertureValue | 2.8 |
Megapixels | 4.9 |
MeteringMode | Multi-segment |
Model | E-1 |
ModifyDate (1) | 2012:03:01 22:54:32+01:00 |
ModifyDate | 2012:03:01 22:54:32 |
ObjectName | Crash and burn |
Orientation | Horizontal (normal) |
ParametricDarks | 0 |
ParametricHighlights | 0 |
ParametricHighlightSplit | 75 |
ParametricLights | 0 |
ParametricMidtoneSplit | 50 |
ParametricShadows | 0 |
ParametricShadowSplit | 25 |
PerspectiveHorizontal | 0 |
PerspectiveRotate | 0.0 |
PerspectiveScale | 100 |
PerspectiveVertical | 0 |
PostCropVignetteAmount | 0 |
ProcessVersion | 5.7 |
ProfileDescription | Gray Gamma 2.2 |
Rating | 0 |
RawFileName | P3017280.ORF |
RedHue | 0 |
RedSaturation | 0 |
Rights | Copyright © 2012 Tommy Johansen Aka "Grayscale" Photos™ All Rights Reserved |
Saturation | Normal |
ScaleFactor35efl | 2.0 |
SceneCaptureType | Standard |
SerialNumber | 144001284 |
Shadows | 63 |
ShadowTint | 0 |
SharpenDetail | 25 |
SharpenEdgeMasking | 0 |
SharpenRadius | +1.0 |
Sharpness (1) | 25 |
Sharpness | Hard |
ShutterSpeed | 1/80 |
ShutterSpeedValue | 1/80 |
Software | Adobe Photoshop CS5.1 Windows |
SplitToningBalance | 0 |
SplitToningHighlightHue | 0 |
SplitToningHighlightSaturation | 0 |
SplitToningShadowHue | 0 |
SplitToningShadowSaturation | 0 |
Tint | 0 |
Title | Crash and burn |
ToneCurve | 0, 0, 32, 22, 64, 56, 128, 128, 192, 196, 255, 255 |
ToneCurveName | Medium Contrast |
URL_List | |
Version | 6.6 |
VignetteAmount | 0 |
WhiteBalance | Auto |