Felt | Verdi |
AlreadyApplied | True |
Aperture | 12.0 |
ApertureValue | 12.0 |
BitsPerSample | 8 |
BlackClip | 0.024200 |
BlueHue | 0 |
BlueSaturation | 0 |
Brightness | 0 |
CameraProfile | Embedded |
ChromaticAberrationB | 0 |
ChromaticAberrationR | 0 |
Clarity | +22 |
ColorComponents | 3 |
ColorNoiseReduction | 0 |
ColorSaturation | 60.0 |
ColorTemperature | 2.9 |
Contrast | -15 |
ConvertToGrayscale | False |
CreateDate | 2012:01:10 11:12:32 |
CreatorTool | Adobe Photoshop Lightroom 3.4.1 |
DateCreated | 2012:01:10 |
DateTimeOriginal | 2012:01:10 11:12:32 |
Defringe | 0 |
Exposure | -0.15 |
ExposureTime | 1/350 |
FillLight | 0 |
FNumber | 12.0 |
Format | application/vnd.adobe.photoshop |
Gamma | 1.2 |
GrainAmount | 0 |
GreenHue | 0 |
GreenSaturation | 0 |
HasCrop | False |
HasSettings | True |
HighlightRecovery | 0 |
HighlightsSmoothing | 0.0 |
HueAdjustmentAqua | 0 |
HueAdjustmentBlue | 0 |
HueAdjustmentGreen | 0 |
HueAdjustmentMagenta | 0 |
HueAdjustmentOrange | 0 |
HueAdjustmentPurple | 0 |
HueAdjustmentRed | 0 |
HueAdjustmentYellow | 0 |
ImageHeight | 533 |
ImageSize | 800x533 |
ImageWidth | 800 |
IncrementalTemperature | -12 |
IncrementalTint | +2 |
ISO | 320 |
LensManualDistortionAmount | 0 |
LensProfileEnable | 0 |
LensProfileSetup | LensDefaults |
LightValue | 13.9 |
LuminanceAdjustmentAqua | 0 |
LuminanceAdjustmentBlue | 0 |
LuminanceAdjustmentGreen | 0 |
LuminanceAdjustmentMagenta | 0 |
LuminanceAdjustmentOrange | 0 |
LuminanceAdjustmentPurple | 0 |
LuminanceAdjustmentRed | 0 |
LuminanceAdjustmentYellow | 0 |
LuminanceSmoothing | 0 |
Luminosity | -4.1 |
Megapixels | 0.426 |
Method | Details Enhancer |
Microcontrast | 0.3 |
Microsmoothing | 2.0 |
Model | M8 Digital Camera |
ModifyDate (1) | 2012:01:24 17:56:41+01:00 |
ModifyDate | 2012:01:24 17:56:41 |
PaintCorrectionActive | true |
PaintCorrectionAmount | 1.000000 |
PaintCorrectionBrightness (1) | 0.047833 |
PaintCorrectionBrightness (2) | 0.000000 |
PaintCorrectionBrightness | -0.058078 |
PaintCorrectionClarity (1) | 1.000000 |
PaintCorrectionClarity (2) | 0.769300 |
PaintCorrectionClarity | 0.000000 |
PaintCorrectionContrast (1) | 0.002727 |
PaintCorrectionContrast (2) | 0.063988 |
PaintCorrectionContrast | 0.000000 |
PaintCorrectionExposure (1) | 0.047317 |
PaintCorrectionExposure (2) | 0.023950 |
PaintCorrectionExposure | -0.242409 |
PaintCorrectionHue | 57.000000 |
PaintCorrectionMaskCenterWeight | 0.146956 |
PaintCorrectionMaskFlow | 0.974831 |
PaintCorrectionMaskRadius (15) | 0.005725 |
PaintCorrectionMaskRadius (16) | 0.086323 |
PaintCorrectionMaskRadius (18) | 0.045526 |
PaintCorrectionMaskRadius (21) | 0.040785 |
PaintCorrectionMaskRadius (9) | 0.014012 |
PaintCorrectionMaskRadius | 0.138316 |
PaintCorrectionMaskValue | 1.000000 |
PaintCorrectionMaskWhat | Mask/Paint |
PaintCorrectionSaturation (1) | -0.053729 |
PaintCorrectionSaturation (3) | -0.052590 |
PaintCorrectionSaturation | 0.000000 |
PaintCorrectionSharpness (1) | 0.104290 |
PaintCorrectionSharpness | 0.000000 |
PaintCorrectionWhat | Correction |
ParametricDarks | 0 |
ParametricHighlights | 0 |
ParametricHighlightSplit | 75 |
ParametricLights | 0 |
ParametricMidtoneSplit | 50 |
ParametricShadows | 0 |
ParametricShadowSplit | 25 |
PerspectiveHorizontal | 0 |
PerspectiveRotate | 0.0 |
PerspectiveScale | 100 |
PerspectiveVertical | 0 |
PostCropVignetteAmount | -25 |
PostCropVignetteFeather | 89 |
PostCropVignetteHighlightContrast | 0 |
PostCropVignetteMidpoint | 2 |
PostCropVignetteRoundness | +76 |
PostCropVignetteStyle | 1 |
ProcessVersion | 5.7 |
ProfileDescription | sRGB IEC61966-2.1 |
Rating | 5 |
RedHue | 0 |
RedSaturation | 0 |
Saturation | 0 |
SaturationAdjustmentAqua | 0 |
SaturationAdjustmentBlue | 0 |
SaturationAdjustmentGreen | 0 |
SaturationAdjustmentMagenta | 0 |
SaturationAdjustmentOrange | 0 |
SaturationAdjustmentPurple | 0 |
SaturationAdjustmentRed | 0 |
SaturationAdjustmentYellow | 0 |
SaturationHighlights | -1.7 |
SaturationShadows | 0.7 |
Shadows | 0 |
ShadowsClipping | 0.0 |
ShadowsSmoothing | 0.0 |
ShadowTint | 0 |
SharpenDetail | 25 |
SharpenEdgeMasking | 0 |
SharpenRadius | +1.0 |
Sharpness | 0 |
ShutterSpeed | 1/350 |
ShutterSpeedValue | 1/350 |
Smoothing | Very High |
SmoothingMode | Light |
Software | Adobe Photoshop Lightroom 3.4.1 |
SplitToningBalance | 0 |
SplitToningHighlightHue | 0 |
SplitToningHighlightSaturation | 0 |
SplitToningShadowHue | 0 |
SplitToningShadowSaturation | 0 |
Strength | 70.0 |
ToneCurve | 0, 0, 255, 255 |
ToneCurveName | Linear |
Version (1) | 3.2 |
Version | 6.4.1 |
Vibrance | -22 |
VignetteAmount | 0 |
WhiteBalance | Custom |
WhiteClip | 0.304650 |