Felt | Verdi |
AlreadyApplied | True |
Aperture | 1.4 |
ApertureValue | 1.4 |
Artist | stian furuseth |
BitsPerSample (1) | 8 8 8 |
BitsPerSample | 8 |
BlueHue | 0 |
BlueSaturation | -26 |
Brightness | +50 |
By-line | stian furuseth |
CameraProfile | Adobe Standard |
ChromaticAberrationB | 0 |
ChromaticAberrationR | 0 |
CircleOfConfusion | 0.030 mm |
Clarity | -29 |
ColorComponents | 3 |
ColorMode | RGB |
ColorNoiseReduction | 25 |
ColorNoiseReductionDetail | 50 |
ColorSpace | sRGB |
ColorTemperature | 5400 |
Contrast | +25 |
ConvertToGrayscale | True |
Copyright | Stian Furuseth |
CopyrightFlag | True |
CopyrightNotice | Stian Furuseth |
CreateDate (1) | 2011:12:16 00:07:21+01:00 |
CreateDate | 2011:12:16 00:07:21 |
Creator | stian furuseth |
CreatorTool | Adobe Photoshop CS5 Windows |
CropAngle | 0 |
CropBottom | 1 |
CropConstrainToWarp | 0 |
CropHeight | 2974 |
CropLeft | 0.078755 |
CropRight | 0.972528 |
CropTop | 0.106227 |
CropUnit | pixels |
CropWidth | 4462 |
CustomRendered | Normal |
DateCreated (1) | 2011:12:16 |
DateCreated | 2011:12:16 00:07:21 |
DateTimeOriginal | 2011:12:16 00:07:21 |
Defringe | 0 |
ExifImageHeight | 800 |
ExifImageWidth | 533 |
Exposure | 0.00 |
ExposureCompensation | 0 |
ExposureMode | Manual |
ExposureProgram | Manual |
ExposureTime | 1/250 |
FillLight | 20 |
Firmware | 1.1.6 |
Flash | Off, Did not fire |
FlashCompensation | 0 |
FNumber | 1.4 |
FocalLength | 50.0 mm |
FocalLength35efl | 50.0 mm (35 mm equivalent: 49.9 mm) |
Format | image/jpeg |
FOV | 39.6 deg |
GrainAmount | 0 |
GrayMixerAqua | -19 |
GrayMixerBlue | +8 |
GrayMixerGreen | -26 |
GrayMixerMagenta | +4 |
GrayMixerOrange | -18 |
GrayMixerPurple | +15 |
GrayMixerRed | -8 |
GrayMixerYellow | -22 |
GreenHue | 0 |
GreenSaturation | -36 |
HasCrop | True |
HasSettings | True |
HighlightRecovery | 74 |
HyperfocalDistance | 59.35 m |
ICCProfileName | sRGB IEC61966-2.1 |
ImageHeight (1) | 4462 |
ImageHeight | 800 |
ImageNumber | 50030 |
ImageSize | 533x800 |
ImageWidth (1) | 2974 |
ImageWidth | 533 |
ISO | 320 |
Lens | 50.0 mm |
LensID (1) | 169 |
LensID | Sigma 50mm f/1.4 EX DG HSM |
LensInfo | 50mm f/? |
LensManualDistortionAmount | 0 |
LensModel | 50.0 mm |
LensProfileEnable | 0 |
LensProfileSetup | LensDefaults |
LightValue | 7.3 |
LuminanceNoiseReductionContrast | 0 |
LuminanceNoiseReductionDetail | 50 |
LuminanceSmoothing | 23 |
Make | Canon |
Marked | True |
MaxApertureValue | 1.4 |
Megapixels | 0.426 |
MeteringMode | Multi-segment |
Model | Canon EOS-1Ds Mark II |
ModifyDate (1) | 2011:12:16 11:46:05+01:00 |
ModifyDate | 2011:12:16 11:46:05 |
Orientation | Horizontal (normal) |
PaintCorrectionActive | true |
PaintCorrectionAmount | 1.000000 |
PaintCorrectionBrightness (1) | -0.244000 |
PaintCorrectionBrightness (2) | 0.049000 |
PaintCorrectionBrightness | 0.000000 |
PaintCorrectionClarity (1) | 0.146000 |
PaintCorrectionClarity (2) | -0.049000 |
PaintCorrectionClarity | 0.000000 |
PaintCorrectionContrast (2) | -0.146000 |
PaintCorrectionContrast | 0.000000 |
PaintCorrectionExposure (1) | -0.439000 |
PaintCorrectionExposure (2) | 0.049000 |
PaintCorrectionExposure | 0.073000 |
PaintCorrectionHue | 240.000000 |
PaintCorrectionMaskCenterWeight | 0.000000 |
PaintCorrectionMaskFlow | 1.000000 |
PaintCorrectionMaskRadius (1) | 0.037614 |
PaintCorrectionMaskRadius (2) | 0.323594 |
PaintCorrectionMaskRadius | 0.056261 |
PaintCorrectionMaskValue | 0.798000 |
PaintCorrectionMaskWhat | Mask/Paint |
PaintCorrectionSaturation | 0.000000 |
PaintCorrectionSharpness | 0.000000 |
PaintCorrectionWhat | Correction |
ParametricDarks | +20 |
ParametricHighlights | -64 |
ParametricHighlightSplit | 75 |
ParametricLights | -33 |
ParametricMidtoneSplit | 50 |
ParametricShadows | 0 |
ParametricShadowSplit | 25 |
PerspectiveHorizontal | 0 |
PerspectiveRotate | 0.0 |
PerspectiveScale | 100 |
PerspectiveVertical | 0 |
PhotometricInterpretation | RGB |
PlanarConfiguration | Chunky |
PostCropVignetteAmount | 0 |
ProcessVersion | 5.7 |
ProfileDescription | sRGB IEC61966-2.1 |
RedHue | 0 |
RedSaturation | -43 |
Rights | Stian Furuseth |
ScaleFactor35efl | 1.0 |
SceneCaptureType | Standard |
SensitivityType | Unknown |
SerialNumber | 335873 |
Shadows | 0 |
ShadowTint | 0 |
SharpenDetail | 18 |
SharpenEdgeMasking | 11 |
SharpenRadius | +1.0 |
Sharpness | 64 |
ShutterSpeed | 1/250 |
ShutterSpeedValue | 1/250 |
Software | Adobe Photoshop CS5 Windows |
SplitToningBalance | 0 |
SplitToningHighlightHue | 0 |
SplitToningHighlightSaturation | 0 |
SplitToningShadowHue | 0 |
SplitToningShadowSaturation | 0 |
Tint | +5 |
ToneCurve | 0, 0, 32, 22, 64, 56, 128, 128, 192, 196, 255, 255 |
ToneCurveName | Medium Contrast |
URL | www.stianfuruseth.no |
URL_List | |
Version | 6.3 |
VignetteAmount | -13 |
VignetteMidpoint | 11 |
WebStatement | www.stianfuruseth.no |
WhiteBalance (1) | As Shot |
WhiteBalance | Manual |