Felt | Verdi |
AlreadyApplied | True |
Aperture | 6.3 |
ApertureValue | 6.3 |
ApproximateFocusDistance | 4294967295 |
BitsPerSample | 8 |
BlackClip | 0.019650 |
BlueHue | 0 |
BlueSaturation | 0 |
Brightness | 0 |
CameraProfile | Embedded |
ChromaticAberrationB | 0 |
ChromaticAberrationR | 0 |
Clarity | 0 |
ColorComponents | 3 |
ColorNoiseReduction | 0 |
ColorSaturation | 100.0 |
ColorTemperature | 0.0 |
Contrast | +25 |
ConvertToGrayscale | False |
CreateDate (1) | 2011:12:17 15:44:47.39 |
CreateDate | 2011:12:17 15:44:47 |
CreatorTool | Adobe Photoshop Lightroom 3.6 (Windows) |
CropAngle | 0 |
CropBottom | 0.816929 |
CropConstrainToWarp | 0 |
CropHeight | 1080 |
CropLeft | 0 |
CropRight | 0.863806 |
CropTop | 0.087833 |
CropUnit | pixels |
CropWidth | 1920 |
DateCreated (1) | 2011:12:17 |
DateCreated | 2011:12:17 15:44:47.39 |
DateTimeOriginal | 2011:12:17 15:44:47 |
Defringe | 0 |
Exposure | 0.00 |
ExposureTime | 1/8 |
FillLight | 0 |
Firmware | 1.1.0 |
FlashCompensation | 0 |
FNumber | 6.3 |
FocalLength | 24.0 mm |
FocalLength35efl | 24.0 mm |
Format | image/jpeg |
Gamma | 0.80 |
GradientBasedCorrActive | true |
GradientBasedCorrAmount | 1.000000 |
GradientBasedCorrBrightness | 0.000000 |
GradientBasedCorrClarity | 0.497720 |
GradientBasedCorrContrast | 0.000000 |
GradientBasedCorrExposure | 0.075000 |
GradientBasedCorrHue | 0.000000 |
GradientBasedCorrMaskFullX | 0.408725 |
GradientBasedCorrMaskFullY | 0.583846 |
GradientBasedCorrMaskValue | 1.000000 |
GradientBasedCorrMaskWhat | Mask/Gradient |
GradientBasedCorrMaskZeroX | 0.408644 |
GradientBasedCorrMaskZeroY | 0.560277 |
GradientBasedCorrSaturation | 0.000000 |
GradientBasedCorrSharpness | 0.497720 |
GradientBasedCorrWhat | Correction |
GrainAmount | 0 |
GreenHue | 0 |
GreenSaturation | 0 |
HasCrop | True |
HasSettings | True |
HighlightRecovery | 0 |
HighlightsSmoothing | 0.0 |
HueAdjustmentAqua | 0 |
HueAdjustmentBlue | 0 |
HueAdjustmentGreen | 0 |
HueAdjustmentMagenta | 0 |
HueAdjustmentOrange | 0 |
HueAdjustmentPurple | 0 |
HueAdjustmentRed | 0 |
HueAdjustmentYellow | 0 |
ImageHeight | 1080 |
ImageNumber | 0 |
ImageSize | 1920x1080 |
ImageWidth | 1920 |
IncrementalTemperature | 0 |
IncrementalTint | 0 |
ISO | 50 |
IsPano360 | No |
Lens | EF24-105mm f/4L IS USM |
LensID | 237 |
LensInfo | 24-105mm f/? |
LensManualDistortionAmount | 0 |
LensModel | EF24-105mm f/4L IS USM |
LensProfileEnable | 1 |
LensProfileSetup | LensDefaults |
LightValue | 9.3 |
LuminanceAdjustmentAqua | 0 |
LuminanceAdjustmentBlue | 0 |
LuminanceAdjustmentGreen | 0 |
LuminanceAdjustmentMagenta | 0 |
LuminanceAdjustmentOrange | 0 |
LuminanceAdjustmentPurple | 0 |
LuminanceAdjustmentRed | 0 |
LuminanceAdjustmentYellow | 0 |
LuminanceSmoothing | 0 |
Luminosity | 10.0 |
Megapixels | 2.1 |
Method | Details Enhancer |
Microcontrast | 10.0 |
Microsmoothing | 0.0 |
Model | Canon EOS 5D Mark II |
ModifyDate (1) | 2011:12:18 20:26:53+01:00 |
ModifyDate | 2011:12:18 20:26:53 |
PaintCorrectionActive | true |
PaintCorrectionAmount | 1.000000 |
PaintCorrectionBrightness | 0.000000 |
PaintCorrectionClarity | 0.000000 |
PaintCorrectionContrast | 0.000000 |
PaintCorrectionExposure | 0.250000 |
PaintCorrectionHue | 0.000000 |
PaintCorrectionMaskCenterWeight | 0.000000 |
PaintCorrectionMaskFlow | 1.000000 |
PaintCorrectionMaskRadius | 0.112980 |
PaintCorrectionMaskValue | 1.000000 |
PaintCorrectionMaskWhat | Mask/Paint |
PaintCorrectionSaturation (1) | -1.000000 |
PaintCorrectionSaturation | 0.000000 |
PaintCorrectionSharpness | 0.000000 |
PaintCorrectionWhat | Correction |
ParametricDarks | 0 |
ParametricHighlights | 0 |
ParametricHighlightSplit | 75 |
ParametricLights | 0 |
ParametricMidtoneSplit | 50 |
ParametricShadows | 0 |
ParametricShadowSplit | 25 |
PerspectiveHorizontal | 0 |
PerspectiveRotate | 0.0 |
PerspectiveScale | 100 |
PerspectiveVertical | 0 |
PostCropVignetteAmount | 0 |
ProcessVersion | 5.7 |
ProfileDescription | sRGB IEC61966-2.1 |
RedHue | 0 |
RedSaturation | 0 |
Saturation | 0 |
SaturationAdjustmentAqua | 0 |
SaturationAdjustmentBlue | 0 |
SaturationAdjustmentGreen | +100 |
SaturationAdjustmentMagenta | 0 |
SaturationAdjustmentOrange | -100 |
SaturationAdjustmentPurple | 0 |
SaturationAdjustmentRed | 0 |
SaturationAdjustmentYellow | 0 |
SaturationHighlights | 10.0 |
SaturationShadows | 10.0 |
SerialNumber | 1230703983 |
Shadows | 14 |
ShadowsClipping | 0.0 |
ShadowsSmoothing | 0.0 |
ShadowTint | 0 |
SharpenDetail | 25 |
SharpenEdgeMasking | 66 |
SharpenRadius | +1.0 |
Sharpness | 50 |
ShutterSpeed | 1/8 |
ShutterSpeedValue | 1/8 |
Smoothing | Low |
SmoothingMode | Light |
Software | Adobe Photoshop Lightroom 3.6 (Windows) |
SplitToningBalance | 0 |
SplitToningHighlightHue | 0 |
SplitToningHighlightSaturation | 0 |
SplitToningShadowHue | 0 |
SplitToningShadowSaturation | 0 |
Strength | 80.0 |
ToneCurve | 0, 0, 32, 22, 64, 56, 128, 128, 192, 196, 255, 255 |
ToneCurveName | Medium Contrast |
Version (1) | 4.1 |
Version | 6.6 |
Vibrance | +100 |
VignetteAmount | 0 |
WhiteBalance | As Shot |
WhiteClip | 1.779350 |