Felt | Verdi |
AlreadyApplied | True |
Aperture | 5.7 |
ApertureValue | 5.7 |
BitsPerSample | 8 |
BlackClip | 0.490350 |
BlueHue | 0 |
BlueSaturation | 0 |
Brightness | 0 |
CameraProfile | Embedded |
ChromaticAberrationB | 0 |
ChromaticAberrationR | 0 |
Clarity | +29 |
ColorComponents | 3 |
ColorNoiseReduction | 0 |
ColorSaturation | 71.0 |
ColorTemperature | -4.8 |
Contrast | 0 |
ConvertToGrayscale | False |
CreatorTool | Adobe Photoshop Lightroom 3.5 (Windows) |
Defringe | 0 |
Exposure | 0.00 |
ExposureTime | 1/400 |
FillLight | 0 |
FNumber | 5.7 |
FocalLength | 14.0 mm |
FocalLength35efl | 14.0 mm |
Gamma | 1.4 |
GrainAmount | 0 |
GreenHue | 0 |
GreenSaturation | 0 |
HasCrop | False |
HasSettings | True |
HighlightRecovery | 17 |
HighlightsSmoothing | 0.0 |
HueAdjustmentAqua | 0 |
HueAdjustmentBlue | 0 |
HueAdjustmentGreen | 0 |
HueAdjustmentMagenta | 0 |
HueAdjustmentOrange | 0 |
HueAdjustmentPurple | 0 |
HueAdjustmentRed | 0 |
HueAdjustmentYellow | 0 |
ImageHeight | 3462 |
ImageSize | 5192x3462 |
ImageWidth | 5192 |
IncrementalTemperature | 0 |
IncrementalTint | 0 |
ISO | 200 |
LensManualDistortionAmount | 0 |
LensProfileEnable | 0 |
LensProfileSetup | LensDefaults |
LightValue | 12.7 |
LuminanceAdjustmentAqua | 0 |
LuminanceAdjustmentBlue | 0 |
LuminanceAdjustmentGreen | 0 |
LuminanceAdjustmentMagenta | 0 |
LuminanceAdjustmentOrange | 0 |
LuminanceAdjustmentPurple | 0 |
LuminanceAdjustmentRed | 0 |
LuminanceAdjustmentYellow | 0 |
LuminanceNoiseReductionContrast | 0 |
LuminanceNoiseReductionDetail | 50 |
LuminanceSmoothing | 55 |
Luminosity | -5.5 |
Megapixels | 18.0 |
Method | Details Enhancer |
Microcontrast | -7.8 |
Microsmoothing | 6.5 |
ModifyDate (1) | 2011:10:19 10:49:58+02:00 |
ModifyDate | 2011:10:19 10:49:58 |
ParametricDarks | 0 |
ParametricHighlights | +22 |
ParametricHighlightSplit | 75 |
ParametricLights | +14 |
ParametricMidtoneSplit | 50 |
ParametricShadows | 0 |
ParametricShadowSplit | 25 |
PerspectiveHorizontal | 0 |
PerspectiveRotate | 0.0 |
PerspectiveScale | 100 |
PerspectiveVertical | 0 |
PostCropVignetteAmount | 0 |
ProcessVersion | 5.7 |
ProfileDescription | sRGB IEC61966-2.1 |
Rating | 3 |
RedHue | 0 |
RedSaturation | 0 |
Saturation | 0 |
SaturationAdjustmentAqua | 0 |
SaturationAdjustmentBlue | 0 |
SaturationAdjustmentGreen | 0 |
SaturationAdjustmentMagenta | 0 |
SaturationAdjustmentOrange | 0 |
SaturationAdjustmentPurple | 0 |
SaturationAdjustmentRed | 0 |
SaturationAdjustmentYellow | 0 |
SaturationHighlights | 0.1 |
SaturationShadows | -4.0 |
Shadows | 0 |
ShadowsClipping | 0.0 |
ShadowsSmoothing | 19.0 |
ShadowTint | 0 |
SharpenDetail | 25 |
SharpenEdgeMasking | 0 |
SharpenRadius | +1.0 |
Sharpness | 0 |
ShutterSpeed | 1/400 |
ShutterSpeedValue | 1/400 |
Smoothing | Medium |
SmoothingMode | Light |
Software | Adobe Photoshop Lightroom 3.5 (Windows) |
SplitToningBalance | 0 |
SplitToningHighlightHue | 0 |
SplitToningHighlightSaturation | 0 |
SplitToningShadowHue | 0 |
SplitToningShadowSaturation | 0 |
Strength | 65.0 |
ToneCurve | 0, 0, 255, 255 |
ToneCurveName | Linear |
Version (1) | 4.0 |
Version | 6.5 |
Vibrance | 0 |
VignetteAmount | 0 |
WhiteBalance | As Shot |
WhiteClip | 0.424700 |