Felt | Verdi |
AlreadyApplied | True |
Aperture | 22.0 |
ApertureValue | 22.0 |
ApproximateFocusDistance | 1.26 |
BitsPerSample | 8 |
BlueHue | -75 |
BlueSaturation | -64 |
Brightness | +50 |
CameraProfile | Embedded |
CFAPattern | [Green,Blue][Red,Green] |
ChromaticAberrationB | 0 |
ChromaticAberrationR | -100 |
CircleOfConfusion | 0.020 mm |
Clarity | +15 |
ColorComponents | 1 |
ColorNoiseReduction | 0 |
Contrast (2) | +15 |
Contrast | Normal |
ConvertToGrayscale | True |
CreateDate (1) | 2011:10:01 10:26:15.40-07:00 |
CreateDate | 2011:10:01 10:26:15 |
CreatorTool | Adobe Photoshop Lightroom |
CropAngle | 1.74344 |
CropBottom | 1 |
CropConstrainToWarp | 0 |
CropHeight | 2480 |
CropLeft | 0.026904 |
CropRight | 0.963922 |
CropTop | 0 |
CropUnit | pixels |
CropWidth | 3706 |
CustomRendered | Normal |
DateTimeDigitized | 2011:10:01 10:26:15.40-07:00 |
DateTimeOriginal (1) | 2011:10:01 10:26:15.40-07:00 |
DateTimeOriginal | 2011:10:01 10:26:15 |
Defringe | 0 |
DigitalZoomRatio | 1 |
DOF | inf (0.47 m - inf) |
ExifImageHeight | 2480 |
ExifImageWidth | 3706 |
Exposure | -0.41 |
ExposureCompensation | 0 |
ExposureMode | Manual |
ExposureProgram | Manual |
ExposureTime | 1/60 |
FillLight | 67 |
Flash | No Flash |
FlashFired | False |
FlashFunction | False |
FlashMode | Unknown |
FlashRedEyeMode | False |
FlashReturn | No return detection |
FNumber | 22.0 |
FocalLength | 18.0 mm |
FocalLength35efl | 18.0 mm (35 mm equivalent: 27.0 mm) |
FocalLengthIn35mmFormat | 27 mm |
FOV | 67.4 deg |
GainControl | None |
GrainAmount | 0 |
GrayMixerAqua | -12 |
GrayMixerBlue | +32 |
GrayMixerGreen | -33 |
GrayMixerMagenta | +10 |
GrayMixerOrange | -27 |
GrayMixerPurple | +33 |
GrayMixerRed | -14 |
GrayMixerYellow | -32 |
GreenHue | -85 |
GreenSaturation | 0 |
HasCrop | True |
HasSettings | True |
HighlightRecovery | 0 |
HyperfocalDistance | 0.74 m |
ImageHeight | 2480 |
ImageNumber | 5614 |
ImageSize | 3706x2480 |
ImageWidth | 3706 |
IncrementalTemperature | -30 |
IncrementalTint | +51 |
ISO | 200 |
Lens | 18.0-55.0 mm f/3.5-5.6 |
LensID (1) | 148 |
LensID | AF-S DX Zoom-Nikkor 18-55mm f/3.5-5.6G ED II |
LensInfo | 18-55mm f/3.5-5.6 |
LensManualDistortionAmount | 0 |
LensModel | 18.0-55.0 mm f/3.5-5.6 |
LensProfileEnable | 0 |
LensProfileSetup | LensDefaults |
LightSource | Unknown |
LightValue | 13.8 |
LuminanceNoiseReductionContrast | 0 |
LuminanceNoiseReductionDetail | 50 |
LuminanceSmoothing | 68 |
Make | NIKON CORPORATION |
MaxApertureValue | 3.5 |
Megapixels | 9.2 |
MeteringMode | Multi-segment |
Model | NIKON D60 |
ModifyDate (1) | 2011:10:01 07:49:35-07:00 |
ModifyDate | 2011:10:01 07:49:35 |
ParametricDarks | -20 |
ParametricHighlights | +10 |
ParametricHighlightSplit | 75 |
ParametricLights | -22 |
ParametricMidtoneSplit | 50 |
ParametricShadows | +10 |
ParametricShadowSplit | 25 |
PerspectiveHorizontal | 0 |
PerspectiveRotate | 0.0 |
PerspectiveScale | 100 |
PerspectiveVertical | 0 |
PostCropVignetteAmount | 0 |
ProcessVersion | 5.7 |
ProfileDescription | sRGB IEC61966-2.1 |
RedHue | +22 |
RedSaturation | -91 |
Saturation | Normal |
ScaleFactor35efl | 1.5 |
SceneCaptureType | Standard |
SceneType | Directly photographed |
SensingMethod | One-chip color area |
SensitivityType | Unknown |
SerialNumber | 6464350 |
Shadows | 18 |
ShadowTint | -39 |
SharpenDetail | 25 |
SharpenEdgeMasking | 0 |
SharpenRadius | +1.0 |
Sharpness (2) | 27 |
Sharpness | Normal |
ShutterSpeed | 1/60 |
ShutterSpeedValue | 1/60 |
Software | Ver.1.01 |
SplitToningBalance | 0 |
SplitToningHighlightHue | 0 |
SplitToningHighlightSaturation | 0 |
SplitToningShadowHue | 0 |
SplitToningShadowSaturation | 0 |
SubjectDistance | 1.26 m |
SubjectDistanceRange | Unknown |
ToneCurve | 0, 0, 32, 22, 64, 56, 136, 128, 192, 196, 255, 255 |
ToneCurveName | Custom |
Version | 6.2 |
VignetteAmount | -75 |
VignetteMidpoint | 25 |
WhiteBalance (2) | Custom |
WhiteBalance | Auto |