Felt | Verdi |
AlreadyApplied | True |
Aperture | 9.0 |
ApertureValue | 9.0 |
BitsPerSample (1) | 8 8 8 8 |
BitsPerSample | 8 |
BlueHue | 0 |
BlueSaturation | 0 |
Brightness | +50 |
CameraProfile | Adobe Standard |
ChromaticAberrationB | 0 |
ChromaticAberrationR | 0 |
CircleOfConfusion | 0.019 mm |
Clarity | 0 |
ColorComponents | 3 |
ColorMode | RGB |
ColorNoiseReduction | 25 |
ColorNoiseReductionDetail | 50 |
ColorSpace | sRGB |
ColorTemperature | 5550 |
Contrast | +48 |
ConvertToGrayscale | True |
CreateDate (1) | 2009:06:24 20:21:48.02+02:00 |
CreateDate | 2009:06:24 20:21:48 |
CreatorTool | Adobe Photoshop CS5 Windows |
CropAngle | -1.254679 |
CropBottom | 0.843186 |
CropLeft | 0.003882 |
CropRight | 0.994549 |
CropTop | 0.037999 |
CustomRendered | Normal |
DateCreated (1) | 2009:06:24 |
DateCreated | 2009:06:24 20:21:48.002 |
DateTimeOriginal | 2009:06:24 20:21:48 |
Defringe | 0 |
DOF | inf (2.45 m - inf) |
ExifImageHeight | 768 |
ExifImageWidth | 995 |
Exposure | +0.60 |
ExposureCompensation | 0 |
ExposureMode | Auto |
ExposureProgram | Aperture-priority AE |
ExposureTime | 1/1000 |
FillLight | 65 |
Firmware | 1.0.4 |
Flash | Off, Did not fire |
FlashCompensation | 0 |
FNumber | 9.0 |
FocalLength | 24.0 mm |
FocalLength35efl | 24.0 mm (35 mm equivalent: 38.8 mm) |
Format | image/jpeg |
FOV | 49.8 deg |
GradientBasedCorrActive | true |
GradientBasedCorrAmount | 1.000000 |
GradientBasedCorrBrightness | 0.000000 |
GradientBasedCorrClarity | 0.160000 |
GradientBasedCorrContrast | 0.640000 |
GradientBasedCorrExposure | -0.050000 |
GradientBasedCorrHue | 241.000000 |
GradientBasedCorrMaskFullX | 0.400679 |
GradientBasedCorrMaskFullY | 0.023555 |
GradientBasedCorrMaskValue | 1.000000 |
GradientBasedCorrMaskWhat | Mask/Gradient |
GradientBasedCorrMaskZeroX | 0.403864 |
GradientBasedCorrMaskZeroY | 0.241683 |
GradientBasedCorrSaturation (1) | -1.000000 |
GradientBasedCorrSaturation | 0.000000 |
GradientBasedCorrSharpness | 0.350000 |
GradientBasedCorrWhat | Correction |
GrainAmount | 0 |
GrayMixerAqua | 0 |
GrayMixerBlue | 0 |
GrayMixerGreen | 0 |
GrayMixerMagenta | 0 |
GrayMixerOrange | 0 |
GrayMixerPurple | 0 |
GrayMixerRed | -3 |
GrayMixerYellow | 0 |
GreenHue | 0 |
GreenSaturation | 0 |
HasCrop | True |
HasSettings | True |
HighlightRecovery | 0 |
HyperfocalDistance | 3.44 m |
ICCProfileName | sRGB IEC61966-2.1 |
ImageHeight | 768 |
ImageNumber | 0 |
ImageSize | 995x768 |
ImageWidth (1) | 1024 |
ImageWidth | 995 |
ISO | 400 |
Lens | 18-200mm |
LensID (1) | 169 |
LensID | Sigma 18-200mm f/3.5-6.3 DC OS |
LensInfo | 18-200mm f/? |
LightValue | 14.3 |
LuminanceNoiseReductionContrast | 0 |
LuminanceNoiseReductionDetail | 50 |
LuminanceSmoothing | 25 |
Make | Canon |
MaxApertureValue | 4.0 |
Megapixels | 0.764 |
MeteringMode | Multi-segment |
Model | Canon EOS 450D |
ModifyDate (1) | 2011:09:11 15:22:39+02:00 |
ModifyDate | 2011:09:11 15:22:39 |
Orientation | Horizontal (normal) |
PaintCorrectionActive | true |
PaintCorrectionAmount | 1.000000 |
PaintCorrectionBrightness | 0.000000 |
PaintCorrectionClarity | 0.160000 |
PaintCorrectionContrast | 0.640000 |
PaintCorrectionExposure (1) | -0.337500 |
PaintCorrectionExposure (2) | -0.087500 |
PaintCorrectionExposure | -0.100000 |
PaintCorrectionHue | 241.000000 |
PaintCorrectionMaskCenterWeight (4) | 0.028829 |
PaintCorrectionMaskCenterWeight | 0.092037 |
PaintCorrectionMaskFlow | 0.739217 |
PaintCorrectionMaskRadius (2) | 0.152796 |
PaintCorrectionMaskRadius (3) | 0.541687 |
PaintCorrectionMaskRadius (5) | 0.274324 |
PaintCorrectionMaskRadius | 0.088143 |
PaintCorrectionMaskValue | 0.830000 |
PaintCorrectionMaskWhat | Mask/Paint |
PaintCorrectionSaturation (1) | -1.000000 |
PaintCorrectionSaturation | 0.000000 |
PaintCorrectionSharpness | 0.350000 |
PaintCorrectionWhat | Correction |
ParametricDarks | 0 |
ParametricHighlights | 0 |
ParametricHighlightSplit | 75 |
ParametricLights | 0 |
ParametricMidtoneSplit | 50 |
ParametricShadows | 0 |
ParametricShadowSplit | 25 |
PhotometricInterpretation | BlackIsZero |
PostCropVignetteAmount | 0 |
ProcessVersion | 5.7 |
ProfileDescription | sRGB IEC61966-2.1 |
Rating | 0 |
RawFileName | _MG_6679.CR2 |
RedHue | 0 |
RedSaturation | 0 |
ScaleFactor35efl | 1.6 |
SceneCaptureType | Standard |
SerialNumber | 680124588 |
Shadows | 4 |
ShadowTint | 0 |
SharpenDetail | 25 |
SharpenEdgeMasking | 0 |
SharpenRadius | +1.0 |
Sharpness | 25 |
ShutterSpeed | 1/1000 |
ShutterSpeedValue | 1/1000 |
Software | Adobe Photoshop CS5 Windows |
SplitToningBalance | 0 |
SplitToningHighlightHue | 0 |
SplitToningHighlightSaturation | 0 |
SplitToningShadowHue | 0 |
SplitToningShadowSaturation | 0 |
SubjectDistance | 8.47 m |
Tint | +12 |
ToneCurve | 0, 0, 32, 22, 70, 52, 128, 128, 207, 208, 255, 255 |
ToneCurveName | Custom |
URL_List | |
Version | 6.0 |
VignetteAmount | 0 |
WhiteBalance (1) | As Shot |
WhiteBalance | Auto |