Felt | Verdi |
AlreadyApplied | True |
Aperture | 2.8 |
ApertureValue | 2.8 |
BitsPerSample | 8 |
BlackClip | 0.010000 |
BlueHue | 0 |
BlueSaturation | 0 |
Brightness | +1 |
CameraProfile | Embedded |
ChromaticAberrationB | 0 |
ChromaticAberrationR | 0 |
Clarity | +87 |
ColorComponents | 3 |
ColorNoiseReduction | 0 |
ColorSaturation | 50.0 |
ColorTemperature | 0.0 |
Contrast | +21 |
ConvertToGrayscale | False |
CreateDate | 2011:09:06 18:17:12 |
CreatorTool | Adobe Photoshop Lightroom |
DateTimeDigitized | 2011:09:06 18:17:12.00+02:00 |
DateTimeOriginal (1) | 2011:09:06 18:17:12.00+02:00 |
DateTimeOriginal | 2011:09:06 18:17:12 |
Defringe | 0 |
ExifImageHeight | 2850 |
ExifImageWidth | 4305 |
Exposure | 0.00 |
ExposureTime | 1/25 |
FillLight | 6 |
FNumber | 2.8 |
FocalLength | 12.0 mm |
FocalLength35efl | 12.0 mm |
Gamma | 1.0 |
GrainAmount | 0 |
GreenHue | 0 |
GreenSaturation | 0 |
HasCrop | False |
HasSettings | True |
HighlightRecovery | 25 |
HighlightsSmoothing | 0.0 |
HueAdjustmentAqua | 0 |
HueAdjustmentBlue | 0 |
HueAdjustmentGreen | 0 |
HueAdjustmentMagenta | 0 |
HueAdjustmentOrange | 0 |
HueAdjustmentPurple | 0 |
HueAdjustmentRed | 0 |
HueAdjustmentYellow | 0 |
ImageHeight | 2850 |
ImageSize | 4305x2850 |
ImageWidth | 4305 |
IncrementalTemperature | -3 |
IncrementalTint | +2 |
ISO | 200 |
LensManualDistortionAmount | 0 |
LensProfileEnable | 0 |
LensProfileSetup | LensDefaults |
LightValue | 6.6 |
LuminanceAdjustmentAqua | 0 |
LuminanceAdjustmentBlue | 0 |
LuminanceAdjustmentGreen | 0 |
LuminanceAdjustmentMagenta | 0 |
LuminanceAdjustmentOrange | 0 |
LuminanceAdjustmentPurple | 0 |
LuminanceAdjustmentRed | 0 |
LuminanceAdjustmentYellow | 0 |
LuminanceNoiseReductionContrast | 0 |
LuminanceNoiseReductionDetail | 50 |
LuminanceSmoothing | 23 |
Luminosity | 6.0 |
Megapixels | 12.3 |
Method | Details Enhancer |
Microcontrast | 6.0 |
Microsmoothing | 3.0 |
ModifyDate (1) | 2011:09:06 19:16:50+02:00 |
ModifyDate | 2011:09:06 19:16:50 |
ParametricDarks | -5 |
ParametricHighlights | +15 |
ParametricHighlightSplit | 75 |
ParametricLights | 0 |
ParametricMidtoneSplit | 50 |
ParametricShadows | -8 |
ParametricShadowSplit | 25 |
PerspectiveHorizontal | 0 |
PerspectiveRotate | 0.0 |
PerspectiveScale | 100 |
PerspectiveVertical | 0 |
PostCropVignetteAmount | 0 |
ProcessVersion | 5.7 |
ProfileDescription | sRGB IEC61966-2.1 |
RedHue | 0 |
RedSaturation | 0 |
Saturation | 0 |
SaturationAdjustmentAqua | -100 |
SaturationAdjustmentBlue | +4 |
SaturationAdjustmentGreen | 0 |
SaturationAdjustmentMagenta | -100 |
SaturationAdjustmentOrange | 0 |
SaturationAdjustmentPurple | -100 |
SaturationAdjustmentRed | 0 |
SaturationAdjustmentYellow | -35 |
SaturationHighlights | 0.0 |
SaturationShadows | 0.0 |
Shadows | 1 |
ShadowsClipping | 0.0 |
ShadowsSmoothing | 0.0 |
ShadowTint | 0 |
SharpenDetail | 25 |
SharpenEdgeMasking | 0 |
SharpenRadius | +1.0 |
Sharpness | 13 |
ShutterSpeed | 1/25 |
ShutterSpeedValue | 1/25 |
Smoothing | Medium |
SmoothingMode | Light |
SplitToningBalance | 0 |
SplitToningHighlightHue | 0 |
SplitToningHighlightSaturation | 0 |
SplitToningShadowHue | 0 |
SplitToningShadowSaturation | 0 |
Strength | 100.0 |
ToneCurve | 0, 0, 255, 255 |
ToneCurveName | Linear |
Version (1) | 3.2 |
Version | 6.1 |
Vibrance | +19 |
VignetteAmount | 0 |
WhiteBalance | Custom |
WhiteClip | 0.500000 |