Felt | Verdi |
AlreadyApplied | True |
Aperture | 5.0 |
ApertureValue | 5.0 |
BitsPerSample (1) | 8, 8, 8 |
BitsPerSample | 8 |
BlueHue | 0 |
BlueSaturation | 0 |
Brightness | +50 |
CameraProfile | Adobe Standard |
ChromaticAberrationB | 0 |
ChromaticAberrationR | 0 |
CircleOfConfusion | 0.031 mm |
Clarity | +27 |
ColorComponents | 3 |
ColorMode | RGB |
ColorNoiseReduction | 25 |
ColorSpace | Uncalibrated |
ColorTemperature | 5100 |
Contrast | +25 |
ConvertToGrayscale | False |
CreateDate (1) | 2011:08:18 12:17:44.91+01:00 |
CreateDate | 2011:08:18 12:17:44 |
CropAngle | 0 |
CropBottom | 1 |
CropLeft | 0.286624 |
CropRight | 0.938854 |
CropTop | 0.087954 |
CustomRendered | Normal |
DateTimeDigitized | 2011:08:18 12:17:44.91+01:00 |
DateTimeOriginal (1) | 2011:08:18 12:17:44.91+01:00 |
DateTimeOriginal | 2011:08:18 12:17:44 |
Defringe | 0 |
DOF | 0.03 m (2.08 - 2.12 m) |
ExifImageHeight | 3415 |
ExifImageWidth | 3663 |
Exposure | -0.70 |
ExposureCompensation | 0 |
ExposureMode | Manual |
ExposureProgram | Manual |
ExposureTime | 1/80 |
FillLight | 0 |
Firmware | 2.0.4 |
Flash | Off, Did not fire |
FlashCompensation | 0 |
FlashFired | False |
FlashFunction | False |
FlashMode | Off |
FlashRedEyeMode | False |
FlashReturn | No return detection |
FNumber | 5.0 |
FocalLength | 188.0 mm |
FocalLength35efl | 188.0 mm (35 mm equivalent: 183.5 mm) |
Format | image/jpeg |
FOV | 11.2 deg |
GrainAmount | 0 |
GreenHue | 0 |
GreenSaturation | 0 |
HasCrop | True |
HasSettings | True |
HighlightRecovery | 0 |
HueAdjustmentAqua | 0 |
HueAdjustmentBlue | 0 |
HueAdjustmentGreen | 0 |
HueAdjustmentMagenta | 0 |
HueAdjustmentOrange | -22 |
HueAdjustmentPurple | 0 |
HueAdjustmentRed | +20 |
HueAdjustmentYellow | 0 |
HyperfocalDistance | 229.60 m |
ICCProfileName | Adobe RGB (1998) |
ImageHeight | 3415 |
ImageNumber | 0 |
ImageSize | 3663x3415 |
ImageWidth | 3663 |
ISO | 160 |
Lens | EF70-200mm f/4L USM |
LensID (1) | 186 |
LensID | Canon EF 70-200mm f/4L USM |
LensInfo | 70-200mm f/? |
LightValue | 10.3 |
LuminanceAdjustmentAqua | 0 |
LuminanceAdjustmentBlue | 0 |
LuminanceAdjustmentGreen | 0 |
LuminanceAdjustmentMagenta | 0 |
LuminanceAdjustmentOrange | 0 |
LuminanceAdjustmentPurple | 0 |
LuminanceAdjustmentRed | 0 |
LuminanceAdjustmentYellow | 0 |
LuminanceSmoothing | 0 |
Make | Canon |
MaxApertureValue | 4.0 |
Megapixels | 12.5 |
MeteringMode | Center-weighted average |
Model | Canon EOS 5D Mark II |
ModifyDate (1) | 2011:08:18 17:25:38+01:00 |
ModifyDate | 2011:08:18 17:25:38 |
Orientation | Horizontal (normal) |
PaintCorrectionActive | true |
PaintCorrectionAmount | 1.000000 |
PaintCorrectionBrightness (1) | -0.255000 |
PaintCorrectionBrightness (3) | -0.145000 |
PaintCorrectionBrightness | 0.075000 |
PaintCorrectionClarity | 0.000000 |
PaintCorrectionContrast (1) | 0.060000 |
PaintCorrectionContrast | 0.040000 |
PaintCorrectionExposure (1) | 0.000000 |
PaintCorrectionExposure (2) | 0.287500 |
PaintCorrectionExposure | -0.050000 |
PaintCorrectionHue | 0.000000 |
PaintCorrectionMaskCenterWeight (2) | 0.046388 |
PaintCorrectionMaskCenterWeight (3) | 0.052200 |
PaintCorrectionMaskCenterWeight | 0.035858 |
PaintCorrectionMaskFlow | 0.896552 |
PaintCorrectionMaskRadius (2) | 0.484982 |
PaintCorrectionMaskRadius (3) | 0.477585 |
PaintCorrectionMaskRadius (5) | 0.055066 |
PaintCorrectionMaskRadius (6) | 0.546165 |
PaintCorrectionMaskRadius | 0.062987 |
PaintCorrectionMaskValue | 1.000000 |
PaintCorrectionMaskWhat | Mask/Paint |
PaintCorrectionSaturation (5) | -0.020000 |
PaintCorrectionSaturation | 0.000000 |
PaintCorrectionSharpness | 0.000000 |
PaintCorrectionWhat | Correction |
ParametricDarks | 0 |
ParametricHighlights | 0 |
ParametricHighlightSplit | 75 |
ParametricLights | 0 |
ParametricMidtoneSplit | 50 |
ParametricShadows | 0 |
ParametricShadowSplit | 25 |
PhotometricInterpretation | RGB |
PlanarConfiguration | Chunky |
PostCropVignetteAmount | -56 |
PostCropVignetteFeather | 66 |
PostCropVignetteMidpoint | 18 |
PostCropVignetteRoundness | 0 |
PostCropVignetteStyle | 3 |
ProcessVersion | 5.0 |
ProfileDescription | Adobe RGB (1998) |
Rating | 0 |
RawFileName | 039.CR2 |
RedHue | 0 |
RedSaturation | 0 |
SamplesPerPixel | 3 |
Saturation | -100 |
SaturationAdjustmentAqua | 0 |
SaturationAdjustmentBlue | 0 |
SaturationAdjustmentGreen | 0 |
SaturationAdjustmentMagenta | 0 |
SaturationAdjustmentOrange | 0 |
SaturationAdjustmentPurple | 0 |
SaturationAdjustmentRed | +24 |
SaturationAdjustmentYellow | 0 |
ScaleFactor35efl | 1.0 |
SceneCaptureType | Standard |
SerialNumber | 1430808096 |
Shadows | 3 |
ShadowTint | 0 |
SharpenDetail | 25 |
SharpenEdgeMasking | 0 |
SharpenRadius | +1.0 |
Sharpness | 25 |
ShutterSpeed | 1/80 |
ShutterSpeedValue | 1/80 |
SidecarForExtension | CR2 |
Software | Adobe Photoshop CS4 Windows |
SplitToningBalance | 0 |
SplitToningHighlightHue | 15 |
SplitToningHighlightSaturation | 18 |
SplitToningShadowHue | 228 |
SplitToningShadowSaturation | 7 |
SubjectDistance | 2.1 m |
Tint | -19 |
ToneCurve | 0, 0, 27, 14, 64, 56, 128, 128, 177, 174, 208, 204, 232, 232, 248, 245, 255, 255 |
ToneCurveName | Custom |
URL_List | |
Version | 5.7 |
Vibrance | 0 |
VignetteAmount | -39 |
VignetteMidpoint | 50 |
WhiteBalance (2) | Custom |
WhiteBalance | Manual |