Felt | Verdi |
AlreadyApplied | True |
Aperture | 3.3 |
ApertureValue | 3.3 |
ApproximateFocusDistance | 0.35 |
BitsPerSample | 8 |
BlueHue | 0 |
BlueSaturation | 0 |
Brightness | +73 |
CameraProfile | Adobe Standard |
CFAPattern | [Green,Blue][Red,Green] |
ChromaticAberrationB | 0 |
ChromaticAberrationR | 0 |
CircleOfConfusion | 0.020 mm |
Clarity | +18 |
ColorComponents | 3 |
ColorNoiseReduction | 25 |
ColorNoiseReductionDetail | 50 |
ColorTemperature | 6667 |
Contrast (1) | +52 |
Contrast | Normal |
ConvertToGrayscale | False |
CreateDate (1) | 2011:07:31 08:46:32.70 |
CreateDate | 2011:07:31 08:46:32 |
CreatorTool | Adobe Photoshop Lightroom 3.4.1 |
CustomRendered | Normal |
DateCreated (1) | 2011:07:31 |
DateCreated | 2011:07:31 08:46:32.70 |
DateTimeOriginal | 2011:07:31 08:46:32 |
Defringe | 0 |
DigitalZoomRatio | 1 |
DOF | 0.004 m (0.348 - 0.352 m) |
Exposure | 0.00 |
ExposureCompensation | 0 |
ExposureMode | Manual |
ExposureProgram | Manual |
ExposureTime | 1/500 |
FillLight | 0 |
Flash | No Flash |
FNumber | 3.3 |
FocalLength | 60.0 mm |
FocalLength35efl | 60.0 mm (35 mm equivalent: 90.0 mm) |
FocalLengthIn35mmFormat | 90 mm |
FOV | 22.6 deg |
GainControl | Low gain up |
GrainAmount | 0 |
GreenHue | 0 |
GreenSaturation | 0 |
HasCrop | False |
HasSettings | True |
HighlightRecovery | 0 |
HueAdjustmentAqua | 0 |
HueAdjustmentBlue | 0 |
HueAdjustmentGreen | 0 |
HueAdjustmentMagenta | 0 |
HueAdjustmentOrange | 0 |
HueAdjustmentPurple | 0 |
HueAdjustmentRed | 0 |
HueAdjustmentYellow | 0 |
HyperfocalDistance | 54.46 m |
ImageHeight | 402 |
ImageNumber | 12757 |
ImageSize | 600x402 |
ImageWidth | 600 |
ISO | 400 |
Lens | 60.0 mm f/2.8 |
LensID (1) | 49 |
LensID | AF Micro-Nikkor 60mm f/2.8D |
LensInfo | 60mm f/2.8 |
LensManualDistortionAmount | 0 |
LensModel | 60.0 mm f/2.8 |
LensProfileEnable | 0 |
LensProfileSetup | LensDefaults |
LightSource | Unknown |
LightValue | 10.4 |
LuminanceAdjustmentAqua | 0 |
LuminanceAdjustmentBlue | +18 |
LuminanceAdjustmentGreen | 0 |
LuminanceAdjustmentMagenta | 0 |
LuminanceAdjustmentOrange | 0 |
LuminanceAdjustmentPurple | 0 |
LuminanceAdjustmentRed | 0 |
LuminanceAdjustmentYellow | +18 |
LuminanceSmoothing | 0 |
Make | NIKON CORPORATION |
MaxApertureValue | 3.2 |
Megapixels | 0.241 |
MeteringMode | Multi-segment |
Model | NIKON D80 |
ModifyDate (1) | 2011:08:04 22:34:34+02:00 |
ModifyDate | 2011:08:04 22:34:34 |
PaintCorrectionActive | true |
PaintCorrectionAmount | 1.000000 |
PaintCorrectionBrightness | 0.000000 |
PaintCorrectionClarity (1) | 0.655172 |
PaintCorrectionClarity (2) | 0.287356 |
PaintCorrectionClarity | 0.000000 |
PaintCorrectionContrast | 0.000000 |
PaintCorrectionExposure (1) | 0.172414 |
PaintCorrectionExposure (3) | -0.903333 |
PaintCorrectionExposure | -0.417127 |
PaintCorrectionHue (3) | 221.000000 |
PaintCorrectionHue | 240.000000 |
PaintCorrectionMaskCenterWeight | 0.000000 |
PaintCorrectionMaskFlow | 1.000000 |
PaintCorrectionMaskRadius (1) | 0.377805 |
PaintCorrectionMaskRadius (2) | 0.066545 |
PaintCorrectionMaskRadius (21) | 0.006395 |
PaintCorrectionMaskRadius (3) | 0.012568 |
PaintCorrectionMaskRadius | 0.003475 |
PaintCorrectionMaskValue (15) | 0.000000 |
PaintCorrectionMaskValue | 0.413793 |
PaintCorrectionMaskWhat | Mask/Paint |
PaintCorrectionSaturation (3) | 0.701149 |
PaintCorrectionSaturation | 0.000000 |
PaintCorrectionSharpness (2) | 0.563218 |
PaintCorrectionSharpness | 0.000000 |
PaintCorrectionWhat | Correction |
ParametricDarks | 0 |
ParametricHighlights | 0 |
ParametricHighlightSplit | 75 |
ParametricLights | 0 |
ParametricMidtoneSplit | 50 |
ParametricShadows | 0 |
ParametricShadowSplit | 25 |
PerspectiveHorizontal | 0 |
PerspectiveRotate | 0.0 |
PerspectiveScale | 100 |
PerspectiveVertical | 0 |
PostCropVignetteAmount | 0 |
ProcessVersion | 5.7 |
ProfileDescription | sRGB IEC61966-2.1 |
RedHue | 0 |
RedSaturation | 0 |
Saturation (1) | +9 |
Saturation | Normal |
SaturationAdjustmentAqua | 0 |
SaturationAdjustmentBlue | -100 |
SaturationAdjustmentGreen | 0 |
SaturationAdjustmentMagenta | 0 |
SaturationAdjustmentOrange | +27 |
SaturationAdjustmentPurple | 0 |
SaturationAdjustmentRed | 0 |
SaturationAdjustmentYellow | +100 |
ScaleFactor35efl | 1.5 |
SceneCaptureType | Standard |
SceneType | Directly photographed |
SensingMethod | One-chip color area |
SerialNumber | 4435988 |
Shadows | 30 |
ShadowTint | 0 |
SharpenDetail | 25 |
SharpenEdgeMasking | 0 |
SharpenRadius | +1.2 |
Sharpness (1) | 90 |
Sharpness | Normal |
ShutterSpeed | 1/500 |
ShutterSpeedValue | 1/500 |
Software | Adobe Photoshop Lightroom 3.4.1 |
SplitToningBalance | 0 |
SplitToningHighlightHue | 0 |
SplitToningHighlightSaturation | 0 |
SplitToningShadowHue | 0 |
SplitToningShadowSaturation | 0 |
SubjectDistance | 0.35 m |
SubjectDistanceRange | Unknown |
Tint | +1 |
ToneCurve | 0, 0, 32, 22, 64, 56, 128, 128, 192, 196, 255, 255 |
ToneCurveName | Medium Contrast |
Version | 6.4.1 |
Vibrance | +40 |
VignetteAmount | 0 |
WhiteBalance (1) | Custom |
WhiteBalance | Auto |