Felt | Verdi |
AlreadyApplied | True |
Aperture | 6.3 |
ApertureValue | 6.3 |
BitsPerSample (1) | 8 8 8 |
BitsPerSample | 8 |
BlueHue | 0 |
BlueSaturation | -52 |
Brightness | +50 |
CameraProfile | Adobe Standard |
ChromaticAberrationB | 0 |
ChromaticAberrationR | 0 |
CircleOfConfusion | 0.030 mm |
Clarity | +1 |
ColorComponents | 3 |
ColorMode | RGB |
ColorNoiseReduction | 25 |
ColorNoiseReductionDetail | 50 |
ColorSpace | sRGB |
ColorTemperature | 3379 |
Contrast | +25 |
ConvertToGrayscale | False |
CreateDate (1) | 2011:05:29 20:48:56+02:00 |
CreateDate | 2011:05:29 20:48:56 |
CreatorTool | Adobe Photoshop CS5 Windows |
CustomRendered | Normal |
DateCreated (1) | 2011:05:29 |
DateCreated | 2011:05:29 20:48:56 |
DateTimeOriginal | 2011:05:29 20:48:56 |
Defringe | 0 |
ExifImageHeight | 533 |
ExifImageWidth | 800 |
Exposure | 0.00 |
ExposureCompensation | 0 |
ExposureMode | Manual |
ExposureProgram | Manual |
ExposureTime | 1/2000 |
FillLight | 31 |
Firmware | 1.1.6 |
Flash | Off, Did not fire |
FlashCompensation | 0 |
FNumber | 6.3 |
FocalLength | 18.0 mm |
FocalLength35efl | 18.0 mm (35 mm equivalent: 18.0 mm) |
Format | image/jpeg |
FOV | 90.1 deg |
GradientBasedCorrActive | true |
GradientBasedCorrAmount | 1.000000 |
GradientBasedCorrBrightness | 0.000000 |
GradientBasedCorrClarity | 0.000000 |
GradientBasedCorrContrast | 0.488000 |
GradientBasedCorrExposure | -0.341000 |
GradientBasedCorrHue | 240.000000 |
GradientBasedCorrMaskFullX | 0.536822 |
GradientBasedCorrMaskFullY | 1.084050 |
GradientBasedCorrMaskValue | 1.000000 |
GradientBasedCorrMaskWhat | Mask/Gradient |
GradientBasedCorrMaskZeroX | 0.534744 |
GradientBasedCorrMaskZeroY | 0.704611 |
GradientBasedCorrSaturation | 0.000000 |
GradientBasedCorrSharpness | 0.000000 |
GradientBasedCorrWhat | Correction |
GrainAmount | 0 |
GreenHue | 0 |
GreenSaturation | -20 |
HasCrop | False |
HasSettings | True |
HighlightRecovery | 64 |
HueAdjustmentAqua | 0 |
HueAdjustmentBlue | 0 |
HueAdjustmentGreen | 0 |
HueAdjustmentMagenta | 0 |
HueAdjustmentOrange | 0 |
HueAdjustmentPurple | 0 |
HueAdjustmentRed | 0 |
HueAdjustmentYellow | 0 |
HyperfocalDistance | 1.71 m |
ICCProfileName | sRGB IEC61966-2.1 |
ImageHeight (1) | 3328 |
ImageHeight | 533 |
ImageNumber | 38168 |
ImageSize | 800x533 |
ImageWidth (1) | 4992 |
ImageWidth | 800 |
ISO | 100 |
Lens | 16.0-35.0 mm |
LensID (1) | 229 |
LensID | Canon EF 16-35mm f/2.8L USM |
LensInfo | 16-35mm f/? |
LensManualDistortionAmount | 0 |
LensModel | 16.0-35.0 mm |
LensProfileEnable | 0 |
LensProfileSetup | LensDefaults |
LightValue | 16.3 |
LuminanceAdjustmentAqua | 0 |
LuminanceAdjustmentBlue | 0 |
LuminanceAdjustmentGreen | 0 |
LuminanceAdjustmentMagenta | 0 |
LuminanceAdjustmentOrange | 0 |
LuminanceAdjustmentPurple | 0 |
LuminanceAdjustmentRed | 0 |
LuminanceAdjustmentYellow | 0 |
LuminanceNoiseReductionContrast | 0 |
LuminanceNoiseReductionDetail | 50 |
LuminanceSmoothing | 25 |
Make | Canon |
MaxApertureValue | 2.8 |
Megapixels | 0.426 |
MeteringMode | Multi-segment |
Model | Canon EOS-1Ds Mark II |
ModifyDate (1) | 2011:05:31 09:48:05+02:00 |
ModifyDate | 2011:05:31 09:48:05 |
Orientation | Horizontal (normal) |
ParametricDarks | +12 |
ParametricHighlights | -28 |
ParametricHighlightSplit | 75 |
ParametricLights | -22 |
ParametricMidtoneSplit | 50 |
ParametricShadows | 0 |
ParametricShadowSplit | 25 |
PerspectiveHorizontal | 0 |
PerspectiveRotate | 0.0 |
PerspectiveScale | 100 |
PerspectiveVertical | 0 |
PhotometricInterpretation | RGB |
PlanarConfiguration | Chunky |
PostCropVignetteAmount | 0 |
ProcessVersion | 5.7 |
ProfileDescription | sRGB IEC61966-2.1 |
RedHue | 0 |
RedSaturation | -6 |
Saturation | -26 |
SaturationAdjustmentAqua | 0 |
SaturationAdjustmentBlue | 0 |
SaturationAdjustmentGreen | 0 |
SaturationAdjustmentMagenta | 0 |
SaturationAdjustmentOrange | 0 |
SaturationAdjustmentPurple | 0 |
SaturationAdjustmentRed | 0 |
SaturationAdjustmentYellow | 0 |
ScaleFactor35efl | 1.0 |
SceneCaptureType | Standard |
SensitivityType | Unknown |
SerialNumber | 335873 |
Shadows | 0 |
ShadowTint | -43 |
SharpenDetail | 11 |
SharpenEdgeMasking | 7 |
SharpenRadius | +0.8 |
Sharpness | 71 |
ShutterSpeed | 1/2000 |
ShutterSpeedValue | 1/2000 |
Software | Adobe Photoshop CS5 Windows |
SplitToningBalance | 0 |
SplitToningHighlightHue | 89 |
SplitToningHighlightSaturation | 30 |
SplitToningShadowHue | 31 |
SplitToningShadowSaturation | 9 |
Tint | +43 |
ToneCurve | 0, 0, 32, 22, 64, 56, 128, 128, 192, 196, 255, 255 |
ToneCurveName | Medium Contrast |
URL_List | |
Version | 6.3 |
Vibrance | -13 |
VignetteAmount | -26 |
VignetteMidpoint | 0 |
WhiteBalance (1) | Custom |
WhiteBalance | Manual |