Felt | Verdi |
AlreadyApplied | True |
Aperture | 4.5 |
ApertureValue | 4.5 |
BitsPerSample (1) | 8, 8, 8 |
BitsPerSample (2) | 8 8 8 |
BitsPerSample | 8 |
BlueHue | +19 |
BlueSaturation | +8 |
Brightness | +116 |
CameraProfile | Adobe Standard |
ChromaticAberrationB | -53 |
ChromaticAberrationR | -16 |
CircleOfConfusion | 0.031 mm |
Clarity | +13 |
ColorComponents | 3 |
ColorMode | RGB |
ColorNoiseReduction | 25 |
ColorSpace | Uncalibrated |
ColorTemperature | 5150 |
Contrast | +16 |
ConvertToGrayscale | False |
CreateDate (1) | 2011:05:30 15:14:45.32+01:00 |
CreateDate | 2011:05:30 15:14:45 |
CropAngle | 0 |
CropBottom | 1 |
CropLeft | 0 |
CropRight | 1 |
CropTop | 0.240566 |
CustomRendered | Normal |
DateTimeDigitized | 2011:05:30 15:14:45.32+01:00 |
DateTimeOriginal (1) | 2011:05:30 15:14:45.32+01:00 |
DateTimeOriginal | 2011:05:30 15:14:45 |
Defringe | 0 |
ExifImageHeight | 2843 |
ExifImageWidth | 5616 |
Exposure | -1.15 |
ExposureCompensation | 0 |
ExposureMode | Manual |
ExposureProgram | Manual |
ExposureTime | 1/800 |
FillLight | 5 |
Firmware | 2.0.4 |
Flash | Off, Did not fire |
FlashCompensation | 0 |
FlashFired | False |
FlashFunction | False |
FlashMode | Off |
FlashRedEyeMode | False |
FlashReturn | No return detection |
FNumber | 4.5 |
FocalLength | 21.0 mm |
FocalLength35efl | 21.0 mm (35 mm equivalent: 20.5 mm) |
Format | image/jpeg |
FOV | 82.6 deg |
GrainAmount | 0 |
GreenHue | +15 |
GreenSaturation | -8 |
HasCrop | True |
HasSettings | True |
HighlightRecovery | 15 |
HueAdjustmentAqua | 0 |
HueAdjustmentBlue | -21 |
HueAdjustmentGreen | -24 |
HueAdjustmentMagenta | 0 |
HueAdjustmentOrange | -13 |
HueAdjustmentPurple | 0 |
HueAdjustmentRed | +55 |
HueAdjustmentYellow | +3 |
HyperfocalDistance | 3.18 m |
ICCProfileName | Adobe RGB (1998) |
ImageHeight | 2843 |
ImageNumber | 0 |
ImageSize | 5616x2843 |
ImageWidth | 5616 |
ISO | 100 |
Lens | Zeiss Distagon T* 2.8/21 ZE |
LensID (1) | 33 |
LensID | Carl Zeiss Distagon T* 21mm f/2.8 ZE |
LensInfo | 21mm f/? |
LightValue | 14.0 |
LuminanceAdjustmentAqua | 0 |
LuminanceAdjustmentBlue | -24 |
LuminanceAdjustmentGreen | -7 |
LuminanceAdjustmentMagenta | -83 |
LuminanceAdjustmentOrange | 0 |
LuminanceAdjustmentPurple | +2 |
LuminanceAdjustmentRed | 0 |
LuminanceAdjustmentYellow | +48 |
LuminanceSmoothing | 0 |
Make | Canon |
MaxApertureValue | 2.8 |
Megapixels | 16.0 |
MeteringMode | Center-weighted average |
Model | Canon EOS 5D Mark II |
ModifyDate (1) | 2011:05:31 00:19:17+01:00 |
ModifyDate | 2011:05:31 00:19:17 |
Orientation | Horizontal (normal) |
ParametricDarks | +38 |
ParametricHighlights | +34 |
ParametricHighlightSplit | 75 |
ParametricLights | 0 |
ParametricMidtoneSplit | 50 |
ParametricShadows | +23 |
ParametricShadowSplit | 25 |
PhotometricInterpretation | RGB |
PlanarConfiguration | Chunky |
PostCropVignetteAmount | -55 |
PostCropVignetteFeather | 68 |
PostCropVignetteMidpoint | 57 |
PostCropVignetteRoundness | 0 |
PostCropVignetteStyle | 3 |
ProcessVersion | 5.0 |
ProfileDescription | Adobe RGB (1998) |
Rating | 0 |
RawFileName | IMG_4426.CR2 |
RedHue | +61 |
RedSaturation | -63 |
SamplesPerPixel | 3 |
Saturation | -9 |
SaturationAdjustmentAqua | +34 |
SaturationAdjustmentBlue | 0 |
SaturationAdjustmentGreen | +8 |
SaturationAdjustmentMagenta | 0 |
SaturationAdjustmentOrange | +42 |
SaturationAdjustmentPurple | 0 |
SaturationAdjustmentRed | 0 |
SaturationAdjustmentYellow | +51 |
ScaleFactor35efl | 1.0 |
SceneCaptureType | Standard |
SerialNumber | 1430808096 |
Shadows | 3 |
ShadowTint | +2 |
SharpenDetail | 51 |
SharpenEdgeMasking | 20 |
SharpenRadius | +1.5 |
Sharpness | 74 |
ShutterSpeed | 1/800 |
ShutterSpeedValue | 1/800 |
SidecarForExtension | CR2 |
Software | Adobe Photoshop CS4 Windows |
SplitToningBalance | 0 |
SplitToningHighlightHue | 32 |
SplitToningHighlightSaturation | 38 |
SplitToningShadowHue | 129 |
SplitToningShadowSaturation | 2 |
Tint | -2 |
ToneCurve | 0, 0, 32, 22, 64, 56, 128, 128, 192, 196, 255, 255 |
ToneCurveName | Medium Contrast |
URL_List | |
Version | 5.7 |
Vibrance | +8 |
VignetteAmount | +100 |
VignetteMidpoint | 46 |
WhiteBalance (2) | Custom |
WhiteBalance | Manual |