Felt | Verdi |
AlreadyApplied | True |
Aperture | 2.0 |
ApertureValue | 2.0 |
BitsPerSample | 8 |
BlueHue | +11 |
BlueSaturation | -21 |
Brightness | +64 |
BrightnessValue | -1.01 |
CameraProfile | Adobe Standard |
ChromaticAberrationB | 0 |
ChromaticAberrationR | 0 |
CircleOfConfusion | 0.009 mm |
Clarity | 0 |
ColorComponents | 3 |
ColorMode | RGB |
ColorNoiseReduction | 25 |
ColorNoiseReductionDetail | 50 |
ColorSpace | Uncalibrated |
ColorTemperature | 3600 |
Contrast | +32 |
ConvertToGrayscale | True |
CreateDate | 2011:05:23 06:14:04 |
CreatorTool | Adobe Photoshop Lightroom 3.4 |
CropAngle | 0 |
CropBottom | 0.82353 |
CropConstrainToWarp | 0 |
CropHeight | 2113 |
CropLeft | 0.165038 |
CropRight | 0.956569 |
CropTop | 0.081699 |
CropUnit | pixels |
CropWidth | 3394 |
CustomRendered | Normal |
DateCreated | 2011:05:23 |
DateTimeDigitized | 2011:05:23 06:14:04+02:00 |
DateTimeOriginal (1) | 2011:05:23 06:14:04+02:00 |
DateTimeOriginal | 2011:05:23 06:14:04 |
Defringe | 0 |
ExifImageHeight | 651 |
ExifImageWidth | 1024 |
Exposure | -0.35 |
ExposureCompensation | 0 |
ExposureMode | Auto |
ExposureProgram | Program AE |
ExposureTime | 1/10 |
FillLight | 0 |
Flash | On, Red-eye reduction |
FlashFired | True |
FlashFunction | False |
FlashMode | On |
FlashRedEyeMode | True |
FlashReturn | No return detection |
FNumber | 2.0 |
FocalLength | 23.0 mm |
FocalLength35efl | 23.0 mm (35 mm equivalent: 75.8 mm) |
Format | image/jpeg |
FOV | 26.7 deg |
GrainAmount | 86 |
GrainFrequency | 72 |
GrainSize | 36 |
GrayMixerAqua | -10 |
GrayMixerBlue | +19 |
GrayMixerGreen | -9 |
GrayMixerMagenta | +30 |
GrayMixerOrange | +20 |
GrayMixerPurple | +25 |
GrayMixerRed | +34 |
GrayMixerYellow | +9 |
GreenHue | +16 |
GreenSaturation | +51 |
HasCrop | True |
HasSettings | True |
HighlightRecovery | 83 |
HyperfocalDistance | 29.00 m |
ICCProfileName | Adobe RGB (1998) |
ImageHeight | 651 |
ImageSize | 1024x651 |
ImageWidth | 1024 |
ISO | 320 |
LensManualDistortionAmount | 0 |
LensProfileEnable | 0 |
LensProfileSetup | LensDefaults |
LightSource | Unknown |
LightValue | 3.6 |
LuminanceSmoothing | 0 |
Make | FUJIFILM |
MaxApertureValue | 2.0 |
Megapixels | 0.667 |
MeteringMode | Multi-segment |
Model | FinePix X100 |
ModifyDate (1) | 2011:05:24 10:59:24+02:00 |
ModifyDate | 2011:05:24 10:59:24 |
Orientation | Horizontal (normal) |
ParametricDarks | 0 |
ParametricHighlights | 0 |
ParametricHighlightSplit | 75 |
ParametricLights | -2 |
ParametricMidtoneSplit | 50 |
ParametricShadows | 0 |
ParametricShadowSplit | 25 |
PerspectiveHorizontal | 0 |
PerspectiveRotate | 0.0 |
PerspectiveScale | 100 |
PerspectiveVertical | 0 |
PostCropVignetteAmount | 0 |
ProcessVersion | 5.7 |
ProfileDescription | Adobe RGB (1998) |
RedHue | +23 |
RedSaturation | +10 |
ScaleFactor35efl | 3.3 |
SceneCaptureType | Standard |
SceneType | Directly photographed |
SensingMethod | One-chip color area |
SensitivityType | Standard Output Sensitivity |
Shadows | 6 |
ShadowTint | +4 |
SharpenDetail | 43 |
SharpenEdgeMasking | 0 |
SharpenRadius | +1.9 |
Sharpness | 25 |
ShutterSpeed | 1/10 |
ShutterSpeedValue | 1/10 |
Software | Adobe Photoshop Elements 9.0 Macintosh |
SplitToningBalance | 0 |
SplitToningHighlightHue | 215 |
SplitToningHighlightSaturation | 49 |
SplitToningShadowHue | 216 |
SplitToningShadowSaturation | 12 |
SubjectDistanceRange | Unknown |
Tint | +8 |
ToneCurve | 0, 0, 255, 255 |
ToneCurveName | Linear |
URL_List | |
Version | 6.4 |
VignetteAmount | -100 |
VignetteMidpoint | 40 |
WhiteBalance (1) | As Shot |
WhiteBalance | Auto |