Felt | Verdi |
AlreadyApplied | True |
Aperture | 2.8 |
ApertureValue | 2.8 |
ApproximateFocusDistance | 0.33 |
BitsPerSample | 8 |
BlueHue | 0 |
BlueSaturation | 0 |
Brightness | +50 |
CameraProfile | Adobe Standard |
ChromaticAberrationB | 0 |
ChromaticAberrationR | 0 |
CircleOfConfusion | 0.019 mm |
Clarity | +100 |
ColorComponents | 3 |
ColorNoiseReduction | 100 |
ColorNoiseReductionDetail | 100 |
ColorTemperature | 3954 |
Contrast | +100 |
ConvertToGrayscale | False |
Copyright | Marcus |
CopyrightNotice | Marcus |
CreateDate (1) | 2011:05:06 16:25:32.82+02:00 |
CreateDate | 2011:05:06 16:25:32 |
CreatorTool | Adobe Photoshop Lightroom 3.3 |
CropAngle | 0 |
CropBottom | 0.823275 |
CropConstrainToWarp | 0 |
CropHeight | 1791 |
CropLeft | 0.404216 |
CropRight | 0.922414 |
CropTop | 0.305077 |
CropUnit | pixels |
CropWidth | 2686 |
CustomRendered | Normal |
DateTimeDigitized | 2011:05:06 16:25:32.82+02:00 |
DateTimeOriginal (1) | 2011:05:06 16:25:32.82+02:00 |
DateTimeOriginal | 2011:05:06 16:25:32 |
Defringe | 0 |
DOF | 0.001 m (0.330 - 0.330 m) |
ExifImageHeight | 1791 |
ExifImageWidth | 2686 |
Exposure | +0.87 |
ExposureCompensation | 0 |
ExposureMode | Manual |
ExposureProgram | Manual |
ExposureTime | 1/125 |
FillLight | 100 |
Firmware | 1.0.8 |
Flash | Off, Did not fire |
FlashCompensation | 0 |
FlashFired | False |
FlashFunction | False |
FlashMode | Off |
FlashRedEyeMode | False |
FlashReturn | No return detection |
FNumber | 2.8 |
FocalLength | 100.0 mm |
FocalLength35efl | 100.0 mm (35 mm equivalent: 157.3 mm) |
FOV | 13.1 deg |
GrainAmount | 0 |
GreenHue | 0 |
GreenSaturation | 0 |
HasCrop | True |
HasSettings | True |
HighlightRecovery | 0 |
HueAdjustmentAqua | 0 |
HueAdjustmentBlue | 0 |
HueAdjustmentGreen | 0 |
HueAdjustmentMagenta | 0 |
HueAdjustmentOrange | 0 |
HueAdjustmentPurple | 0 |
HueAdjustmentRed | 0 |
HueAdjustmentYellow | 0 |
HyperfocalDistance | 186.94 m |
ImageHeight | 1791 |
ImageNumber | 0 |
ImageSize | 2686x1791 |
ImageWidth | 2686 |
ISO | 400 |
Lens | EF100mm f/2.8L Macro IS USM |
LensID (1) | 254 |
LensID | Canon EF 100mm f/2.8L Macro IS USM |
LensInfo | 100mm f/? |
LensManualDistortionAmount | 0 |
LensModel | EF100mm f/2.8L Macro IS USM |
LensProfileEnable | 0 |
LensProfileSetup | LensDefaults |
LightValue | 7.9 |
LuminanceAdjustmentAqua | 0 |
LuminanceAdjustmentBlue | 0 |
LuminanceAdjustmentGreen | 0 |
LuminanceAdjustmentMagenta | 0 |
LuminanceAdjustmentOrange | 0 |
LuminanceAdjustmentPurple | 0 |
LuminanceAdjustmentRed | 0 |
LuminanceAdjustmentYellow | 0 |
LuminanceNoiseReductionContrast | 100 |
LuminanceNoiseReductionDetail | 100 |
LuminanceSmoothing | 62 |
Make | Canon |
MaxApertureValue | 2.8 |
Megapixels | 4.8 |
MeteringMode | Multi-segment |
Model | Canon EOS 550D |
ModifyDate (1) | 2011:05:10 17:15:17+02:00 |
ModifyDate | 2011:05:10 17:15:17 |
PaintCorrectionActive | true |
PaintCorrectionAmount | 1.000000 |
PaintCorrectionBrightness | 0.000000 |
PaintCorrectionClarity | -1.000000 |
PaintCorrectionContrast (1) | 0.000000 |
PaintCorrectionContrast | 0.683000 |
PaintCorrectionExposure | 0.000000 |
PaintCorrectionHue | 233.000000 |
PaintCorrectionMaskCenterWeight | 0.000000 |
PaintCorrectionMaskFlow | 1.000000 |
PaintCorrectionMaskRadius (1) | 0.082501 |
PaintCorrectionMaskRadius | 0.033060 |
PaintCorrectionMaskValue | 1.000000 |
PaintCorrectionMaskWhat | Mask/Paint |
PaintCorrectionSaturation | 0.000000 |
PaintCorrectionSharpness (1) | -1.000000 |
PaintCorrectionSharpness | -0.732000 |
PaintCorrectionWhat | Correction |
ParametricDarks | 0 |
ParametricHighlights | 0 |
ParametricHighlightSplit | 75 |
ParametricLights | 0 |
ParametricMidtoneSplit | 50 |
ParametricShadows | 0 |
ParametricShadowSplit | 25 |
PerspectiveHorizontal | 0 |
PerspectiveRotate | 0.0 |
PerspectiveScale | 100 |
PerspectiveVertical | 0 |
PostCropVignetteAmount | 0 |
ProcessVersion | 5.7 |
ProfileDescription | sRGB IEC61966-2.1 |
Rating | 5 |
RedHue | 0 |
RedSaturation | 0 |
Rights | Marcus |
Saturation | 0 |
SaturationAdjustmentAqua | 0 |
SaturationAdjustmentBlue | 0 |
SaturationAdjustmentGreen | 0 |
SaturationAdjustmentMagenta | 0 |
SaturationAdjustmentOrange | 0 |
SaturationAdjustmentPurple | 0 |
SaturationAdjustmentRed | 0 |
SaturationAdjustmentYellow | 0 |
ScaleFactor35efl | 1.6 |
SceneCaptureType | Standard |
SensitivityType | Unknown |
SerialNumber | 931308056 |
Shadows | 38 |
ShadowTint | 0 |
SharpenDetail | 25 |
SharpenEdgeMasking | 0 |
SharpenRadius | +1.0 |
Sharpness | 25 |
ShutterSpeed | 1/125 |
ShutterSpeedValue | 1/125 |
SplitToningBalance | 0 |
SplitToningHighlightHue | 0 |
SplitToningHighlightSaturation | 0 |
SplitToningShadowHue | 0 |
SplitToningShadowSaturation | 0 |
SubjectDistance | 0.33 m |
Tint | +5 |
ToneCurve | 0, 0, 32, 22, 64, 56, 128, 128, 192, 196, 255, 255 |
ToneCurveName | Medium Contrast |
Version | 6.3 |
Vibrance | 0 |
VignetteAmount | 0 |
WhiteBalance (2) | Custom |
WhiteBalance | Auto |