Felt | Verdi |
AlreadyApplied | True |
Aperture | 9.0 |
ApertureValue | 9.0 |
BitsPerSample | 8 |
BlueHue | 0 |
BlueSaturation | 0 |
Brightness | -45 |
CameraProfile | Embedded |
CFAPattern | [Green,Blue][Red,Green] |
ChromaticAberrationB | 0 |
ChromaticAberrationR | 0 |
CircleOfConfusion | 0.020 mm |
Clarity | 0 |
ColorComponents | 3 |
ColorNoiseReduction | 0 |
Contrast (2) | +20 |
Contrast | Normal |
ConvertToGrayscale | False |
CreateDate (1) | 2009:08:15 17:38:50.00+02:00 |
CreateDate | 2009:08:15 17:38:50 |
CreatorTool | Adobe Photoshop Lightroom |
CustomRendered | Normal |
DateTimeDigitized | 2009:08:15 17:38:50.00+02:00 |
DateTimeOriginal (1) | 2009:08:15 17:38:50.00+02:00 |
DateTimeOriginal | 2009:08:15 17:38:50 |
Defringe | 0 |
DigitalZoomRatio | 1 |
ExifImageHeight | 2592 |
ExifImageWidth | 3872 |
Exposure | +0.35 |
ExposureCompensation | 0 |
ExposureMode | Manual |
ExposureProgram | Manual |
ExposureTime | 1/320 |
FillLight | 0 |
Flash | No Flash |
FlashFired | False |
FlashFunction | False |
FlashMode | Unknown |
FlashRedEyeMode | False |
FlashReturn | No return detection |
FNumber | 9.0 |
FocalLength | 18.0 mm |
FocalLength35efl | 18.0 mm (35 mm equivalent: 27.0 mm) |
FocalLengthIn35mmFormat | 27 mm |
FOV | 67.4 deg |
GainControl | None |
GradientBasedCorrActive | true |
GradientBasedCorrAmount | 1.000000 |
GradientBasedCorrBrightness | 0.000000 |
GradientBasedCorrClarity | -1.000000 |
GradientBasedCorrContrast | 0.000000 |
GradientBasedCorrExposure | 0.000000 |
GradientBasedCorrHue | 240.000000 |
GradientBasedCorrMaskFullX (1) | 0.360318 |
GradientBasedCorrMaskFullX | 0.288905 |
GradientBasedCorrMaskFullY (1) | -0.051522 |
GradientBasedCorrMaskFullY | 0.945373 |
GradientBasedCorrMaskValue | 1.000000 |
GradientBasedCorrMaskWhat | Mask/Gradient |
GradientBasedCorrMaskZeroX (1) | 0.388238 |
GradientBasedCorrMaskZeroX | 0.387931 |
GradientBasedCorrMaskZeroY (1) | 0.304940 |
GradientBasedCorrMaskZeroY | 0.579741 |
GradientBasedCorrSaturation | 0.000000 |
GradientBasedCorrSharpness | 0.250000 |
GradientBasedCorrWhat | Correction |
GreenHue | 0 |
GreenSaturation | 0 |
HasCrop | False |
HasSettings | True |
HighlightRecovery | 0 |
HueAdjustmentAqua | +45 |
HueAdjustmentBlue | -56 |
HueAdjustmentGreen | +6 |
HueAdjustmentMagenta | -90 |
HueAdjustmentOrange | -40 |
HueAdjustmentPurple | -100 |
HueAdjustmentRed | -33 |
HueAdjustmentYellow | -45 |
HyperfocalDistance | 1.80 m |
ImageHeight | 2592 |
ImageNumber | 9681 |
ImageSize | 3872x2592 |
ImageWidth | 3872 |
IncrementalTemperature | +30 |
IncrementalTint | +44 |
ISO | 100 |
Lens | 18.0-250.0 mm f/3.5-6.3 |
LensInfo | 18-250mm f/3.5-6.3 |
LightSource | Unknown |
LightValue | 14.7 |
LuminanceAdjustmentAqua | 0 |
LuminanceAdjustmentBlue | +5 |
LuminanceAdjustmentGreen | 0 |
LuminanceAdjustmentMagenta | 0 |
LuminanceAdjustmentOrange | 0 |
LuminanceAdjustmentPurple | 0 |
LuminanceAdjustmentRed | 0 |
LuminanceAdjustmentYellow | 0 |
LuminanceSmoothing | 0 |
Make | NIKON CORPORATION |
MaxApertureValue | 3.5 |
Megapixels | 10.0 |
MeteringMode | Center-weighted average |
Model | NIKON D60 |
ModifyDate (1) | 2009:08:23 23:25:53+02:00 |
ModifyDate | 2009:08:23 23:25:53 |
ParametricDarks | +11 |
ParametricHighlights | -1 |
ParametricHighlightSplit | 75 |
ParametricLights | +30 |
ParametricMidtoneSplit | 50 |
ParametricShadows | -38 |
ParametricShadowSplit | 25 |
PostCropVignetteAmount | +9 |
PostCropVignetteFeather | 50 |
PostCropVignetteMidpoint | 50 |
PostCropVignetteRoundness | -61 |
ProfileDescription | sRGB IEC61966-2.1 |
RedHue | +26 |
RedSaturation | +5 |
Saturation (2) | -59 |
Saturation | Normal |
SaturationAdjustmentAqua | -50 |
SaturationAdjustmentBlue | -59 |
SaturationAdjustmentGreen | 0 |
SaturationAdjustmentMagenta | -40 |
SaturationAdjustmentOrange | -25 |
SaturationAdjustmentPurple | -50 |
SaturationAdjustmentRed | -46 |
SaturationAdjustmentYellow | -26 |
ScaleFactor35efl | 1.5 |
SceneCaptureType | Standard |
SceneType | Directly photographed |
SensingMethod | One-chip color area |
SerialNumber | 6029522 |
Shadows | 52 |
ShadowTint | +63 |
SharpenDetail | 25 |
SharpenEdgeMasking | 0 |
SharpenRadius | +1.0 |
Sharpness (2) | 32 |
Sharpness | Normal |
ShutterSpeed | 1/320 |
ShutterSpeedValue | 1/320 |
Software | Ver.1.00 |
SplitToningBalance | +100 |
SplitToningHighlightHue | 41 |
SplitToningHighlightSaturation | 27 |
SplitToningShadowHue | 0 |
SplitToningShadowSaturation | 25 |
SubjectDistanceRange | Unknown |
ToneCurve | 0, 0, 255, 255 |
ToneCurveName | Linear |
Version | 5.3 |
Vibrance | -11 |
VignetteAmount | -88 |
VignetteMidpoint | 50 |
WhiteBalance (2) | Custom |
WhiteBalance | Auto |