Felt | Verdi |
AlreadyApplied | True |
Aperture | 5.0 |
ApertureValue | 5.0 |
BitsPerSample | 8 |
BlueHue | 0 |
BlueSaturation | 0 |
Brightness | +83 |
CameraProfile | Adobe Standard |
ChromaticAberrationB | 0 |
ChromaticAberrationR | 0 |
CircleOfConfusion | 0.019 mm |
Clarity | +100 |
ColorComponents | 1 |
ColorMode | RGB |
ColorNoiseReduction | 25 |
ColorNoiseReductionDetail | 50 |
ColorSpace | Uncalibrated |
ColorTemperature | 6800 |
Contrast | +74 |
ConvertToGrayscale | False |
CreateDate (1) | 2011:04:02 19:55:38.01+01:00 |
CreateDate | 2011:04:02 19:55:38 |
CreatorTool | Adobe Photoshop CS5 Windows |
CropAngle | 0 |
CropBottom | 0.953064 |
CropLeft | 0.002609 |
CropRight | 0.921739 |
CropTop | 0.059974 |
CustomRendered | Normal |
DateCreated (1) | 2011:04:02 |
DateCreated | 2011:04:02 19:55:38.001 |
DateTimeOriginal | 2011:04:02 19:55:38 |
Defringe | 0 |
DOF | inf (1.59 m - inf) |
ExifImageHeight | 2315 |
ExifImageWidth | 3574 |
Exposure | -0.15 |
ExposureCompensation | 0 |
ExposureMode | Auto |
ExposureProgram | Aperture-priority AE |
ExposureTime | 1/25 |
FillLight | 100 |
Firmware | 1.1.1 |
Flash | Off, Did not fire |
FlashCompensation | 0 |
FNumber | 5.0 |
FocalLength | 15.0 mm |
FocalLength35efl | 15.0 mm (35 mm equivalent: 24.3 mm) |
Format | image/jpeg |
FOV | 73.1 deg |
GrainAmount | 0 |
GreenHue | 0 |
GreenSaturation | 0 |
HasCrop | True |
HasSettings | True |
HighlightRecovery | 100 |
HueAdjustmentAqua | 0 |
HueAdjustmentBlue | 0 |
HueAdjustmentGreen | 0 |
HueAdjustmentMagenta | 0 |
HueAdjustmentOrange | 0 |
HueAdjustmentPurple | 0 |
HueAdjustmentRed | 0 |
HueAdjustmentYellow | 0 |
HyperfocalDistance | 2.42 m |
ICCProfileName | Adobe RGB (1998) |
ImageHeight | 2315 |
ImageNumber | 0 |
ImageSize | 3574x2315 |
ImageWidth | 3574 |
ISO | 400 |
Lens | 10-20mm |
LensID (1) | 152 |
LensID | Sigma 10-20mm f/4-5.6 |
LensInfo | 10-20mm f/? |
LightValue | 7.3 |
LuminanceAdjustmentAqua | 0 |
LuminanceAdjustmentBlue | 0 |
LuminanceAdjustmentGreen | 0 |
LuminanceAdjustmentMagenta | 0 |
LuminanceAdjustmentOrange | 0 |
LuminanceAdjustmentPurple | 0 |
LuminanceAdjustmentRed | 0 |
LuminanceAdjustmentYellow | 0 |
LuminanceSmoothing | 0 |
Make | Canon |
MaxApertureValue | 5.2 |
Megapixels | 8.3 |
MeteringMode | Multi-segment |
Model | Canon EOS 40D |
ModifyDate (1) | 2011:04:04 21:45:23+01:00 |
ModifyDate | 2011:04:04 21:45:23 |
Orientation | Horizontal (normal) |
ParametricDarks | -44 |
ParametricHighlights | +50 |
ParametricHighlightSplit | 75 |
ParametricLights | +61 |
ParametricMidtoneSplit | 50 |
ParametricShadows | +46 |
ParametricShadowSplit | 25 |
PostCropVignetteAmount | 0 |
ProcessVersion | 5.7 |
ProfileDescription | Adobe RGB (1998) |
Rating | 0 |
RawFileName | _MG_8884.CR2 |
RedHue | 0 |
RedSaturation | 0 |
Saturation | -68 |
SaturationAdjustmentAqua | 0 |
SaturationAdjustmentBlue | 0 |
SaturationAdjustmentGreen | 0 |
SaturationAdjustmentMagenta | 0 |
SaturationAdjustmentOrange | 0 |
SaturationAdjustmentPurple | 0 |
SaturationAdjustmentRed | 0 |
SaturationAdjustmentYellow | 0 |
ScaleFactor35efl | 1.6 |
SceneCaptureType | Standard |
SerialNumber | 2231207424 |
Shadows | 24 |
ShadowTint | 0 |
SharpenDetail | 3 |
SharpenEdgeMasking | 15 |
SharpenRadius | +0.6 |
Sharpness | 99 |
ShutterSpeed | 1/25 |
ShutterSpeedValue | 1/25 |
SidecarForExtension | CR2 |
Software | Adobe Photoshop CS5 Windows |
SplitToningBalance | 0 |
SplitToningHighlightHue | 0 |
SplitToningHighlightSaturation | 0 |
SplitToningShadowHue | 0 |
SplitToningShadowSaturation | 0 |
SubjectDistance | 4.61 m |
Tint | -7 |
ToneCurve | 0, 0, 32, 22, 64, 56, 128, 128, 192, 196, 255, 255 |
ToneCurveName | Medium Contrast |
URL_List | |
Version | 6.0 |
Vibrance | -79 |
VignetteAmount | 0 |
WhiteBalance (1) | Custom |
WhiteBalance | Auto |