Felt | Verdi |
AlreadyApplied | False |
Aperture | 6.3 |
Artist | Rolf Svendsen - ALLPHOTO |
BitsPerSample (1) | 16, 16, 16 |
BitsPerSample | 8 |
BlueHue | 0 |
BlueSaturation | 0 |
Brightness | +44 |
By-line | Rolf Svendsen - ALLPHOTO |
CameraProfile | Adobe Standard |
ChromaticAberrationB | 0 |
ChromaticAberrationR | 0 |
CircleOfConfusion | 0.024 mm |
Clarity | +100 |
ColorComponents | 3 |
ColorMode | RGB |
ColorSpace | Uncalibrated |
ColorTemperature | 3550 |
Contrast | +53 |
ConvertToGrayscale | False |
CreateDate (1) | 2011:02:27 00:15:07+01:00 |
CreateDate | 2011:02:27 00:15:07 |
CropAngle | 0 |
CropBottom | 0.88375 |
CropTop | 0.181622 |
CustomRendered | Normal |
DateTimeDigitized | 2011:02:27 00:15:07+01:00 |
DateTimeOriginal (1) | 2011:02:27 00:15:07+01:00 |
DateTimeOriginal | 2011:02:27 00:15:07 |
Defringe | 0 |
ExifImageHeight | 1640 |
ExifImageWidth (1) | 3504 |
Exposure | 0.00 |
ExposureMode | Auto |
ExposureProgram | Aperture-priority AE |
ExposureTime | 1/6400 |
Firmware | 1.1.2 |
Flash | Off, Did not fire |
FlashCompensation | 0 |
FlashFired | False |
FlashFunction | False |
FlashMode | Off |
FlashRedEyeMode | False |
FlashReturn | No return detection |
FocalLength | 70.0 mm |
FocalLength35efl | 70.0 mm (35 mm equivalent: 87.7 mm) |
FOV | 23.2 deg |
GreenHue | 0 |
GreenSaturation | 0 |
HasCrop | True |
HasSettings | True |
HighlightRecovery | 14 |
HueAdjustmentAqua | 0 |
HueAdjustmentGreen | 0 |
HueAdjustmentMagenta | 0 |
HueAdjustmentOrange | 0 |
HueAdjustmentYellow | 0 |
ICCProfileName | |
ImageHeight | 1640 |
ImageNumber | 41630 |
ImageWidth (1) | 3504 |
ISO | 400 |
Lens | EF24-70mm f/2.8L USM |
LensInfo | 24-70mm f/? |
LightValue | 16.0 |
LuminanceAdjustmentAqua | 0 |
LuminanceAdjustmentBlue | 0 |
LuminanceAdjustmentGreen | 0 |
LuminanceAdjustmentOrange | 0 |
LuminanceAdjustmentPurple | 0 |
LuminanceAdjustmentYellow | 0 |
LuminanceSmoothing | 33 |
Make | Canon |
MaxApertureValue | 2.8 |
Megapixels | 5.7 |
MeteringMode | Multi-segment |
Model | Canon EOS-1D Mark II N |
ModifyDate | 2011:03:11 18:51:21 |
OwnerName | Rolf Svendsen - ALLPHOTO |
ParametricDarks | 0 |
ParametricHighlights | 0 |
ParametricHighlightSplit | 75 |
ParametricLights | 0 |
ParametricMidtoneSplit | 50 |
ParametricShadows | 0 |
ParametricShadowSplit | 25 |
PhotometricInterpretation | RGB |
PostCropVignetteAmount | 0 |
RawFileName | _2111291.CR2 |
RedHue | 0 |
RedSaturation | 0 |
SamplesPerPixel | 3 |
Saturation | -33 |
SaturationAdjustmentAqua | 0 |
SaturationAdjustmentBlue | 0 |
SaturationAdjustmentGreen | 0 |
SaturationAdjustmentOrange | 0 |
SaturationAdjustmentPurple | 0 |
SaturationAdjustmentRed | 0 |
SaturationAdjustmentYellow | 0 |
ScaleFactor35efl | 1.3 |
SerialNumber | 415385 |
Shadows | 6 |
ShadowTint | 0 |
SharpenDetail | 45 |
SharpenEdgeMasking | 17 |
SharpenRadius | +1.5 |
ShutterSpeed | 1/6400 |
ShutterSpeedValue | 1/6400 |
Software | Elements Organizer 8.0 |
SplitToningHighlightSaturation | 0 |
SplitToningShadowHue | 0 |
SplitToningShadowSaturation | 0 |
ToneCurve | 0, 0, 32, 22, 64, 56, 128, 128, 192, 196, 255, 255 |
ToneCurveName | Medium Contrast |
Version | 5.5 |
WhiteBalance | Auto |