Felt | Verdi |
AlreadyApplied | True |
Aperture | 10.0 |
ApertureValue | 10.0 |
Artist | Allan Pedersen |
BitsPerSample | 8 |
BlueHue | 0 |
BlueSaturation | 0 |
Brightness | +69 |
By-line | Allan Pedersen |
CameraProfile | ACR 4.6 |
CFAPattern | [Red,Green][Green,Blue] |
ChromaticAberrationB | 0 |
ChromaticAberrationR | 0 |
CircleOfConfusion | 0.030 mm |
Clarity | +18 |
ColorComponents | 3 |
ColorMode | RGB |
ColorNoiseReduction | 38 |
ColorSpace (1) | Unknown (-1) |
ColorSpace | Uncalibrated |
ColorTemperature | 4750 |
Contrast (2) | +40 |
Contrast | Normal |
ConvertToGrayscale | False |
Copyright | All riqhts reserved 2010 |
CopyrightFlag | False |
CopyrightNotice | All riqhts reserved 2010 |
CreateDate (1) | 2011:02:15 18:19:55+01:00 |
CreateDate | 2011:02:15 18:41:05 |
Creator | Allan Pedersen |
CreatorTool | Adobe Photoshop CS3 Windows |
CustomRendered | Custom |
DateTimeDigitized | 2011:02:15 18:41:05.73+01:00 |
DateTimeOriginal (1) | 2011:02:15 18:41:05.73+01:00 |
DateTimeOriginal | 2011:02:15 18:41:05 |
Defringe | 0 |
DigitalZoomRatio | 1 |
ExifImageHeight | 721 |
ExifImageWidth | 839 |
Exposure | +0.45 |
ExposureCompensation | 0 |
ExposureMode | Manual |
ExposureProgram | Manual |
ExposureTime | 25 |
FillLight | 0 |
Flash | No Flash |
FlashFired | False |
FlashFunction | False |
FlashMode | Unknown |
FlashRedEyeMode | False |
FlashReturn | No return detection |
FNumber | 10.0 |
FocalLength | 58.0 mm |
FocalLength35efl | 58.0 mm (35 mm equivalent: 58.0 mm) |
FocalLengthIn35mmFormat | 58 mm |
Format | image/jpeg |
FOV | 34.5 deg |
GainControl | None |
GreenHue | 0 |
GreenSaturation | 0 |
HasCrop | False |
HasSettings | True |
HighlightRecovery | 40 |
HueAdjustmentAqua | 0 |
HueAdjustmentBlue | 0 |
HueAdjustmentGreen | 0 |
HueAdjustmentMagenta | 0 |
HueAdjustmentOrange | 0 |
HueAdjustmentPurple | 0 |
HueAdjustmentRed | 0 |
HueAdjustmentYellow | 0 |
HyperfocalDistance | 11.20 m |
ICCProfileName | Adobe RGB (1998) |
ImageHeight | 721 |
ImageNumber | 10994 |
ImageSize | 839x721 |
ImageWidth | 839 |
ISO | 250 |
Lens | 24.0-70.0 mm f/2.8 |
LensInfo | 24-70mm f/2.8 |
LightSource | Unknown |
LightValue | 0.7 |
LuminanceAdjustmentAqua | 0 |
LuminanceAdjustmentBlue | 0 |
LuminanceAdjustmentGreen | 0 |
LuminanceAdjustmentMagenta | 0 |
LuminanceAdjustmentOrange | 0 |
LuminanceAdjustmentPurple | 0 |
LuminanceAdjustmentRed | 0 |
LuminanceAdjustmentYellow | 0 |
LuminanceSmoothing | 45 |
Make | NIKON CORPORATION |
MaxApertureValue | 2.8 |
Megapixels | 0.605 |
MeteringMode | Multi-segment |
Model | NIKON D700 |
ModifyDate (1) | 2011:02:15 18:19:55+01:00 |
ModifyDate | 2011:02:15 18:19:55 |
Orientation | Horizontal (normal) |
ParametricDarks | 0 |
ParametricHighlights | 0 |
ParametricHighlightSplit | 75 |
ParametricLights | 0 |
ParametricMidtoneSplit | 50 |
ParametricShadows | 0 |
ParametricShadowSplit | 25 |
PostCropVignetteAmount | 0 |
ProfileDescription | Adobe RGB (1998) |
Rating | 0 |
RawFileName | DSC_6736.NEF |
RedHue | 0 |
RedSaturation | 0 |
Rights | All riqhts reserved 2010 |
Saturation (2) | +14 |
Saturation | High |
SaturationAdjustmentAqua | 0 |
SaturationAdjustmentBlue | 0 |
SaturationAdjustmentGreen | 0 |
SaturationAdjustmentMagenta | 0 |
SaturationAdjustmentOrange | 0 |
SaturationAdjustmentPurple | 0 |
SaturationAdjustmentRed | 0 |
SaturationAdjustmentYellow | 0 |
ScaleFactor35efl | 1.0 |
SceneCaptureType | Standard |
SceneType | Directly photographed |
SensingMethod | One-chip color area |
SerialNumber | 2253208 |
Shadows | 5 |
ShadowTint | 0 |
SharpenDetail | 25 |
SharpenEdgeMasking | 0 |
SharpenRadius | +1.0 |
Sharpness (2) | 25 |
Sharpness | Hard |
ShutterSpeed | 25 |
ShutterSpeedValue | 25 |
Software | Adobe Photoshop CS3 Windows |
SplitToningBalance | 0 |
SplitToningHighlightHue | 0 |
SplitToningHighlightSaturation | 0 |
SplitToningShadowHue | 0 |
SplitToningShadowSaturation | 0 |
SubjectDistanceRange | Unknown |
Tint | -11 |
ToneCurve | 0, 0, 32, 22, 64, 56, 128, 128, 192, 196, 255, 255 |
ToneCurveName | Medium Contrast |
URL_List | |
Version | 4.6 |
Vibrance | 0 |
VignetteAmount | 0 |
WhiteBalance (2) | As Shot |
WhiteBalance | Auto |