Felt | Verdi |
AlreadyApplied | True |
Aperture | 11.0 |
ApertureValue | 11.0 |
BitsPerSample | 8 |
BlackClip | 0.110750 |
BlueHue | 0 |
BlueSaturation | 0 |
Brightness | 0 |
CameraProfile | Embedded |
ChromaticAberrationB | 0 |
ChromaticAberrationR | 0 |
Clarity | +100 |
ColorComponents | 3 |
ColorNoiseReduction | 0 |
ColorSaturation | 100.0 |
ColorTemperature | 0.4 |
Contrast | +48 |
ConvertToGrayscale | False |
Copyright | Espen Paulsen |
CopyrightNotice | Espen Paulsen |
CreateDate | 2010:02:24 11:28:13+01:00 |
CreatorTool | Adobe Photoshop Lightroom |
CropAngle | 0.202011 |
CropBottom | 0.767746 |
CropHeight | 610 |
CropLeft | 0.001677 |
CropRight | 0.998323 |
CropTop | 0.048893 |
CropUnit | pixels |
CropWidth | 1280 |
DateTimeOriginal (1) | 2010:02:24 11:28:13+01:00 |
DateTimeOriginal | 2010:02:24 11:28:13 |
Defringe | 0 |
ExifImageHeight | 610 |
ExifImageWidth | 1280 |
Exposure | +0.33 |
FillLight | 0 |
FNumber | 11.0 |
FocalLength | 28.0 mm |
FocalLength35efl | 28.0 mm |
Gamma | 1.0 |
GreenHue | 0 |
GreenSaturation | 0 |
HasCrop | True |
HasSettings | True |
HighlightRecovery | 0 |
HighlightsSmoothing | 0.0 |
HueAdjustmentAqua | 0 |
HueAdjustmentBlue | 0 |
HueAdjustmentGreen | 0 |
HueAdjustmentMagenta | 0 |
HueAdjustmentOrange | 0 |
HueAdjustmentPurple | 0 |
HueAdjustmentRed | 0 |
HueAdjustmentYellow | 0 |
ImageHeight | 610 |
ImageSize | 1280x610 |
ImageWidth | 1280 |
IncrementalTemperature | 0 |
IncrementalTint | 0 |
ISO | 100 |
Keywords | 2010, Land, Landskap, Natur, Vann, lofoten |
LuminanceAdjustmentAqua | 0 |
LuminanceAdjustmentBlue | 0 |
LuminanceAdjustmentGreen | 0 |
LuminanceAdjustmentMagenta | 0 |
LuminanceAdjustmentOrange | 0 |
LuminanceAdjustmentPurple | 0 |
LuminanceAdjustmentRed | 0 |
LuminanceAdjustmentYellow | 0 |
LuminanceSmoothing | 0 |
Luminosity | 3.4 |
Megapixels | 0.781 |
Method | Details Enhancer |
Microcontrast | 8.0 |
Microsmoothing | 9.1 |
Model | DSLR-A700 |
ModifyDate (1) | 2011:02:24 19:32:15+01:00 |
ModifyDate | 2011:02:24 19:32:15 |
ParametricDarks | -27 |
ParametricHighlights | 0 |
ParametricHighlightSplit | 75 |
ParametricLights | 0 |
ParametricMidtoneSplit | 50 |
ParametricShadows | -60 |
ParametricShadowSplit | 25 |
PostCropVignetteAmount | 0 |
ProfileDescription | sRGB IEC61966-2.1 |
RedHue | 0 |
RedSaturation | 0 |
Rights | Espen Paulsen |
Saturation | 0 |
SaturationAdjustmentAqua | 0 |
SaturationAdjustmentBlue | 0 |
SaturationAdjustmentGreen | 0 |
SaturationAdjustmentMagenta | 0 |
SaturationAdjustmentOrange | 0 |
SaturationAdjustmentPurple | 0 |
SaturationAdjustmentRed | 0 |
SaturationAdjustmentYellow | 0 |
SaturationHighlights | 7.6 |
SaturationShadows | 7.2 |
Shadows | 0 |
ShadowsClipping | 0.0 |
ShadowsSmoothing | 0.0 |
ShadowTint | 0 |
SharpenDetail | 25 |
SharpenEdgeMasking | 0 |
SharpenRadius | +1.0 |
Sharpness | 77 |
Smoothing | 10.0 |
SmoothingMode | Slider |
SplitToningBalance | 0 |
SplitToningHighlightHue | 0 |
SplitToningHighlightSaturation | 0 |
SplitToningShadowHue | 0 |
SplitToningShadowSaturation | 0 |
Strength | 100.0 |
Subject | 2010, Land, Landskap, Natur, Vann, lofoten |
ToneCurve | 0, 0, 255, 255 |
ToneCurveName | Linear |
Version (1) | 3.2 |
Version | 5.7 |
Vibrance | 0 |
VignetteAmount | 0 |
WhiteBalance | As Shot |
WhiteClip | 3.501600 |