Felt | Verdi |
AlreadyApplied | True |
Aperture | 8.0 |
ApertureValue | 8.0 |
ApproximateFocusDistance | 2.26 |
Artist | Eric Fagerheim |
BitsPerSample | 8 |
BlueHue | 0 |
BlueSaturation | 0 |
Brightness | 0 |
By-line | Eric Fagerheim |
CameraProfile | Embedded |
ChromaticAberrationB | 0 |
ChromaticAberrationR | 0 |
CircleOfConfusion | 0.031 mm |
Clarity | 0 |
ColorComponents | 3 |
ColorNoiseReduction | 0 |
Contrast | 0 |
ConvertToGrayscale | False |
Copyright | Din fotograf i Trondheim - Fotofashion |
CopyrightNotice | Din fotograf i Trondheim - Fotofashion |
CreateDate (1) | 2011:01:05 18:22:13.57+01:00 |
CreateDate | 2011:01:05 18:22:13 |
Creator | Eric Fagerheim |
CreatorTool | Adobe Photoshop Lightroom 3.3 |
CreatorWorkEmail | mail@fotofashion.no |
CreatorWorkURL | http://www.fotofashion.no |
CustomRendered | Normal |
DateCreated (1) | 2011:01:05 |
DateCreated | 2011:01:05 18:22:13.057 |
DateTimeDigitized | 2011:01:05 18:22:13.57+01:00 |
DateTimeOriginal (1) | 2011:01:05 18:22:13.57+01:00 |
DateTimeOriginal | 2011:01:05 18:22:13 |
Defringe | 0 |
DOF | 1.19 m (1.81 - 3.00 m) |
ExifImageHeight | 800 |
ExifImageWidth | 593 |
Exposure | 0.00 |
ExposureCompensation | 0 |
ExposureMode | Manual |
ExposureProgram | Manual |
ExposureTime | 1/160 |
FillLight | 0 |
Firmware | 2.0.8 |
Flash | Off, Did not fire |
FlashCompensation | 0 |
FlashFired | False |
FlashFunction | False |
FlashMode | Off |
FlashRedEyeMode | False |
FlashReturn | No return detection |
FNumber | 8.0 |
FocalLength | 47.0 mm |
FocalLength35efl | 47.0 mm (35 mm equivalent: 45.9 mm) |
Format | application/vnd.adobe.photoshop |
FOV | 42.9 deg |
GradientBasedCorrActive | true |
GradientBasedCorrAmount | 1.000000 |
GradientBasedCorrBrightness | 0.000000 |
GradientBasedCorrClarity | 0.000000 |
GradientBasedCorrContrast | 0.000000 |
GradientBasedCorrExposure | -0.024000 |
GradientBasedCorrHue | 0.000000 |
GradientBasedCorrMaskFullX | 0.540643 |
GradientBasedCorrMaskFullY | 0.904762 |
GradientBasedCorrMaskValue | 1.000000 |
GradientBasedCorrMaskWhat | Mask/Gradient |
GradientBasedCorrMaskZeroX | 0.540643 |
GradientBasedCorrMaskZeroY | 0.684874 |
GradientBasedCorrSaturation | 0.000000 |
GradientBasedCorrSharpness | 0.000000 |
GradientBasedCorrWhat | Correction |
GrainAmount | 0 |
GreenHue | 0 |
GreenSaturation | 0 |
HasCrop | False |
HasSettings | True |
Headline | Din fotograf i Trondheim - Fotofashion |
HighlightRecovery | 0 |
HueAdjustmentAqua | 0 |
HueAdjustmentBlue | 0 |
HueAdjustmentGreen | 0 |
HueAdjustmentMagenta | 0 |
HueAdjustmentOrange | 0 |
HueAdjustmentPurple | 0 |
HueAdjustmentRed | 0 |
HueAdjustmentYellow | 0 |
HyperfocalDistance | 8.97 m |
ImageHeight | 800 |
ImageNumber | 0 |
ImageSize | 593x800 |
ImageWidth | 593 |
IncrementalTemperature | 0 |
IncrementalTint | 0 |
ISO | 100 |
Keywords | bilde, foto, fotofashion, fotograf, fotograf trondheim, fotografi, jump, studio, trondheim |
Lens | EF24-105mm f/4L IS USM |
LensID (1) | 237 |
LensID | Canon EF 24-105mm f/4L IS USM |
LensInfo | 24-105mm f/? |
LensManualDistortionAmount | 0 |
LensModel | EF24-105mm f/4L IS USM |
LensProfileEnable | 0 |
LensProfileSetup | LensDefaults |
LightValue | 13.3 |
LuminanceAdjustmentAqua | 0 |
LuminanceAdjustmentBlue | 0 |
LuminanceAdjustmentGreen | 0 |
LuminanceAdjustmentMagenta | 0 |
LuminanceAdjustmentOrange | 0 |
LuminanceAdjustmentPurple | 0 |
LuminanceAdjustmentRed | 0 |
LuminanceAdjustmentYellow | 0 |
LuminanceSmoothing | 0 |
Make | Canon |
MaxApertureValue | 4.0 |
Megapixels | 0.474 |
MeteringMode | Center-weighted average |
Model | Canon EOS 5D Mark II |
ModifyDate (1) | 2011:01:05 21:30:26+01:00 |
ModifyDate | 2011:01:05 21:30:26 |
ObjectName | Din fotograf i Trondheim - Fotofashion |
ParametricDarks | -7 |
ParametricHighlights | 0 |
ParametricHighlightSplit | 75 |
ParametricLights | +22 |
ParametricMidtoneSplit | 50 |
ParametricShadows | 0 |
ParametricShadowSplit | 25 |
PerspectiveHorizontal | 0 |
PerspectiveRotate | 0.0 |
PerspectiveScale | 100 |
PerspectiveVertical | 0 |
PostCropVignetteAmount | 0 |
ProcessVersion | 5.7 |
ProfileDescription | sRGB IEC61966-2.1 |
Rating | 1 |
RedHue | 0 |
RedSaturation | 0 |
Rights | Din fotograf i Trondheim - Fotofashion |
Saturation | -13 |
SaturationAdjustmentAqua | 0 |
SaturationAdjustmentBlue | 0 |
SaturationAdjustmentGreen | 0 |
SaturationAdjustmentMagenta | 0 |
SaturationAdjustmentOrange | 0 |
SaturationAdjustmentPurple | 0 |
SaturationAdjustmentRed | 0 |
SaturationAdjustmentYellow | 0 |
ScaleFactor35efl | 1.0 |
SceneCaptureType | Standard |
SensitivityType | Unknown |
SerialNumber | 1330823407 |
Shadows | 8 |
ShadowTint | 0 |
SharpenDetail | 25 |
SharpenEdgeMasking | 0 |
SharpenRadius | +1.0 |
Sharpness | 0 |
ShutterSpeed | 1/160 |
ShutterSpeedValue | 1/160 |
Software | Adobe Photoshop CS5 Windows |
SplitToningBalance | 0 |
SplitToningHighlightHue | 0 |
SplitToningHighlightSaturation | 0 |
SplitToningShadowHue | 0 |
SplitToningShadowSaturation | 0 |
Subject | bilde, foto, fotofashion, fotograf, fotograf trondheim, fotografi, jump, studio, trondheim |
SubjectDistance | 2.26 m |
Title | Din fotograf i Trondheim - Fotofashion |
ToneCurve | 0, 0, 255, 255 |
ToneCurveName | Linear |
URL | http://www.fotofashion.no |
Version | 6.3 |
Vibrance | 0 |
VignetteAmount | -10 |
VignetteMidpoint | 50 |
WebStatement | http://www.fotofashion.no |
WhiteBalance (2) | Custom |
WhiteBalance | Auto |