Felt | Verdi |
AlreadyApplied | True |
Aperture | 10.0 |
ApertureValue | 10.0 |
ApproximateFocusDistance | 181 |
Artist | Kenneth Herigstad |
BitsPerSample | 8 |
BlueHue | 0 |
BlueSaturation | 0 |
Brightness | -16 |
By-line | Kenneth Herigstad |
CameraProfile | Embedded |
ChromaticAberrationB | 0 |
ChromaticAberrationR | 0 |
CircleOfConfusion | 0.019 mm |
Clarity | +43 |
ColorComponents | 3 |
ColorNoiseReduction | 25 |
ColorNoiseReductionDetail | 50 |
ColorSpace | sRGB |
Contrast | +25 |
ConvertToGrayscale | True |
Copyright | Kenneth Herigstad |
CopyrightFlag | True |
CopyrightNotice | Kenneth Herigstad |
CreateDate (1) | 2010:07:25 11:46:52+02:00 |
CreateDate | 2010:07:25 11:46:52 |
Creator | Kenneth Herigstad |
CreatorAddress | Eventyrveien 12 c |
CreatorCity | Sandnes |
CreatorCountry | Norway |
CreatorPostalCode | 4315 |
CreatorTool | Adobe Photoshop Lightroom |
CreatorWorkEmail | kenneth.herigstad@lyse.net |
CreatorWorkTelephone | 99793615 |
CustomRendered | Normal |
DateTimeDigitized | 2010:07:25 11:46:52+02:00 |
DateTimeOriginal (1) | 2010:07:25 11:46:52+02:00 |
DateTimeOriginal | 2010:07:25 11:46:52 |
Defringe | 0 |
DOF | inf (23.04 m - inf) |
ExifImageHeight | 3888 |
ExifImageWidth | 2592 |
Exposure | -0.97 |
ExposureCompensation | 0 |
ExposureMode | Auto |
ExposureProgram | Aperture-priority AE |
ExposureTime | 1/125 |
FillLight | 39 |
Firmware | unknown |
Flash | Off, Did not fire |
FlashCompensation | 0 |
FlashFired | False |
FlashFunction | False |
FlashMode | Off |
FlashRedEyeMode | False |
FlashReturn | No return detection |
FNumber | 10.0 |
FocalLength | 70.0 mm |
FocalLength35efl | 70.0 mm (35 mm equivalent: 113.3 mm) |
FOV | 18.1 deg |
GrainAmount | 0 |
GrayMixerAqua | -10 |
GrayMixerBlue | +20 |
GrayMixerGreen | -17 |
GrayMixerMagenta | +32 |
GrayMixerOrange | +12 |
GrayMixerPurple | +25 |
GrayMixerRed | +39 |
GrayMixerYellow | -9 |
GreenHue | 0 |
GreenSaturation | 0 |
HasCrop | False |
HasSettings | True |
HighlightRecovery | 29 |
HyperfocalDistance | 26.39 m |
ImageHeight | 3888 |
ImageNumber | 13362 |
ImageSize | 2592x3888 |
ImageWidth | 2592 |
IncrementalTemperature | +8 |
IncrementalTint | -16 |
ISO | 100 |
LensManualDistortionAmount | 0 |
LensProfileEnable | 0 |
LensProfileSetup | LensDefaults |
LightValue | 13.6 |
LuminanceNoiseReductionContrast | 16 |
LuminanceNoiseReductionDetail | 37 |
LuminanceSmoothing | 18 |
Make | Canon |
Marked | True |
MaxApertureValue | 1.0 |
Megapixels | 10.1 |
MeteringMode | Multi-segment |
Model | Canon EOS 400D DIGITAL |
ModifyDate (1) | 2010:10:19 21:03:22+02:00 |
ModifyDate | 2010:10:19 21:03:22 |
ParametricDarks | -26 |
ParametricHighlights | +5 |
ParametricHighlightSplit | 75 |
ParametricLights | +52 |
ParametricMidtoneSplit | 50 |
ParametricShadows | +37 |
ParametricShadowSplit | 25 |
PerspectiveHorizontal | 0 |
PerspectiveRotate | 0.0 |
PerspectiveScale | 100 |
PerspectiveVertical | 0 |
PostCropVignetteAmount | +22 |
PostCropVignetteFeather | 60 |
PostCropVignetteMidpoint | 50 |
PostCropVignetteRoundness | 0 |
PostCropVignetteStyle | 1 |
ProcessVersion | 5.7 |
ProfileDescription | sRGB IEC61966-2.1 |
RedHue | 0 |
RedSaturation | 0 |
Rights | Kenneth Herigstad |
ScaleFactor35efl | 1.6 |
SceneCaptureType | Standard |
SensitivityType | Unknown |
SerialNumber | 2281219529 |
Shadows | 2 |
ShadowTint | 0 |
SharpenDetail | 25 |
SharpenEdgeMasking | 11 |
SharpenRadius | +1.2 |
Sharpness | 45 |
ShutterSpeed | 1/125 |
ShutterSpeedValue | 1/125 |
SplitToningBalance | 0 |
SplitToningHighlightHue | 51 |
SplitToningHighlightSaturation | 22 |
SplitToningShadowHue | 37 |
SplitToningShadowSaturation | 32 |
SubjectDistance | 181 m |
ToneCurve | 0, 0, 32, 22, 64, 56, 128, 128, 192, 196, 255, 255 |
ToneCurveName | Medium Contrast |
Version | 6.2 |
VignetteAmount | 0 |
WhiteBalance (2) | Custom |
WhiteBalance | Manual |