Felt | Verdi |
2010-10-17T15:26:06+02:00 File _MG_1737.jpg saved
AlreadyApplied | True |
Angle: 0°
Aperture | 1.4 |
ApertureValue | 1.4 |
As: Camera Raw
BitsPerSample | 8 |
Blacks: 9
Blue Hue: 0
Blue Saturation: 0
Blue: 255
BlueHue | 0 |
BlueSaturation | 0 |
Bottom: 33,15 cm
Brightness | +70 |
Brightness: 70
Brush Tool
Camera Profile: “Adobe Standard”
CameraProfile | Adobe Standard |
Chromatic Aberration B: 0
Chromatic Aberration R: 0
ChromaticAberrationB | 0 |
ChromaticAberrationR | 0 |
CircleOfConfusion | 0.031 mm |
Clarity | +20 |
Clarity: 20
Color Noise Reduction: 25
Color: RGB color
ColorComponents | 3 |
ColorMode | RGB |
ColorNoiseReduction | 25 |
ColorSpace | Uncalibrated |
ColorTemperature | 5700 |
Contrast | +27 |
Contrast: 27
ConvertToGrayscale | False |
CreateDate (1) | 2010:10:17 14:41:10.41+02:00 |
CreateDate | 2010:10:17 14:41:10 |
Crop
Crop Angle: 0
Crop Bottom: 0
Crop Left: 0
Crop Right: 0
Crop To: rectangle
Crop Top: 0
CustomRendered | Normal |
DateTimeDigitized | 2010:10:17 14:41:10.41+02:00 |
DateTimeOriginal (1) | 2010:10:17 14:41:10.41+02:00 |
DateTimeOriginal | 2010:10:17 14:41:10 |
Defringe | 0 |
Defringe: 0
Depth: 8 Bits/channel
DOF | 0.006 m (0.437 - 0.443 m) |
ExifImageHeight | 708 |
ExifImageWidth | 1024 |
Exposure | +0.05 |
Exposure: 0,05
ExposureCompensation | +1/3 |
ExposureMode | Auto |
ExposureProgram | Aperture-priority AE |
ExposureTime | 1/125 |
Fill Light: 3
Fill Method: color
FillLight | 3 |
Firmware | 2.0.4 |
Flash | Off, Did not fire |
FlashCompensation | 0 |
FlashFired | False |
FlashFunction | False |
FlashMode | Off |
FlashRedEyeMode | False |
FlashReturn | No return detection |
Flatten Image
FNumber | 1.4 |
FocalLength | 50.0 mm |
FocalLength35efl | 50.0 mm (35 mm equivalent: 48.8 mm) |
Format | image/jpeg |
FOV | 40.5 deg |
GrainAmount | 0 |
Green Hue: 0
Green Saturation: 0
Green: 255
GreenHue | 0 |
GreenSaturation | 0 |
HasCrop | False |
HasSettings | True |
Hide current layer
HighlightRecovery | 0 |
Hue Adjust Aqua: 0
Hue Adjust Blue: 0
Hue Adjust Green: 0
Hue Adjust Magenta: 0
Hue Adjust Orange: 0
Hue Adjust Purple: 0
Hue Adjust Red: 0
Hue Adjust Yellow: 0
HueAdjustmentAqua | 0 |
HueAdjustmentBlue | 0 |
HueAdjustmentGreen | 0 |
HueAdjustmentMagenta | 0 |
HueAdjustmentOrange | 0 |
HueAdjustmentPurple | 0 |
HueAdjustmentRed | 0 |
HueAdjustmentYellow | 0 |
HyperfocalDistance | 58.00 m |
ICCProfileName | Adobe RGB (1998) |
Image Size
Image Size Width: 1024 pixels
Image Size Width: 1200 pixels
Image Size Width: 3000 pixels
ImageHeight | 708 |
ImageNumber | 0 |
ImageSize | 1024x708 |
ImageWidth | 1024 |
Interpolation: bicubic
ISO | 100 |
Left: 0 cm
Lens | EF50mm f/1.2L USM |
LensID (1) | 241 |
LensID | Canon EF 50mm f/1.2L USM |
LensInfo | 50mm f/? |
LightValue | 7.9 |
Local Adjustments: “”
Luminance Adjust Aqua: 0
Luminance Adjust Blue: 0
Luminance Adjust Green: 0
Luminance Adjust Magenta: 0
Luminance Adjust Orange: 0
Luminance Adjust Purple: 0
Luminance Adjust Red: 0
Luminance Adjust Yellow: 0
Luminance Smoothing: 0
LuminanceAdjustmentAqua | 0 |
LuminanceAdjustmentBlue | 0 |
LuminanceAdjustmentGreen | 0 |
LuminanceAdjustmentMagenta | 0 |
LuminanceAdjustmentOrange | 0 |
LuminanceAdjustmentPurple | 0 |
LuminanceAdjustmentRed | 0 |
LuminanceAdjustmentYellow | 0 |
LuminanceSmoothing | 0 |
Make | Canon |
master diameter: 70 pixels
Master Opacity Change
MaxApertureValue | 1.2 |
Megapixels | 0.725 |
Merge Visible
MeteringMode | Multi-segment |
Mode: normal
Model | Canon EOS 5D Mark II |
Model: “Canon EOS 5D Mark II”
ModifyDate (1) | 2010:10:17 15:26:06+02:00 |
ModifyDate | 2010:10:17 15:26:06 |
Opacity: 100%
Opacity: 23%
Opacity: 24%
Opacity: 40%
Opacity: 50%
Opacity: 55%
Opacity: 65%
Open Macintosh HD:Users:adied:Desktop:2010-10-17:_MG_1737.CR2
Orientation | Horizontal (normal) |
Output Sharpen For: None
Parametric Darks: 4
Parametric Highlight Split: 75
Parametric Highlights: 5
Parametric Lights: 5
Parametric Midtone Split: 50
Parametric Shadow Split: 25
Parametric Shadows: 0
ParametricDarks | +4 |
ParametricHighlights | +5 |
ParametricHighlightSplit | 75 |
ParametricLights | +5 |
ParametricMidtoneSplit | 50 |
ParametricShadows | 0 |
ParametricShadowSplit | 25 |
Play action “A Better Web Sharpen” of set “TRA2 - The Revenge”
Play action “B&W” of set “Kubota Mini Actions”
Play action “Lux (hard)” of set “TRA2 - The Revenge”
Play action “Select-O-Sharp” of set “TRA2 - The Revenge”
Play action “Slice Like A Ninja (Sharpen)” of set “TRA2 - The Revenge”
Play action “Warm it up, Kris!” of set “Totally Rad! - Daily Grind”
Position: inside
Post Crop Vignetting Amount: 0
PostCropVignetteAmount | 0 |
ProcessVersion | 5.0 |
ProfileDescription | Adobe RGB (1998) |
Rating | 0 |
RawFileName | _MG_1737.CR2 |
Recovery: 0
Red Eye: “”
Red Hue: 0
Red Saturation: 0
Red: 255
RedHue | 0 |
RedSaturation | 0 |
Resolution: 240
Right: 49,72 cm
Saturation Adjust Aqua: 0
Saturation Adjust Blue: 0
Saturation Adjust Green: 0
Saturation Adjust Magenta: 0
Saturation Adjust Orange: 0
Saturation Adjust Purple: 0
Saturation Adjust Red: 0
Saturation Adjust Yellow: 0
Saturation | 0 |
Saturation: 0
SaturationAdjustmentAqua | 0 |
SaturationAdjustmentBlue | 0 |
SaturationAdjustmentGreen | 0 |
SaturationAdjustmentMagenta | 0 |
SaturationAdjustmentOrange | 0 |
SaturationAdjustmentPurple | 0 |
SaturationAdjustmentRed | 0 |
SaturationAdjustmentYellow | 0 |
Scale: 1
Scale: 5524,5%
ScaleFactor35efl | 1.0 |
SceneCaptureType | Standard |
Select brush
Select layer “add snap” Without Make Visible
Select layer “GM B&W warm 1” Without Make Visible
Select layer “keyline layer” Without Make Visible
Select previous history state
Select RGB channel Without Make Visible
SerialNumber | 1330808299 |
Set current brush To: brush
Set current layer To: layer
Set Layer Styles of current layer To: layer styles
Settings: Custom
Shadow Tint: 0
Shadows | 9 |
ShadowTint | 0 |
Sharpen Amount: 25
Sharpen Detail: 25
Sharpen Masking: 0
Sharpen Radius: 1
SharpenDetail | 25 |
SharpenEdgeMasking | 0 |
SharpenRadius | +1.0 |
Sharpness | 25 |
Show current layer
ShutterSpeed | 1/125 |
ShutterSpeedValue | 1/125 |
SidecarForExtension | CR2 |
Size: 3 pixels
Software | Adobe Photoshop CS4 Macintosh |
Space: Adobe RGB (1998)
Split Tone Balance: 0
Split Tone Highlight Hue: 0
Split Tone Highlight Saturation: 0
Split Tone Shadow Hue: 0
Split Tone Shadow Saturation: 0
SplitToningBalance | 0 |
SplitToningHighlightHue | 0 |
SplitToningHighlightSaturation | 0 |
SplitToningShadowHue | 0 |
SplitToningShadowSaturation | 0 |
Stroke
Stroke: stroke
SubjectDistance | 0.44 m |
Target Height: 2 cm
Target Resolution: 0 per cm
Target Width: 3 cm
Tint | -10 |
Tone Curve: 0, 0, 32, 22, 64, 56, 128, 128, 192, 196, 255, 255
ToneCurve | 0, 0, 32, 22, 64, 56, 128, 128, 192, 196, 255, 255 |
ToneCurveName | Medium Contrast |
Top: 0 cm
URL_List | |
Version | 5.7 |
Vibrance | +15 |
Vibrance: 15
VignetteAmount | -94 |
VignetteMidpoint | 25 |
Vignetting Amount: -94
Vignetting Midpoint: 25
White Balance: As Shot
WhiteBalance (2) | As Shot |
WhiteBalance | Auto |
With Constrain Proportions
With Enabled
With Scale Styles
Without Convert to Grayscale