Felt | Verdi |
AlreadyApplied | True |
Aperture | 4.5 |
ApertureValue | 4.5 |
ApproximateFocusDistance | 25.3 |
Artist | Svein Jarle Anglevik |
BitsPerSample | 8 |
BlueHue | 0 |
BlueSaturation | 0 |
Brightness | +65 |
By-line | Svein Jarle Anglevik |
CameraProfile | Adobe Standard |
ChromaticAberrationB | 0 |
ChromaticAberrationR | 0 |
CircleOfConfusion | 0.019 mm |
Clarity | +43 |
ColorComponents | 3 |
ColorMode | RGB |
ColorNoiseReduction | 25 |
ColorNoiseReductionDetail | 50 |
ColorTemperature | 4900 |
Contrast | +25 |
ConvertToGrayscale | False |
Copyright | Svein Jarle Anglevik |
CopyrightNotice | Svein Jarle Anglevik |
CreateDate (1) | 2010:10:08 15:11:14.46+02:00 |
CreateDate | 2010:10:08 15:11:14 |
Creator | Svein Jarle Anglevik |
CreatorTool | Microsoft Windows Live Photo Gallery14.0.8117.416 |
CropAngle | 0 |
CropBottom | 0.823906 |
CropConstrainToWarp | 1 |
CropLeft | 0.334282 |
CropRight | 0.710526 |
CropTop | 0.24333 |
CustomRendered | Normal |
DateCreated (1) | 2010:10:08 |
DateCreated | 2010:10:08 15:11:14.046 |
DateTimeOriginal | 2010:10:08 15:11:14 |
Defringe | 0 |
DOF | 2.74 m (24.00 - 26.75 m) |
ExifImageHeight | 1339 |
ExifImageWidth | 1300 |
Exposure | -0.25 |
ExposureCompensation | 0 |
ExposureMode | Auto |
ExposureProgram | Shutter speed priority AE |
ExposureTime | 1/400 |
FillLight | 10 |
Firmware | 1.1.0 |
Flash | Off, Did not fire |
FlashCompensation | 0 |
FNumber | 4.5 |
FocalLength | 200.0 mm |
FocalLength35efl | 200.0 mm (35 mm equivalent: 314.1 mm) |
Format | image/jpeg |
FOV | 6.6 deg |
GrainAmount | 0 |
GreenHue | 0 |
GreenSaturation | 0 |
HasCrop | True |
HasSettings | True |
HighlightRecovery | 15 |
HueAdjustmentAqua | 0 |
HueAdjustmentBlue | 0 |
HueAdjustmentGreen | 0 |
HueAdjustmentMagenta | 0 |
HueAdjustmentOrange | 0 |
HueAdjustmentPurple | 0 |
HueAdjustmentRed | 0 |
HueAdjustmentYellow | 0 |
HyperfocalDistance | 464.57 m |
ICCProfileName | ProPhoto RGB |
ImageHeight | 1339 |
ImageNumber | 0 |
ImageSize | 1300x1339 |
ImageWidth | 1300 |
ISO | 125 |
Lens | EF70-200mm f/4L IS USM |
LensID (1) | 242 |
LensID | Canon EF 70-200mm f/4L IS USM |
LensInfo | 70-200mm f/? |
LensManualDistortionAmount | 0 |
LensModel | EF70-200mm f/4L IS USM |
LensProfileChromaticAberrationScale | 100 |
LensProfileDistortionScale | 100 |
LensProfileEnable | 1 |
LensProfileFilename | Canon EOS 5D Mark II (Canon EF 70-200mm f4L IS USM) - RAW.lcp |
LensProfileName | Adobe (Canon EF 70-200mm f/4 L IS USM) |
LensProfileSetup | Custom |
LensProfileVignettingScale | 40 |
LightValue | 12.7 |
LuminanceAdjustmentAqua | 0 |
LuminanceAdjustmentBlue | 0 |
LuminanceAdjustmentGreen | +76 |
LuminanceAdjustmentMagenta | 0 |
LuminanceAdjustmentOrange | -26 |
LuminanceAdjustmentPurple | 0 |
LuminanceAdjustmentRed | -1 |
LuminanceAdjustmentYellow | -15 |
LuminanceNoiseReductionContrast | 0 |
LuminanceNoiseReductionDetail | 50 |
LuminanceSmoothing | 20 |
Make | Canon |
MaxApertureValue | 4.0 |
Megapixels | 1.7 |
MeteringMode | Multi-segment |
Model | Canon EOS 7D |
ModifyDate (1) | 2010:10:11 13:12:36+02:00 |
ModifyDate | 2010:10:12 20:40:52 |
Orientation | Horizontal (normal) |
OriginatingProgram | Microsoft Windows Live Photo Gallery14.0.8117.416 |
OwnerName | Svein Jarle Anglevik |
ParametricDarks | 0 |
ParametricHighlights | 0 |
ParametricHighlightSplit | 75 |
ParametricLights | 0 |
ParametricMidtoneSplit | 50 |
ParametricShadows | 0 |
ParametricShadowSplit | 25 |
PerspectiveHorizontal | 0 |
PerspectiveRotate | 0.0 |
PerspectiveScale | 100 |
PerspectiveVertical | 0 |
PostCropVignetteAmount | 0 |
ProcessVersion | 5.7 |
ProfileDescription | ProPhoto RGB |
Rating | 0 |
RawFileName | 015.CR2 |
RedHue | 0 |
RedSaturation | 0 |
Rights | Svein Jarle Anglevik |
Saturation | 0 |
SaturationAdjustmentAqua | 0 |
SaturationAdjustmentBlue | 0 |
SaturationAdjustmentGreen | +57 |
SaturationAdjustmentMagenta | 0 |
SaturationAdjustmentOrange | +20 |
SaturationAdjustmentPurple | 0 |
SaturationAdjustmentRed | +10 |
SaturationAdjustmentYellow | 0 |
ScaleFactor35efl | 1.6 |
SceneCaptureType | Standard |
SensitivityType | Unknown |
SerialNumber | 480408169 |
Shadows | 10 |
ShadowTint | 0 |
SharpenDetail | 40 |
SharpenEdgeMasking | 50 |
SharpenRadius | +0.8 |
Sharpness | 55 |
ShutterSpeed | 1/400 |
ShutterSpeedValue | 1/400 |
SidecarForExtension | CR2 |
Software | Microsoft Windows Live Photo Gallery14.0.8117.416 |
SplitToningBalance | 0 |
SplitToningHighlightHue | 0 |
SplitToningHighlightSaturation | 0 |
SplitToningShadowHue | 0 |
SplitToningShadowSaturation | 0 |
SubjectDistance | 25.3 m |
Tint | +19 |
ToneCurve | 0, 0, 32, 16, 64, 50, 128, 128, 192, 202, 255, 255 |
ToneCurveName | Strong Contrast |
URL_List | |
Version | 6.2 |
Vibrance | +24 |
VignetteAmount | 0 |
WhiteBalance (1) | As Shot |
WhiteBalance | Auto |