Felt | Verdi |
AlreadyApplied | True |
Aperture | 4.0 |
ApertureValue | 4.0 |
BitsPerSample (1) | 8 8 8 |
BitsPerSample | 8 |
BlueHue | 0 |
BlueSaturation | +22 |
Brightness | +50 |
CameraProfile | Adobe Standard |
ChromaticAberrationB | 0 |
ChromaticAberrationR | 0 |
CircleOfConfusion | 0.019 mm |
Clarity | +24 |
ColorComponents | 3 |
ColorMode | RGB |
ColorNoiseReduction | 25 |
ColorNoiseReductionDetail | 50 |
ColorSpace | sRGB |
ColorTemperature | 6550 |
Contrast | +25 |
ConvertToGrayscale | False |
CreateDate (1) | 2009:08:30 19:31:59.94+02:00 |
CreateDate | 2009:08:30 19:31:59 |
CreatorTool | Adobe Photoshop CS5 Windows |
CropAngle | 3.40741 |
CropBottom | 1 |
CropConstrainToWarp | 0 |
CropHeight | 2383 |
CropLeft | 0.053358 |
CropRight | 0.93493 |
CropTop | 0 |
CropUnit | pixels |
CropWidth | 3575 |
CustomRendered | Normal |
DateCreated (1) | 2009:08:30 |
DateCreated | 2009:08:30 19:31:59.094 |
DateTimeOriginal | 2009:08:30 19:31:59 |
Defringe | 0 |
DOF | 74.46 m (1.91 - 76.37 m) |
ExifImageHeight | 600 |
ExifImageWidth | 900 |
Exposure | 0.00 |
ExposureCompensation | 0 |
ExposureMode | Auto |
ExposureProgram | Shutter speed priority AE |
ExposureTime | 1/25 |
FillLight | 22 |
Firmware | 1.0.5 |
Flash | Off, Did not fire |
FlashCompensation | 0 |
FNumber | 4.0 |
FocalLength | 17.0 mm |
FocalLength35efl | 17.0 mm (35 mm equivalent: 27.5 mm) |
Format | image/jpeg |
FOV | 66.4 deg |
GrainAmount | 0 |
GreenHue | 0 |
GreenSaturation | +31 |
HasCrop | True |
HasSettings | True |
HighlightRecovery | 100 |
HueAdjustmentAqua | 0 |
HueAdjustmentBlue | 0 |
HueAdjustmentGreen | 0 |
HueAdjustmentMagenta | 0 |
HueAdjustmentOrange | 0 |
HueAdjustmentPurple | 0 |
HueAdjustmentRed | 0 |
HueAdjustmentYellow | 0 |
HyperfocalDistance | 3.89 m |
ICCProfileName | sRGB IEC61966-2.1 |
ImageHeight (1) | 2383 |
ImageHeight | 600 |
ImageNumber | 0 |
ImageSize | 900x600 |
ImageWidth (1) | 3575 |
ImageWidth | 900 |
ISO | 400 |
Lens | EF17-40mm f/4L USM |
LensID (1) | 231 |
LensID | Canon EF 17-40mm f/4L USM |
LensInfo | 17-40mm f/? |
LensManualDistortionAmount | 0 |
LensProfileEnable | 0 |
LensProfileSetup | LensDefaults |
LightValue | 6.6 |
LuminanceAdjustmentAqua | 0 |
LuminanceAdjustmentBlue | -52 |
LuminanceAdjustmentGreen | +32 |
LuminanceAdjustmentMagenta | 0 |
LuminanceAdjustmentOrange | 0 |
LuminanceAdjustmentPurple | 0 |
LuminanceAdjustmentRed | 0 |
LuminanceAdjustmentYellow | 0 |
LuminanceNoiseReductionContrast | 0 |
LuminanceNoiseReductionDetail | 50 |
LuminanceSmoothing | 25 |
Make | Canon |
MaxApertureValue | 4.0 |
Megapixels | 0.540 |
MeteringMode | Spot |
Model | Canon EOS 40D |
ModifyDate (1) | 2010:09:26 00:34:51+02:00 |
ModifyDate | 2010:09:26 00:34:51 |
Orientation | Horizontal (normal) |
ParametricDarks | 0 |
ParametricHighlights | -52 |
ParametricHighlightSplit | 75 |
ParametricLights | -31 |
ParametricMidtoneSplit | 50 |
ParametricShadows | 0 |
ParametricShadowSplit | 25 |
PerspectiveHorizontal | 0 |
PerspectiveRotate | 0.0 |
PerspectiveScale | 100 |
PerspectiveVertical | 0 |
PhotometricInterpretation | RGB |
PlanarConfiguration | Chunky |
PostCropVignetteAmount | 0 |
ProcessVersion | 5.7 |
ProfileDescription | sRGB IEC61966-2.1 |
RedHue | 0 |
RedSaturation | +6 |
Saturation | 0 |
SaturationAdjustmentAqua | -100 |
SaturationAdjustmentBlue | -100 |
SaturationAdjustmentGreen | 0 |
SaturationAdjustmentMagenta | 0 |
SaturationAdjustmentOrange | 0 |
SaturationAdjustmentPurple | 0 |
SaturationAdjustmentRed | 0 |
SaturationAdjustmentYellow | 0 |
ScaleFactor35efl | 1.6 |
SceneCaptureType | Standard |
SerialNumber | 1130506892 |
Shadows | 0 |
ShadowTint | 0 |
SharpenDetail | 25 |
SharpenEdgeMasking | 16 |
SharpenRadius | +0.6 |
Sharpness | 86 |
ShutterSpeed | 1/25 |
ShutterSpeedValue | 1/25 |
Software | Adobe Photoshop CS5 Windows |
SplitToningBalance | 0 |
SplitToningHighlightHue | 0 |
SplitToningHighlightSaturation | 0 |
SplitToningShadowHue | 0 |
SplitToningShadowSaturation | 0 |
SubjectDistance | 3.72 m |
Tint | -7 |
ToneCurve | 0, 0, 32, 22, 64, 56, 128, 128, 192, 196, 255, 255 |
ToneCurveName | Medium Contrast |
URL_List | |
Version | 6.1 |
Vibrance | 0 |
VignetteAmount | 0 |
WhiteBalance (1) | As Shot |
WhiteBalance | Auto |