Felt | Verdi |
AlreadyApplied | True |
Aperture | 6.7 |
ApertureValue | 6.7 |
Artist | Torbjˆrn Larsson |
BitsPerSample | 8 |
BlueHue | 0 |
BlueSaturation | 0 |
Brightness | 0 |
By-line | Torbjˆrn Larsson |
CameraProfile | Adobe Standard |
ChromaticAberrationB | 0 |
ChromaticAberrationR | 0 |
Clarity | 0 |
ColorComponents | 3 |
ColorMode | RGB |
ColorNoiseReduction | 80 |
ColorNoiseReductionDetail | 13 |
ColorSpace | Uncalibrated |
ColorTemperature | 6500 |
Contrast | +49 |
ConvertToGrayscale | False |
Copyright | Torbjörn Larsson |
CopyrightNotice | Torbjörn Larsson |
CreateDate (1) | 2010:08:12 19:17:16+02:00 |
CreateDate | 2010:08:12 19:17:16 |
Creator | Torbjˆrn Larsson |
DateCreated (1) | 2010:08:12 |
DateCreated | 2010:08:12 19:17:16 |
DateTimeOriginal | 2010:08:12 19:17:16 |
Defringe | 0 |
ExifImageHeight | 1200 |
ExifImageWidth | 1800 |
Exposure | +1.20 |
ExposureCompensation | 0 |
ExposureProgram | Aperture-priority AE |
ExposureTime | 1/4000 |
FillLight | 0 |
Firmware | 1.0.1 |
Flash | No Flash |
FNumber | 6.7 |
FocalLength | 75.0 mm |
FocalLength35efl | 75.0 mm |
Format | image/jpeg |
GrainAmount | 0 |
GreenHue | 0 |
GreenSaturation | 0 |
HasCrop | False |
HasSettings | True |
HighlightRecovery | 0 |
HueAdjustmentAqua | 0 |
HueAdjustmentBlue | 0 |
HueAdjustmentGreen | -1 |
HueAdjustmentMagenta | 0 |
HueAdjustmentOrange | -6 |
HueAdjustmentPurple | 0 |
HueAdjustmentRed | -7 |
HueAdjustmentYellow | -3 |
ICCProfileName | Adobe RGB (1998) |
ImageHeight | 1200 |
ImageSize | 1800x1200 |
ImageWidth | 1800 |
ISO | 100 |
Lens | 75.0-300.0 mm |
LensInfo | 75-300mm f/? |
LensManualDistortionAmount | 0 |
LensProfileEnable | 0 |
LensProfileSetup | LensDefaults |
LightValue | 17.5 |
LuminanceAdjustmentAqua | 0 |
LuminanceAdjustmentBlue | 0 |
LuminanceAdjustmentGreen | 0 |
LuminanceAdjustmentMagenta | 0 |
LuminanceAdjustmentOrange | 0 |
LuminanceAdjustmentPurple | 0 |
LuminanceAdjustmentRed | 0 |
LuminanceAdjustmentYellow | 0 |
LuminanceNoiseReductionContrast | 35 |
LuminanceNoiseReductionDetail | 29 |
LuminanceSmoothing | 50 |
Make | Canon |
MaxApertureValue | 4.0 |
Megapixels | 2.2 |
MeteringMode | Center-weighted average |
Model | Canon EOS 10D |
ModifyDate (1) | 2010:08:14 17:02:38+02:00 |
ModifyDate | 2010:08:14 17:02:38 |
Orientation | Horizontal (normal) |
OwnerName | Torbjˆrn Larsson |
ParametricDarks | -31 |
ParametricHighlights | +100 |
ParametricHighlightSplit | 75 |
ParametricLights | +40 |
ParametricMidtoneSplit | 50 |
ParametricShadows | +100 |
ParametricShadowSplit | 13 |
PerspectiveHorizontal | 0 |
PerspectiveRotate | 0.0 |
PerspectiveScale | 100 |
PerspectiveVertical | 0 |
PostCropVignetteAmount | -2 |
PostCropVignetteFeather | 50 |
PostCropVignetteHighlightContrast | 0 |
PostCropVignetteMidpoint | 50 |
PostCropVignetteRoundness | 0 |
PostCropVignetteStyle | 1 |
ProcessVersion | 5.7 |
ProfileDescription | Adobe RGB (1998) |
Rating | 0 |
RawFileName | CRW_5516.CRW |
RedHue | 0 |
RedSaturation | 0 |
Rights | Torbjörn Larsson |
Saturation | 0 |
SaturationAdjustmentAqua | +2 |
SaturationAdjustmentBlue | +1 |
SaturationAdjustmentGreen | +3 |
SaturationAdjustmentMagenta | +8 |
SaturationAdjustmentOrange | +100 |
SaturationAdjustmentPurple | +6 |
SaturationAdjustmentRed | 0 |
SaturationAdjustmentYellow | +100 |
SerialNumber | 0630309990 |
Shadows | 2 |
ShadowTint | 0 |
SharpenDetail | 2 |
SharpenEdgeMasking | 11 |
SharpenRadius | +1.0 |
Sharpness | 25 |
ShutterSpeed | 1/4000 |
ShutterSpeedValue | 1/4000 |
Software | Adobe Photoshop CS5 Macintosh |
SplitToningBalance | -34 |
SplitToningHighlightHue | 306 |
SplitToningHighlightSaturation | 27 |
SplitToningShadowHue | 66 |
SplitToningShadowSaturation | 34 |
Tint | +10 |
ToneCurve | 0, 0, 44, 15, 61, 47, 116, 116, 168, 215, 255, 255 |
ToneCurveName | Custom |
URL_List | |
Version | 6.1 |
Vibrance | 0 |
VignetteAmount | 0 |
WhiteBalance | Cloudy |