Felt | Verdi |
AlreadyApplied | True |
Aperture | 2.8 |
ApertureValue | 2.8 |
Artist | stian janik |
BitsPerSample | 8 |
BlueHue | 0 |
BlueSaturation | 0 |
Brightness | +50 |
By-line | stian janik |
CameraProfile | Embedded |
ChromaticAberrationB | 0 |
ChromaticAberrationR | 0 |
CircleOfConfusion | 0.019 mm |
Clarity | +33 |
ColorComponents | 1 |
ColorNoiseReduction | 0 |
Contrast | +16 |
ConvertToGrayscale | True |
CreateDate (1) | 2010:07:01 20:43:49.00+02:00 |
CreateDate | 2010:07:01 20:43:49 |
Creator | stian janik |
CreatorTool | Adobe Photoshop Lightroom |
CustomRendered | Normal |
DateTimeDigitized | 2010:07:01 20:43:49.00+02:00 |
DateTimeOriginal (1) | 2010:07:01 20:43:49.00+02:00 |
DateTimeOriginal | 2010:07:01 20:43:49 |
Defringe | 0 |
ExifImageHeight | 5906 |
ExifImageWidth | 3937 |
Exposure | 0.00 |
ExposureCompensation | 0 |
ExposureMode | Auto |
ExposureProgram | Aperture-priority AE |
ExposureTime | 1/4000 |
FillLight | 0 |
Firmware | 1.0.8 |
Flash | Off, Did not fire |
FlashCompensation | 0 |
FlashFired | False |
FlashFunction | False |
FlashMode | Off |
FlashRedEyeMode | False |
FlashReturn | No return detection |
FNumber | 2.8 |
FocalLength | 17.0 mm |
FocalLength35efl | 17.0 mm (35 mm equivalent: 27.5 mm) |
FOV | 66.4 deg |
GrainAmount | 0 |
GrayMixerAqua | -19 |
GrayMixerBlue | +8 |
GrayMixerGreen | -26 |
GrayMixerMagenta | +4 |
GrayMixerOrange | -17 |
GrayMixerPurple | +14 |
GrayMixerRed | -8 |
GrayMixerYellow | -21 |
GreenHue | 0 |
GreenSaturation | 0 |
HasCrop | False |
HasSettings | True |
HighlightRecovery | 46 |
HyperfocalDistance | 5.56 m |
ImageHeight | 5906 |
ImageNumber | 0 |
ImageSize | 3937x5906 |
ImageWidth | 3937 |
IncrementalTemperature | +8 |
IncrementalTint | 0 |
ISO | 800 |
Lens | 17-35mm |
LensID (1) | 160 |
LensID | Tokina AT-X 124 AF Pro DX 12-24mm f/4 + 1.4x |
LensInfo | 17-35mm f/? |
LensManualDistortionAmount | 0 |
LensProfileChromaticAberrationScale | 100 |
LensProfileDistortionScale | 100 |
LensProfileEnable | 0 |
LensProfileFilename | Canon EOS-1Ds Mark III (Tamron Di 28-75mm f2.8 SP XR LD IF).lcp |
LensProfileName | Adobe (Tamron Di 28-75mm f/2.8 SP XR LD IF) |
LensProfileSetup | Custom |
LensProfileVignettingScale | 100 |
LightValue | 11.9 |
LuminanceNoiseReductionContrast | 0 |
LuminanceNoiseReductionDetail | 50 |
LuminanceSmoothing | 20 |
Make | Canon |
MaxApertureValue | 2.8 |
Megapixels | 23.3 |
MeteringMode | Spot |
Model | Canon EOS 40D |
ModifyDate (1) | 2010:07:29 21:43:31+02:00 |
ModifyDate | 2010:07:29 21:43:31 |
OwnerName | stian janik |
ParametricDarks | 0 |
ParametricHighlights | 0 |
ParametricHighlightSplit | 75 |
ParametricLights | 0 |
ParametricMidtoneSplit | 50 |
ParametricShadows | 0 |
ParametricShadowSplit | 25 |
PerspectiveHorizontal | 0 |
PerspectiveRotate | 0.0 |
PerspectiveScale | 100 |
PerspectiveVertical | 0 |
PostCropVignetteAmount | -77 |
PostCropVignetteFeather | 50 |
PostCropVignetteHighlightContrast | 0 |
PostCropVignetteMidpoint | 50 |
PostCropVignetteRoundness | 0 |
PostCropVignetteStyle | 1 |
ProcessVersion | 5.7 |
ProfileDescription | sRGB IEC61966-2.1 |
RedHue | 0 |
RedSaturation | 0 |
ScaleFactor35efl | 1.6 |
SceneCaptureType | Standard |
SerialNumber | 1410709247 |
Shadows | 0 |
ShadowTint | 0 |
SharpenDetail | 68 |
SharpenEdgeMasking | 41 |
SharpenRadius | +1.4 |
Sharpness | 50 |
ShutterSpeed | 1/4000 |
ShutterSpeedValue | 1/4000 |
SplitToningBalance | 0 |
SplitToningHighlightHue | 0 |
SplitToningHighlightSaturation | 0 |
SplitToningShadowHue | 0 |
SplitToningShadowSaturation | 0 |
ToneCurve | 0, 0, 255, 255 |
ToneCurveName | Linear |
Version | 6.1 |
VignetteAmount | 0 |
WhiteBalance | Auto |