Felt | Verdi |
AlreadyApplied | True |
Aperture | 5.0 |
ApertureValue | 5.0 |
Artist | Jan Erik Arud |
BitsPerSample | 8 |
BlueHue | 0 |
BlueSaturation | 0 |
Brightness | +50 |
By-line | Jan Erik Arud |
CameraProfile | Adobe Standard |
ChromaticAberrationB | 0 |
ChromaticAberrationR | 0 |
CircleOfConfusion | 0.031 mm |
Clarity | +38 |
ColorComponents | 3 |
ColorNoiseReduction | 25 |
ColorNoiseReductionDetail | 50 |
ColorTemperature | 7500 |
Contrast | +47 |
ConvertToGrayscale | False |
Copyright | Jan Erik Arud |
CopyrightFlag | True |
CopyrightNotice | Jan Erik Arud |
CreateDate (1) | 2010:07:12 20:47:33.74+02:00 |
CreateDate | 2010:07:12 20:47:33 |
Creator | Jan Erik Arud |
CreatorTool | Adobe Photoshop Lightroom |
CreatorWorkEmail | arud@bluezone.no |
CreatorWorkURL | http://www.flickr.com/photos/jarud/ |
CropAngle | 0 |
CropBottom | 1 |
CropConstrainToWarp | 0 |
CropHeight | 825 |
CropLeft | 0 |
CropRight | 1 |
CropTop | 0.033175 |
CropUnit | pixels |
CropWidth | 1280 |
CustomRendered | Normal |
DateTimeDigitized | 2010:07:12 20:47:33.74+02:00 |
DateTimeOriginal (1) | 2010:07:12 20:47:33.74+02:00 |
DateTimeOriginal | 2010:07:12 20:47:33 |
Defringe | 0 |
DOF | inf (2.60 m - inf) |
ExifImageHeight | 825 |
ExifImageWidth | 1280 |
Exposure | -0.51 |
ExposureCompensation | 0 |
ExposureMode | Manual |
ExposureProgram | Manual |
ExposureTime | 1/60 |
FillLight | 15 |
Firmware | 2.0.7 |
Flash | Off, Did not fire |
FlashCompensation | 0 |
FlashFired | False |
FlashFunction | False |
FlashMode | Off |
FlashRedEyeMode | False |
FlashReturn | No return detection |
FNumber | 5.0 |
FocalLength | 20.0 mm |
FocalLength35efl | 20.0 mm (35 mm equivalent: 19.5 mm) |
FOV | 85.4 deg |
GradientBasedCorrActive | true |
GradientBasedCorrAmount | 1.000000 |
GradientBasedCorrBrightness (1) | -0.293000 |
GradientBasedCorrBrightness | 0.000000 |
GradientBasedCorrClarity (1) | -0.655172 |
GradientBasedCorrClarity | 0.000000 |
GradientBasedCorrContrast (1) | -0.149425 |
GradientBasedCorrContrast | 0.250000 |
GradientBasedCorrExposure (1) | 0.024000 |
GradientBasedCorrExposure | -0.171000 |
GradientBasedCorrHue (1) | 232.000000 |
GradientBasedCorrHue | 221.000000 |
GradientBasedCorrMaskFullX (1) | 0.654670 |
GradientBasedCorrMaskFullX | 0.559902 |
GradientBasedCorrMaskFullY (1) | -0.195673 |
GradientBasedCorrMaskFullY | 1.011970 |
GradientBasedCorrMaskValue | 1.000000 |
GradientBasedCorrMaskWhat | Mask/Gradient |
GradientBasedCorrMaskZeroX (1) | 0.661716 |
GradientBasedCorrMaskZeroX | 0.538122 |
GradientBasedCorrMaskZeroY (1) | 0.662594 |
GradientBasedCorrMaskZeroY | 0.654910 |
GradientBasedCorrSaturation (1) | 0.561000 |
GradientBasedCorrSaturation (2) | 0.350000 |
GradientBasedCorrSaturation | 0.000000 |
GradientBasedCorrSharpness (1) | -0.150000 |
GradientBasedCorrSharpness | 0.000000 |
GradientBasedCorrWhat | Correction |
GrainAmount | 3 |
GrainFrequency | 50 |
GrainSize | 3 |
GreenHue | 0 |
GreenSaturation | 0 |
HasCrop | True |
HasSettings | True |
HighlightRecovery | 60 |
HueAdjustmentAqua | 0 |
HueAdjustmentBlue | 0 |
HueAdjustmentGreen | 0 |
HueAdjustmentMagenta | 0 |
HueAdjustmentOrange | 0 |
HueAdjustmentPurple | 0 |
HueAdjustmentRed | 0 |
HueAdjustmentYellow | 0 |
HyperfocalDistance | 2.60 m |
ImageHeight | 825 |
ImageNumber | 0 |
ImageSize | 1280x825 |
ImageWidth | 1280 |
ISO | 100 |
Lens | EF17-40mm f/4L USM |
LensID (1) | 231 |
LensID | Canon EF 17-40mm f/4L USM |
LensInfo | 17-40mm f/? |
LensManualDistortionAmount | 0 |
LensProfileChromaticAberrationScale | 100 |
LensProfileDistortionScale | 100 |
LensProfileEnable | 1 |
LensProfileFilename | Canon EOS-1Ds Mark III (Canon EF 17-40mm f4 L USM) - RAW.lcp |
LensProfileName | Adobe (Canon EF 17-40mm f/4 L USM) |
LensProfileSetup | LensDefaults |
LensProfileVignettingScale | 100 |
LightValue | 10.6 |
LuminanceAdjustmentAqua | 0 |
LuminanceAdjustmentBlue | 0 |
LuminanceAdjustmentGreen | 0 |
LuminanceAdjustmentMagenta | 0 |
LuminanceAdjustmentOrange | 0 |
LuminanceAdjustmentPurple | 0 |
LuminanceAdjustmentRed | 0 |
LuminanceAdjustmentYellow | 0 |
LuminanceNoiseReductionContrast | 0 |
LuminanceNoiseReductionDetail | 50 |
LuminanceSmoothing | 23 |
Make | Canon |
Marked | True |
MaxApertureValue | 4.0 |
Megapixels | 1.1 |
MeteringMode | Multi-segment |
Model | Canon EOS 5D Mark II |
ModifyDate (1) | 2010:07:17 17:35:49+02:00 |
ModifyDate | 2010:07:17 17:35:49 |
PaintCorrectionActive | true |
PaintCorrectionAmount | 1.000000 |
PaintCorrectionBrightness | 0.000000 |
PaintCorrectionClarity | 0.000000 |
PaintCorrectionContrast | 0.000000 |
PaintCorrectionExposure | 0.000000 |
PaintCorrectionHue | 11.000000 |
PaintCorrectionMaskCenterWeight | 0.000000 |
PaintCorrectionMaskFlow | 0.196000 |
PaintCorrectionMaskRadius (1) | 0.071471 |
PaintCorrectionMaskRadius (10) | 0.107612 |
PaintCorrectionMaskRadius (11) | 0.123148 |
PaintCorrectionMaskRadius (12) | 0.123058 |
PaintCorrectionMaskRadius (13) | 0.123517 |
PaintCorrectionMaskRadius (14) | 0.123175 |
PaintCorrectionMaskRadius (2) | 0.072171 |
PaintCorrectionMaskRadius (3) | 0.115148 |
PaintCorrectionMaskRadius (4) | 0.115953 |
PaintCorrectionMaskRadius (5) | 0.115155 |
PaintCorrectionMaskRadius (6) | 0.116217 |
PaintCorrectionMaskRadius (7) | 0.115114 |
PaintCorrectionMaskRadius (8) | 0.116168 |
PaintCorrectionMaskRadius (9) | 0.115316 |
PaintCorrectionMaskRadius | 0.019655 |
PaintCorrectionMaskValue (2) | 1.000000 |
PaintCorrectionMaskValue | 0.369000 |
PaintCorrectionMaskWhat | Mask/Paint |
PaintCorrectionSaturation (1) | 0.000000 |
PaintCorrectionSaturation | 0.700000 |
PaintCorrectionSharpness | 0.000000 |
PaintCorrectionWhat | Correction |
ParametricDarks | -28 |
ParametricHighlights | 0 |
ParametricHighlightSplit | 75 |
ParametricLights | +59 |
ParametricMidtoneSplit | 50 |
ParametricShadows | 0 |
ParametricShadowSplit | 25 |
PerspectiveHorizontal | 0 |
PerspectiveRotate | 0.0 |
PerspectiveScale | 100 |
PerspectiveVertical | 0 |
PostCropVignetteAmount | -8 |
PostCropVignetteFeather | 50 |
PostCropVignetteHighlightContrast | 0 |
PostCropVignetteMidpoint | 50 |
PostCropVignetteRoundness | 0 |
PostCropVignetteStyle | 1 |
ProcessVersion | 5.7 |
ProfileDescription | sRGB IEC61966-2.1 |
Rating | 1 |
RedHue | 0 |
RedSaturation | 0 |
Rights | Jan Erik Arud |
Saturation | +15 |
SaturationAdjustmentAqua | 0 |
SaturationAdjustmentBlue | 0 |
SaturationAdjustmentGreen | 0 |
SaturationAdjustmentMagenta | 0 |
SaturationAdjustmentOrange | 0 |
SaturationAdjustmentPurple | 0 |
SaturationAdjustmentRed | 0 |
SaturationAdjustmentYellow | 0 |
ScaleFactor35efl | 1.0 |
SceneCaptureType | Standard |
SerialNumber | 1330808505 |
Shadows | 20 |
ShadowTint | 0 |
SharpenDetail | 64 |
SharpenEdgeMasking | 0 |
SharpenRadius | +1.0 |
Sharpness | 47 |
ShutterSpeed | 1/60 |
ShutterSpeedValue | 1/60 |
SplitToningBalance | 0 |
SplitToningHighlightHue | 0 |
SplitToningHighlightSaturation | 0 |
SplitToningShadowHue | 0 |
SplitToningShadowSaturation | 0 |
SubjectDistance | 4294967295 m |
Tint | 0 |
ToneCurve | 0, 0, 32, 22, 64, 56, 128, 128, 192, 196, 255, 255 |
ToneCurveName | Medium Contrast |
Version | 6.1 |
Vibrance | +26 |
VignetteAmount | 0 |
WhiteBalance | Auto |