Felt | Verdi |
AlreadyApplied | True |
Aperture | 4.0 |
ApertureValue | 4.0 |
BitsPerSample (1) | 16, 16, 16 |
BitsPerSample (2) | 16 16 16 |
BitsPerSample | 8 |
BlueHue | 0 |
BlueSaturation | 0 |
Brightness | +50 |
CameraProfile | Adobe Standard |
ChromaticAberrationB | 0 |
ChromaticAberrationR | 0 |
CircleOfConfusion | 0.031 mm |
Clarity | +10 |
ColorComponents | 3 |
ColorMode | RGB |
ColorNoiseReduction | 25 |
ColorSpace | sRGB |
ColorTemperature | 5452 |
Contrast | +39 |
ConvertToGrayscale | False |
CreateDate (1) | 2010:07:07 20:55:01.47+02:00 |
CreateDate | 2010:07:07 20:55:01 |
CreatorTool | Adobe Photoshop Lightroom |
CropAngle | -1.01716 |
CropBottom | 0.913095 |
CropHeight | 3290 |
CropLeft | 0.205817 |
CropRight | 0.948945 |
CropTop | 0.054073 |
CropUnit | pixels |
CropWidth | 4116 |
CustomRendered | Normal |
DateTimeDigitized | 2010:07:07 20:55:01.47+02:00 |
DateTimeOriginal (1) | 2010:07:07 20:55:01.47+02:00 |
DateTimeOriginal | 2010:07:07 20:55:01 |
Defringe | 0 |
DOF | 0.08 m (3.16 - 3.24 m) |
ExifImageHeight | 800 |
ExifImageWidth | 639 |
Exposure | 0.00 |
ExposureCompensation | 0 |
ExposureMode | Auto |
ExposureProgram | Aperture-priority AE |
ExposureTime | 1/200 |
FillLight | 15 |
Firmware | 2.0.7 |
Flash | Off, Did not fire |
FlashCompensation | 0 |
FlashFired | False |
FlashFunction | False |
FlashMode | Off |
FlashRedEyeMode | False |
FlashReturn | No return detection |
FNumber | 4.0 |
FocalLength | 168.0 mm |
FocalLength35efl | 168.0 mm (35 mm equivalent: 164.0 mm) |
Format | image/jpeg |
FOV | 12.5 deg |
GreenHue | 0 |
GreenSaturation | 0 |
HasCrop | True |
HasSettings | True |
HighlightRecovery | 0 |
HueAdjustmentAqua | 0 |
HueAdjustmentBlue | 0 |
HueAdjustmentGreen | 0 |
HueAdjustmentMagenta | 0 |
HueAdjustmentOrange | 0 |
HueAdjustmentPurple | 0 |
HueAdjustmentRed | 0 |
HueAdjustmentYellow | 0 |
HyperfocalDistance | 229.19 m |
ICCProfileName | sRGB IEC61966-2.1 |
ImageHeight (2) | 4116 |
ImageHeight | 800 |
ImageNumber | 0 |
ImageSize | 639x800 |
ImageWidth (2) | 3290 |
ImageWidth | 639 |
ISO | 200 |
Lens | EF70-200mm f/2.8L IS II USM |
LensID (1) | 251 |
LensID | Canon EF 70-200mm f/2.8L IS II USM or Canon EF 70-200mm f/2.8L IS III USM |
LensInfo | 70-200mm f/? |
LightValue | 10.6 |
LuminanceAdjustmentAqua | 0 |
LuminanceAdjustmentBlue | +10 |
LuminanceAdjustmentGreen | 0 |
LuminanceAdjustmentMagenta | +5 |
LuminanceAdjustmentOrange | -7 |
LuminanceAdjustmentPurple | +5 |
LuminanceAdjustmentRed | +21 |
LuminanceAdjustmentYellow | +7 |
LuminanceSmoothing | 15 |
Make | Canon |
MaxApertureValue | 2.8 |
Megapixels | 0.511 |
MeteringMode | Multi-segment |
Model | Canon EOS 5D Mark II |
ModifyDate (1) | 2010:07:11 20:02:26+02:00 |
ModifyDate | 2010:07:11 20:02:26 |
Orientation | Horizontal (normal) |
ParametricDarks | -2 |
ParametricHighlights | +2 |
ParametricHighlightSplit | 75 |
ParametricLights | +2 |
ParametricMidtoneSplit | 50 |
ParametricShadows | -2 |
ParametricShadowSplit | 25 |
PhotometricInterpretation | RGB |
PlanarConfiguration | Chunky |
PostCropVignetteAmount | 0 |
ProfileDescription | sRGB IEC61966-2.1 |
RedHue | 0 |
RedSaturation | 0 |
SamplesPerPixel | 3 |
Saturation | 0 |
SaturationAdjustmentAqua | -12 |
SaturationAdjustmentBlue | -14 |
SaturationAdjustmentGreen | 0 |
SaturationAdjustmentMagenta | 0 |
SaturationAdjustmentOrange | -5 |
SaturationAdjustmentPurple | 0 |
SaturationAdjustmentRed | -5 |
SaturationAdjustmentYellow | -5 |
ScaleFactor35efl | 1.0 |
SceneCaptureType | Standard |
SerialNumber | 530320270 |
Shadows | 5 |
ShadowTint | 0 |
SharpenDetail | 25 |
SharpenEdgeMasking | 0 |
SharpenRadius | +1.0 |
Sharpness | 52 |
ShutterSpeed | 1/200 |
ShutterSpeedValue | 1/200 |
Software | Adobe Photoshop CS4 Windows |
SplitToningBalance | 0 |
SplitToningHighlightHue | 0 |
SplitToningHighlightSaturation | 0 |
SplitToningShadowHue | 0 |
SplitToningShadowSaturation | 0 |
SubjectDistance | 3.2 m |
Tint | -6 |
ToneCurve | 0, 0, 32, 22, 64, 56, 128, 128, 192, 196, 255, 255 |
ToneCurveName | Medium Contrast |
URL_List | |
Version | 5.7 |
Vibrance | +7 |
VignetteAmount | 0 |
WhiteBalance (2) | Custom |
WhiteBalance | Auto |