Felt | Verdi |
2010-06-21T22:04:09+02:00 File C:\Users\Didd\Pictures\Emilie 06_20jun\352_sm.jpg saved
2010-06-23T22:23:39+02:00 File 352_sm.jpg opened
2010-06-23T22:23:51+02:00 File C:\Users\Didd\Desktop\352_sm.jpg saved
Aberration Blue-Yellow: 0
Aberration Red-Cyan: 0
AlreadyApplied | True |
Angle: 0°
Aperture | 1.4 |
ApertureValue | 1.4 |
BitsPerSample | 8 |
Blue: 127
BlueHue | 0 |
BlueSaturation | 0 |
Bottom: 33,35 cm
Brightness | +100 |
CameraProfile | Adobe Standard |
Channel: composite channel
ChromaticAberrationB | 0 |
ChromaticAberrationR | 0 |
CircleOfConfusion | 0.031 mm |
Clarity | 0 |
ColorComponents | 3 |
ColorMode | RGB |
ColorNoiseReduction | 25 |
ColorSpace (1) | Unknown (-1) |
ColorSpace | Uncalibrated |
ColorTemperature | 5250 |
Contrast | +65 |
ConvertToGrayscale | False |
CopyrightFlag | False |
CreateDate (1) | 2010:06:23 22:23:51+02:00 |
CreateDate | 2010:06:20 11:57:59 |
CreatorTool | Adobe Photoshop CS3 Windows |
Crop
Crop To: rectangle
CustomRendered | Normal |
DateTimeDigitized | 2010:06:20 11:57:59.41+02:00 |
DateTimeOriginal (1) | 2010:06:20 11:57:59.41+02:00 |
DateTimeOriginal | 2010:06:20 11:57:59 |
Defringe | 0 |
Distort Coefficient0: 0
Distort Coefficient1: 0
Distort Coefficient2: 0
Distort Coefficient3: 1
DOF | 0.009 m (0.535 - 0.545 m) |
ExifImageHeight | 600 |
ExifImageWidth | 900 |
Exposure | 0.00 |
ExposureCompensation | 0 |
ExposureMode | Auto |
ExposureProgram | Aperture-priority AE |
ExposureTime | 1/3200 |
Fill Type: 2
FillLight | 3 |
Firmware | 2.0.4 |
Flash | On, Fired |
FlashCompensation | 0 |
FlashFired | True |
FlashFunction | False |
FlashMode | On |
FlashRedEyeMode | False |
FlashReturn | No return detection |
Flatten Image
FNumber | 1.4 |
FocalLength | 50.0 mm |
FocalLength35efl | 50.0 mm (35 mm equivalent: 48.8 mm) |
Format | image/jpeg |
FOV | 40.5 deg |
Green: 127
GreenHue | 0 |
GreenSaturation | 0 |
Grid Color: RGB color
Grid Size: 16
HasCrop | False |
HasSettings | True |
Hide current layer
HighlightRecovery | 0 |
Horizontal Grid Move: 0
Horizontal Perspective: 0
HueAdjustmentAqua | 0 |
HueAdjustmentBlue | 0 |
HueAdjustmentGreen | 0 |
HueAdjustmentMagenta | 0 |
HueAdjustmentOrange | 0 |
HueAdjustmentPurple | 0 |
HueAdjustmentRed | 0 |
HueAdjustmentYellow | 0 |
HyperfocalDistance | 58.00 m |
ICCProfileName | Adobe RGB (1998) |
Image Size
Image Size Width: 1500 pixels
Image Size Width: 5000 pixels
Image Size Width: 900 pixels
Image Size: 100
ImageHeight | 600 |
ImageNumber | 0 |
ImageSize | 900x600 |
ImageWidth | 900 |
Input: 23, 255
Interpolation: bicubic
ISO | 400 |
Left: 3 cm
Lens Correction
Lens Correction Distort Amount: 0
Lens | EF50mm f/1.2L USM |
LensID (1) | 241 |
LensID | Canon EF 50mm f/1.2L USM |
LensInfo | 50mm f/? |
Levels
levels adjustment
Levels Adjustment: levels adjustment list
LightValue | 10.6 |
LuminanceAdjustmentAqua | 0 |
LuminanceAdjustmentBlue | 0 |
LuminanceAdjustmentGreen | 0 |
LuminanceAdjustmentMagenta | 0 |
LuminanceAdjustmentOrange | 0 |
LuminanceAdjustmentPurple | 0 |
LuminanceAdjustmentRed | 0 |
LuminanceAdjustmentYellow | 0 |
LuminanceSmoothing | 0 |
Make | Canon |
Master Opacity Change
MaxApertureValue | 1.2 |
Megapixels | 0.540 |
Merge Visible
MeteringMode | Multi-segment |
Model | Canon EOS 5D Mark II |
ModifyDate (1) | 2010:06:23 22:23:51+02:00 |
ModifyDate | 2010:06:23 22:23:51 |
Opacity: 10%
Opacity: 25%
Open C:\Users\Didd\Pictures\Emilie 06_20jun\352_sm.jpg
Open D:\5D mkII\06-20jun Emilie\352.dng
Orientation | Horizontal (normal) |
ParametricDarks | 0 |
ParametricHighlights | 0 |
ParametricHighlightSplit | 75 |
ParametricLights | 0 |
ParametricMidtoneSplit | 50 |
ParametricShadows | 0 |
ParametricShadowSplit | 25 |
Play action “Lux (hard)” of set “TRA2 - The Revenge”
Play action “Pool Party” of set “TRA2 - The Revenge”
Play action “Slice Like A Ninja (Sharpen)” of set “TRA2 - The Revenge”
Play command 9 of action “A Better Web Sharpen” of set “TRA2 - The Revenge” With Continue
PostCropVignetteAmount | 0 |
ProfileDescription | Adobe RGB (1998) |
Rating | 0 |
RawFileName | 352.dng |
Red: 127
RedHue | 0 |
RedSaturation | 0 |
Right: 51,76 cm
Rotation Angle: 0
Saturation | +3 |
SaturationAdjustmentAqua | 0 |
SaturationAdjustmentBlue | 0 |
SaturationAdjustmentGreen | 0 |
SaturationAdjustmentMagenta | 0 |
SaturationAdjustmentOrange | 0 |
SaturationAdjustmentPurple | 0 |
SaturationAdjustmentRed | 0 |
SaturationAdjustmentYellow | 0 |
ScaleFactor35efl | 1.0 |
SceneCaptureType | Standard |
Select layer “Background” Without Make Visible
SerialNumber | 1330808299 |
Set current layer To: layer
Shadows | 4 |
ShadowTint | 0 |
SharpenDetail | 25 |
SharpenEdgeMasking | 0 |
SharpenRadius | +1.0 |
Sharpness | 25 |
Show current layer
ShutterSpeed | 1/3200 |
ShutterSpeedValue | 1/3200 |
Software | Adobe Photoshop CS3 Windows |
SplitToningBalance | 0 |
SplitToningHighlightHue | 0 |
SplitToningHighlightSaturation | 0 |
SplitToningShadowHue | 0 |
SplitToningShadowSaturation | 0 |
SubjectDistance | 0.54 m |
Target Height: 2 cm
Target Resolution: 0 per cm
Target Width: 3 cm
Tint | -8 |
ToneCurve | 0, 0, 32, 22, 64, 56, 128, 128, 192, 196, 255, 255 |
ToneCurveName | Medium Contrast |
Top: 0,84 cm
URL_List | |
Version | 4.6 |
Vertical Grid Move: 0
Vertical Perspective: 0
Vibrance | 0 |
Vignette Amount: -50
Vignette Midpoint: 80
VignetteAmount | 0 |
WhiteBalance (2) | Custom |
WhiteBalance | Auto |
With Constrain Proportions
With Scale Styles
Without Show Grid