Felt | Verdi |
AlreadyApplied | True |
Aperture | 8.0 |
ApertureValue | 8.0 |
BitsPerSample | 8 |
BlueHue | 0 |
BlueSaturation | 0 |
Brightness | +50 |
CameraProfile | Adobe Standard |
CFAPattern | [Green,Blue][Red,Green] |
ChromaticAberrationB | 0 |
ChromaticAberrationR | 0 |
CircleOfConfusion | 0.020 mm |
Clarity | 0 |
ColorComponents | 1 |
ColorMode | RGB |
ColorNoiseReduction | 33 |
ColorSpace | sRGB |
ColorTemperature | 5500 |
Contrast (1) | High |
Contrast | Normal |
ConvertToGrayscale | True |
CopyrightFlag | False |
CreateDate (1) | 2010:04:13 20:17:54+02:00 |
CreateDate | 2010:04:02 12:41:35 |
CreatorTool | Adobe Photoshop CS3 Windows |
CropAngle | -0.020748 |
CropBottom | 0.89663 |
CropHeight | 591 |
CropLeft | 0.032976 |
CropRight | 0.929823 |
CropTop | 0.000489 |
CropUnit | pixels |
CropWidth | 890 |
CustomRendered | Normal |
DateTimeDigitized | 2010:04:02 12:41:35.00+02:00 |
DateTimeOriginal (1) | 2010:04:02 12:41:35.00+02:00 |
DateTimeOriginal | 2010:04:02 12:41:35 |
Defringe | 0 |
DerivedFrom | |
DigitalZoomRatio | 1 |
DOF | inf (2.21 m - inf) |
ExifImageHeight | 611 |
ExifImageWidth | 910 |
Exposure | -0.19 |
ExposureCompensation | 0 |
ExposureMode | Manual |
ExposureProgram | Manual |
ExposureTime | 1/2500 |
FillLight | 0 |
Flash | No Flash |
FlashFired | False |
FlashFunction | False |
FlashMode | Unknown |
FlashRedEyeMode | False |
FlashReturn | No return detection |
FNumber | 8.0 |
FocalLength | 19.0 mm |
FocalLength35efl | 19.0 mm (35 mm equivalent: 28.0 mm) |
FocalLengthIn35mmFormat | 28 mm |
Format | image/jpeg |
FOV | 65.5 deg |
GainControl | Low gain up |
GrayMixerAqua | -19 |
GrayMixerBlue | +7 |
GrayMixerGreen | -27 |
GrayMixerMagenta | +4 |
GrayMixerOrange | -18 |
GrayMixerPurple | +15 |
GrayMixerRed | -9 |
GrayMixerYellow | -22 |
GreenHue | 0 |
GreenSaturation | 0 |
HasCrop | True |
HasSettings | True |
HighlightRecovery | 0 |
HyperfocalDistance | 2.21 m |
ICCProfileName | sRGB IEC61966-2.1 |
ImageHeight (1) | 591 |
ImageHeight | 611 |
ImageNumber | 2506 |
ImageSize | 910x611 |
ImageWidth (1) | 890 |
ImageWidth | 910 |
ISO | 400 |
Lens | 17.0-55.0 mm f/2.8 |
LensID (1) | 125 |
LensID | AF-S DX Zoom-Nikkor 17-55mm f/2.8G IF-ED |
LensInfo | 17-55mm f/2.8 |
LightSource | Unknown |
LightValue | 15.3 |
LuminanceSmoothing | 50 |
Make | NIKON CORPORATION |
MaxApertureValue | 2.8 |
Megapixels | 0.556 |
MeteringMode | Multi-segment |
Model | NIKON D90 |
ModifyDate (1) | 2010:04:13 20:17:54+02:00 |
ModifyDate | 2010:04:13 20:17:54 |
Orientation | Horizontal (normal) |
ParametricDarks | -60 |
ParametricHighlights | +50 |
ParametricHighlightSplit | 68 |
ParametricLights | -5 |
ParametricMidtoneSplit | 55 |
ParametricShadows | -100 |
ParametricShadowSplit | 14 |
PostCropVignetteAmount | 0 |
ProfileDescription | sRGB IEC61966-2.1 |
Rating | 1 |
RedHue | 0 |
RedSaturation | 0 |
Saturation | Normal |
ScaleFactor35efl | 1.5 |
SceneCaptureType | Standard |
SceneType | Directly photographed |
SensingMethod | One-chip color area |
SerialNumber | 6215785 |
Shadows | 10 |
ShadowTint | 0 |
SharpenDetail | 25 |
SharpenEdgeMasking | 0 |
SharpenRadius | +1.0 |
Sharpness | Hard |
ShutterSpeed | 1/2500 |
ShutterSpeedValue | 1/2500 |
Software | Adobe Photoshop CS3 Windows |
SplitToningBalance | 0 |
SplitToningHighlightHue | 0 |
SplitToningHighlightSaturation | 0 |
SplitToningShadowHue | 0 |
SplitToningShadowSaturation | 0 |
SubjectDistance (1) | 2147483647 m |
SubjectDistance | 4294967295 m |
SubjectDistanceRange | Unknown |
Tint | +6 |
ToneCurve | 0, 0, 32, 22, 64, 56, 128, 128, 192, 196, 255, 255 |
ToneCurveName | Medium Contrast |
URL_List | |
Version | 5.6 |
VignetteAmount | 0 |
WhiteBalance | Auto |