Felt | Verdi |
AlreadyApplied | True |
Aperture | 8.0 |
ApertureValue | 8.0 |
BitsPerSample (1) | 8, 8, 8 |
BitsPerSample (2) | 8 8 8 |
BitsPerSample | 8 |
BlueHue | 0 |
BlueSaturation | 0 |
Brightness | +50 |
CameraProfile | ACR 4.4 |
ChromaticAberrationB | 0 |
ChromaticAberrationR | 0 |
CircleOfConfusion | 0.030 mm |
Clarity | -12 |
ColorComponents | 1 |
ColorMode | RGB |
ColorNoiseReduction | 25 |
ColorSpace | sRGB |
ColorTemperature | 5550 |
Contrast | +25 |
ConvertToGrayscale | True |
CreateDate (1) | 2010:03:11 16:27:16+01:00 |
CreateDate | 2010:03:11 16:27:16 |
CreatorTool | Adobe Photoshop Lightroom |
CropAngle | -0.785993 |
CropBottom | 0.979836 |
CropHeight | 3261 |
CropLeft | 0.005601 |
CropRight | 0.994399 |
CropTop | 0.020164 |
CropUnit | pixels |
CropWidth | 4891 |
CustomRendered | Normal |
DateTimeDigitized | 2010:03:11 16:27:16+01:00 |
DateTimeOriginal (1) | 2010:03:11 16:27:16+01:00 |
DateTimeOriginal | 2010:03:11 16:27:16 |
Defringe | 0 |
ExifImageHeight | 700 |
ExifImageWidth | 467 |
Exposure | 0.00 |
ExposureCompensation | 0 |
ExposureMode | Manual |
ExposureProgram | Manual |
ExposureTime | 1/400 |
FillLight | 0 |
Firmware | 1.1.6 |
Flash | Off, Did not fire |
FlashCompensation | 0 |
FlashFired | False |
FlashFunction | False |
FlashMode | Off |
FlashRedEyeMode | False |
FlashReturn | No return detection |
FNumber | 8.0 |
FocalLength | 85.0 mm |
FocalLength35efl | 85.0 mm (35 mm equivalent: 84.9 mm) |
Format | image/jpeg |
FOV | 23.9 deg |
GrayMixerAqua | -16 |
GrayMixerBlue | +16 |
GrayMixerGreen | -28 |
GrayMixerMagenta | +4 |
GrayMixerOrange | -21 |
GrayMixerPurple | +20 |
GrayMixerRed | -11 |
GrayMixerYellow | -25 |
GreenHue | 0 |
GreenSaturation | 0 |
HasCrop | True |
HasSettings | True |
HighlightRecovery | 100 |
HyperfocalDistance | 30.02 m |
ICCProfileName | sRGB IEC61966-2.1 |
ImageHeight (1) | 4891 |
ImageHeight | 700 |
ImageNumber | 12772 |
ImageSize | 467x700 |
ImageWidth (2) | 3261 |
ImageWidth | 467 |
ISO | 400 |
Lens | 85.0 mm |
LensInfo | 85mm f/? |
LightValue | 12.6 |
LuminanceSmoothing | 25 |
Make | Canon |
MaxApertureValue | 1.2 |
Megapixels | 0.327 |
MeteringMode | Spot |
Model | Canon EOS-1Ds Mark II |
ModifyDate (1) | 2010:03:11 20:49:53+01:00 |
ModifyDate | 2010:03:11 20:49:53 |
Orientation | Horizontal (normal) |
ParametricDarks | +14 |
ParametricHighlights | +38 |
ParametricHighlightSplit | 75 |
ParametricLights | -26 |
ParametricMidtoneSplit | 50 |
ParametricShadows | -29 |
ParametricShadowSplit | 25 |
PhotometricInterpretation | RGB |
PlanarConfiguration | Chunky |
PostCropVignetteAmount | 0 |
ProfileDescription | sRGB IEC61966-2.1 |
RedHue | 0 |
RedSaturation | 0 |
SamplesPerPixel | 3 |
ScaleFactor35efl | 1.0 |
SceneCaptureType | Standard |
SerialNumber | 335873 |
Shadows | 39 |
ShadowTint | 0 |
SharpenDetail | 25 |
SharpenEdgeMasking | 25 |
SharpenRadius | +1.0 |
Sharpness | 102 |
ShutterSpeed | 1/400 |
ShutterSpeedValue | 1/400 |
Software | Adobe Photoshop CS4 Windows |
SplitToningBalance | 0 |
SplitToningHighlightHue | 0 |
SplitToningHighlightSaturation | 0 |
SplitToningShadowHue | 0 |
SplitToningShadowSaturation | 0 |
Tint | 0 |
ToneCurve | 0, 0, 32, 22, 64, 56, 128, 128, 192, 196, 255, 255 |
ToneCurveName | Medium Contrast |
URL_List | |
Version | 4.5 |
VignetteAmount | 0 |
WhiteBalance (2) | As Shot |
WhiteBalance | Auto |