Felt | Verdi |
AlreadyApplied | True |
Aperture | 11.0 |
ApertureValue | 11.0 |
BitsPerSample (1) | 8, 8, 8 |
BitsPerSample (2) | 8 8 8 |
BitsPerSample | 8 |
BlueHue | 0 |
BlueSaturation | 0 |
Brightness | +50 |
CameraProfile | ACR 4.4 |
ChromaticAberrationB | 0 |
ChromaticAberrationR | 0 |
CircleOfConfusion | 0.030 mm |
Clarity | -36 |
ColorComponents | 3 |
ColorMode | RGB |
ColorNoiseReduction | 25 |
ColorSpace | sRGB |
ColorTemperature | 6286 |
Contrast | +25 |
ConvertToGrayscale | False |
CreateDate (1) | 2010:03:08 17:00:45+01:00 |
CreateDate | 2010:03:08 17:00:45 |
CreatorTool | Adobe Photoshop Lightroom |
CropAngle | 0 |
CropBottom | 1 |
CropHeight | 3073 |
CropLeft | 0 |
CropRight | 0.923261 |
CropTop | 0.076739 |
CropUnit | pixels |
CropWidth | 4609 |
CustomRendered | Normal |
DateTimeDigitized | 2010:03:08 17:00:45+01:00 |
DateTimeOriginal (1) | 2010:03:08 17:00:45+01:00 |
DateTimeOriginal | 2010:03:08 17:00:45 |
Defringe | 0 |
DerivedFrom | |
ExifImageHeight | 533 |
ExifImageWidth | 800 |
Exposure | 0.00 |
ExposureCompensation | 0 |
ExposureMode | Manual |
ExposureProgram | Manual |
ExposureTime | 1/200 |
FillLight | 14 |
Firmware | 1.1.6 |
Flash | Off, Did not fire |
FlashCompensation | 0 |
FlashFired | False |
FlashFunction | False |
FlashMode | Off |
FlashRedEyeMode | False |
FlashReturn | No return detection |
FNumber | 11.0 |
FocalLength | 16.0 mm |
FocalLength35efl | 16.0 mm (35 mm equivalent: 16.0 mm) |
Format | image/jpeg |
FOV | 96.8 deg |
GreenHue | 0 |
GreenSaturation | 0 |
HasCrop | True |
HasSettings | True |
HighlightRecovery | 7 |
HueAdjustmentAqua | 0 |
HueAdjustmentBlue | 0 |
HueAdjustmentGreen | 0 |
HueAdjustmentMagenta | 0 |
HueAdjustmentOrange | 0 |
HueAdjustmentPurple | 0 |
HueAdjustmentRed | 0 |
HueAdjustmentYellow | 0 |
HyperfocalDistance | 0.77 m |
ICCProfileName | sRGB IEC61966-2.1 |
ImageHeight (2) | 3073 |
ImageHeight | 533 |
ImageNumber | 12590 |
ImageSize | 800x533 |
ImageWidth (1) | 4609 |
ImageWidth | 800 |
ISO | 400 |
Lens | 16.0-35.0 mm |
LensInfo | 16-35mm f/? |
LightValue | 12.6 |
LuminanceAdjustmentAqua | 0 |
LuminanceAdjustmentBlue | 0 |
LuminanceAdjustmentGreen | 0 |
LuminanceAdjustmentMagenta | 0 |
LuminanceAdjustmentOrange | 0 |
LuminanceAdjustmentPurple | 0 |
LuminanceAdjustmentRed | 0 |
LuminanceAdjustmentYellow | 0 |
LuminanceSmoothing | 26 |
Make | Canon |
MaxApertureValue | 2.8 |
Megapixels | 0.426 |
MeteringMode | Spot |
Model | Canon EOS-1Ds Mark II |
ModifyDate (1) | 2010:03:09 13:29:16+01:00 |
ModifyDate | 2010:03:09 13:29:16 |
Orientation | Horizontal (normal) |
ParametricDarks | +38 |
ParametricHighlights | -52 |
ParametricHighlightSplit | 75 |
ParametricLights | -2 |
ParametricMidtoneSplit | 50 |
ParametricShadows | 0 |
ParametricShadowSplit | 25 |
PhotometricInterpretation | RGB |
PlanarConfiguration | Chunky |
PostCropVignetteAmount | 0 |
ProfileDescription | sRGB IEC61966-2.1 |
RedHue | 0 |
RedSaturation | 0 |
SamplesPerPixel | 3 |
Saturation | 0 |
SaturationAdjustmentAqua | 0 |
SaturationAdjustmentBlue | 0 |
SaturationAdjustmentGreen | 0 |
SaturationAdjustmentMagenta | 0 |
SaturationAdjustmentOrange | 0 |
SaturationAdjustmentPurple | 0 |
SaturationAdjustmentRed | 0 |
SaturationAdjustmentYellow | 0 |
ScaleFactor35efl | 1.0 |
SceneCaptureType | Standard |
SerialNumber | 335873 |
Shadows | 0 |
ShadowTint | 0 |
SharpenDetail | 40 |
SharpenEdgeMasking | 23 |
SharpenRadius | +1.0 |
Sharpness | 96 |
ShutterSpeed | 1/200 |
ShutterSpeedValue | 1/200 |
Software | Adobe Photoshop CS4 Windows |
SplitToningBalance | 0 |
SplitToningHighlightHue | 0 |
SplitToningHighlightSaturation | 0 |
SplitToningShadowHue | 0 |
SplitToningShadowSaturation | 0 |
Tint | +29 |
ToneCurve | 0, 0, 32, 22, 64, 56, 128, 128, 192, 196, 255, 255 |
ToneCurveName | Medium Contrast |
URL_List | |
Version | 4.5 |
Vibrance | 0 |
VignetteAmount | +40 |
VignetteMidpoint | 2 |
WhiteBalance (2) | Custom |
WhiteBalance | Auto |