Felt | Verdi |
AlreadyApplied | True |
Aperture | 4.5 |
ApertureValue | 4.5 |
BitsPerSample | 8 |
BlueHue | 0 |
BlueSaturation | 0 |
Brightness | 0 |
CameraProfile | Embedded |
ChromaticAberrationB | 0 |
ChromaticAberrationR | 0 |
CircleOfConfusion | 0.019 mm |
Clarity | +100 |
ColorComponents | 3 |
ColorNoiseReduction | 0 |
ColorSpace | sRGB |
Contrast | +30 |
ConvertToGrayscale | False |
CreateDate (1) | 2007:03:01 17:53:48+01:00 |
CreateDate | 2007:03:01 17:00:01 |
CreatorTool | Adobe Photoshop Lightroom |
CropAngle | 5.19996 |
CropBottom | 0.873157 |
CropHeight | 1415 |
CropLeft | 0.120296 |
CropRight | 0.879704 |
CropTop | 0.007827 |
CropUnit | pixels |
CropWidth | 942 |
CustomRendered | Normal |
DateTimeDigitized | 2007:03:01 17:00:01+01:00 |
DateTimeOriginal (1) | 2007:03:01 17:00:01+01:00 |
DateTimeOriginal | 2007:03:01 17:00:01 |
Defringe | 0 |
ExifImageHeight | 1415 |
ExifImageWidth | 942 |
Exposure | 0.00 |
ExposureCompensation | 0 |
ExposureMode | Manual |
ExposureProgram | Manual |
ExposureTime | 1/100 |
FillLight | 37 |
Flash | On, Red-eye reduction |
FlashFired | True |
FlashFunction | False |
FlashMode | On |
FlashRedEyeMode | True |
FlashReturn | No return detection |
FNumber | 4.5 |
FocalLength | 50.0 mm |
FocalLength35efl | 50.0 mm (35 mm equivalent: 80.9 mm) |
Format | image/jpeg |
FOV | 25.1 deg |
GreenHue | 0 |
GreenSaturation | 0 |
HasCrop | True |
HasSettings | True |
HighlightRecovery | 100 |
HueAdjustmentAqua | 0 |
HueAdjustmentBlue | 0 |
HueAdjustmentGreen | 0 |
HueAdjustmentMagenta | 0 |
HueAdjustmentOrange | 0 |
HueAdjustmentPurple | 0 |
HueAdjustmentRed | 0 |
HueAdjustmentYellow | 0 |
HyperfocalDistance | 29.92 m |
ImageHeight | 1415 |
ImageSize | 942x1415 |
ImageWidth | 942 |
IncrementalTemperature | -19 |
IncrementalTint | -5 |
ISO | 100 |
LightValue | 11.0 |
LuminanceAdjustmentAqua | 0 |
LuminanceAdjustmentBlue | 0 |
LuminanceAdjustmentGreen | 0 |
LuminanceAdjustmentMagenta | 0 |
LuminanceAdjustmentOrange | 0 |
LuminanceAdjustmentPurple | 0 |
LuminanceAdjustmentRed | 0 |
LuminanceAdjustmentYellow | 0 |
LuminanceSmoothing | 0 |
Make | Canon |
Megapixels | 1.3 |
MeteringMode | Multi-segment |
Model | Canon EOS 400D DIGITAL |
ModifyDate (1) | 2009:12:30 15:57:46+01:00 |
ModifyDate | 2009:12:30 15:57:46 |
PaintCorrectionActive | true |
PaintCorrectionAmount | 1.000000 |
PaintCorrectionBrightness | 0.000000 |
PaintCorrectionClarity | -1.000000 |
PaintCorrectionContrast | 0.000000 |
PaintCorrectionExposure | 0.000000 |
PaintCorrectionHue | 240.000000 |
PaintCorrectionMaskCenterWeight | 0.006825 |
PaintCorrectionMaskFlow | 1.000000 |
PaintCorrectionMaskRadius | 0.143892 |
PaintCorrectionMaskValue | 1.000000 |
PaintCorrectionMaskWhat | Mask/Paint |
PaintCorrectionSaturation | 0.000000 |
PaintCorrectionSharpness | 0.250000 |
PaintCorrectionWhat | Correction |
ParametricDarks | 0 |
ParametricHighlights | 0 |
ParametricHighlightSplit | 75 |
ParametricLights | 0 |
ParametricMidtoneSplit | 50 |
ParametricShadows | 0 |
ParametricShadowSplit | 25 |
PostCropVignetteAmount | 0 |
ProfileDescription | sRGB IEC61966-2.1 |
RedHue | 0 |
RedSaturation | 0 |
Saturation | 0 |
SaturationAdjustmentAqua | +60 |
SaturationAdjustmentBlue | +21 |
SaturationAdjustmentGreen | 0 |
SaturationAdjustmentMagenta | -100 |
SaturationAdjustmentOrange | -93 |
SaturationAdjustmentPurple | -100 |
SaturationAdjustmentRed | -95 |
SaturationAdjustmentYellow | +2 |
ScaleFactor35efl | 1.6 |
SceneCaptureType | Standard |
Shadows | 50 |
ShadowTint | 0 |
SharpenDetail | 25 |
SharpenEdgeMasking | 0 |
SharpenRadius | +1.0 |
Sharpness | 0 |
ShutterSpeed | 1/100 |
ShutterSpeedValue | 1/100 |
Software | Adobe Photoshop CS2 Windows |
SplitToningBalance | 0 |
SplitToningHighlightHue | 0 |
SplitToningHighlightSaturation | 0 |
SplitToningShadowHue | 0 |
SplitToningShadowSaturation | 0 |
ToneCurve | 0, 0, 255, 255 |
ToneCurveName | Linear |
Version | 5.2 |
Vibrance | -7 |
VignetteAmount | 0 |
WhiteBalance (2) | Custom |
WhiteBalance | Auto |