Felt | Verdi |
AlreadyApplied | True |
Aperture | 9.0 |
ApertureValue | 9.0 |
BitsPerSample | 8 |
BlueHue | 0 |
BlueSaturation | 0 |
Brightness | +61 |
CameraProfile | Camera Landscape |
CFAPattern | [Red,Green][Green,Blue] |
ChromaticAberrationB | 0 |
ChromaticAberrationR | 0 |
CircleOfConfusion | 0.030 mm |
Clarity | +50 |
ColorComponents | 3 |
ColorNoiseReduction | 25 |
ColorTemperature | 5000 |
Contrast (2) | +25 |
Contrast | Normal |
ConvertToGrayscale | True |
CreateDate (1) | 2008:10:31 15:48:21.15+01:00 |
CreateDate | 2008:10:31 15:48:21 |
CreatorTool | Adobe Photoshop Lightroom |
CropAngle | 0 |
CropBottom | 0.924324 |
CropHeight | 2618 |
CropLeft | 0.201439 |
CropRight | 1 |
CropTop | 0 |
CropUnit | pixels |
CropWidth | 3399 |
CustomRendered | Normal |
DateTimeDigitized | 2008:10:31 15:48:21.15+01:00 |
DateTimeOriginal (1) | 2008:10:31 15:48:21.15+01:00 |
DateTimeOriginal | 2008:10:31 15:48:21 |
Defringe | 0 |
DigitalZoomRatio | 1 |
ExifImageHeight | 3399 |
ExifImageWidth | 2618 |
Exposure | +0.30 |
ExposureCompensation | 0 |
ExposureMode | Auto |
ExposureProgram | Aperture-priority AE |
ExposureTime | 1/250 |
FillLight | 58 |
Flash | No Flash |
FlashFired | False |
FlashFunction | False |
FlashMode | Unknown |
FlashRedEyeMode | False |
FlashReturn | No return detection |
FNumber | 9.0 |
FocalLength | 17.0 mm |
FocalLength35efl | 17.0 mm (35 mm equivalent: 17.0 mm) |
FocalLengthIn35mmFormat | 17 mm |
FOV | 93.3 deg |
GainControl | None |
GradientBasedCorrActive | true |
GradientBasedCorrAmount | 1.000000 |
GradientBasedCorrBrightness | 0.000000 |
GradientBasedCorrClarity | 0.325000 |
GradientBasedCorrContrast | 0.000000 |
GradientBasedCorrExposure | -0.375000 |
GradientBasedCorrHue | 230.000000 |
GradientBasedCorrMaskFullX | -0.008469 |
GradientBasedCorrMaskFullY | 0.695951 |
GradientBasedCorrMaskValue | 1.000000 |
GradientBasedCorrMaskWhat | Mask/Gradient |
GradientBasedCorrMaskZeroX | 0.588820 |
GradientBasedCorrMaskZeroY | 0.696966 |
GradientBasedCorrSaturation (1) | 0.275000 |
GradientBasedCorrSaturation | 1.000000 |
GradientBasedCorrSharpness | 0.275000 |
GradientBasedCorrWhat | Correction |
GrayMixerAqua | -81 |
GrayMixerBlue | -81 |
GrayMixerGreen | +57 |
GrayMixerMagenta | +4 |
GrayMixerOrange | -7 |
GrayMixerPurple | +17 |
GrayMixerRed | +14 |
GrayMixerYellow | +19 |
GreenHue | 0 |
GreenSaturation | 0 |
HasCrop | True |
HasSettings | True |
HighlightRecovery | 0 |
HyperfocalDistance | 1.07 m |
ImageHeight | 3399 |
ImageNumber | 2860 |
ImageSize | 2618x3399 |
ImageWidth | 2618 |
ISO | 200 |
Lens | 17.0-35.0 mm f/2.8 |
LensInfo | 17-35mm f/2.8 |
LightSource | Fine Weather |
LightValue | 13.3 |
LuminanceSmoothing | 0 |
Make | NIKON CORPORATION |
MaxApertureValue | 2.8 |
Megapixels | 8.9 |
MeteringMode | Multi-segment |
Model | NIKON D3 |
ModifyDate (1) | 2010:01:17 11:30:02+01:00 |
ModifyDate | 2010:01:17 11:30:02 |
PaintCorrectionActive | true |
PaintCorrectionAmount | 1.000000 |
PaintCorrectionBrightness | 0.075000 |
PaintCorrectionClarity | 0.325000 |
PaintCorrectionContrast | 0.000000 |
PaintCorrectionExposure | -0.350000 |
PaintCorrectionHue | 50.000000 |
PaintCorrectionMaskCenterWeight | 0.045549 |
PaintCorrectionMaskFlow | 1.000000 |
PaintCorrectionMaskRadius | 0.051672 |
PaintCorrectionMaskValue | 1.000000 |
PaintCorrectionMaskWhat | Mask/Paint |
PaintCorrectionSaturation (1) | 0.425000 |
PaintCorrectionSaturation | 1.000000 |
PaintCorrectionSharpness | 0.275000 |
PaintCorrectionWhat | Correction |
ParametricDarks | +7 |
ParametricHighlights | -40 |
ParametricHighlightSplit | 75 |
ParametricLights | -21 |
ParametricMidtoneSplit | 50 |
ParametricShadows | +24 |
ParametricShadowSplit | 25 |
PostCropVignetteAmount | 0 |
ProfileDescription | Adobe RGB (1998) |
Rating | 2 |
RedHue | 0 |
RedSaturation | 0 |
Saturation | Normal |
ScaleFactor35efl | 1.0 |
SceneCaptureType | Standard |
SceneType | Directly photographed |
SensingMethod | One-chip color area |
SerialNumber | 2069586 |
Shadows | 42 |
ShadowTint | 0 |
SharpenDetail | 25 |
SharpenEdgeMasking | 0 |
SharpenRadius | +1.0 |
Sharpness (2) | 25 |
Sharpness | Normal |
ShutterSpeed | 1/250 |
ShutterSpeedValue | 1/250 |
Software | Ver.1.11 |
SplitToningBalance | 0 |
SplitToningHighlightHue | 0 |
SplitToningHighlightSaturation | 0 |
SplitToningShadowHue | 0 |
SplitToningShadowSaturation | 0 |
SubjectDistanceRange | Unknown |
Tint | -6 |
ToneCurve | 0, 0, 32, 22, 64, 56, 128, 128, 192, 196, 255, 255 |
ToneCurveName | Medium Contrast |
Version | 5.5 |
VignetteAmount | 0 |
WhiteBalance (2) | As Shot |
WhiteBalance | Manual |